BEGIN:VCALENDAR
VERSION:2.0
PRODID:-//Grid Magazine - ECPv6.15.20//NONSGML v1.0//EN
CALSCALE:GREGORIAN
METHOD:PUBLISH
X-WR-CALNAME:Grid Magazine
X-ORIGINAL-URL:https://gridphilly.com
X-WR-CALDESC:Events for Grid Magazine
REFRESH-INTERVAL;VALUE=DURATION:PT1H
X-Robots-Tag:noindex
X-PUBLISHED-TTL:PT1H
BEGIN:VTIMEZONE
TZID:America/New_York
BEGIN:DAYLIGHT
TZOFFSETFROM:-0500
TZOFFSETTO:-0400
TZNAME:EDT
DTSTART:20230312T070000
END:DAYLIGHT
BEGIN:STANDARD
TZOFFSETFROM:-0400
TZOFFSETTO:-0500
TZNAME:EST
DTSTART:20231105T060000
END:STANDARD
BEGIN:DAYLIGHT
TZOFFSETFROM:-0500
TZOFFSETTO:-0400
TZNAME:EDT
DTSTART:20240310T070000
END:DAYLIGHT
BEGIN:STANDARD
TZOFFSETFROM:-0400
TZOFFSETTO:-0500
TZNAME:EST
DTSTART:20241103T060000
END:STANDARD
BEGIN:DAYLIGHT
TZOFFSETFROM:-0500
TZOFFSETTO:-0400
TZNAME:EDT
DTSTART:20250309T070000
END:DAYLIGHT
BEGIN:STANDARD
TZOFFSETFROM:-0400
TZOFFSETTO:-0500
TZNAME:EST
DTSTART:20251102T060000
END:STANDARD
BEGIN:DAYLIGHT
TZOFFSETFROM:-0500
TZOFFSETTO:-0400
TZNAME:EDT
DTSTART:20260308T070000
END:DAYLIGHT
BEGIN:STANDARD
TZOFFSETFROM:-0400
TZOFFSETTO:-0500
TZNAME:EST
DTSTART:20261101T060000
END:STANDARD
END:VTIMEZONE
BEGIN:VEVENT
DTSTART;TZID=America/New_York:20250910T080000
DTEND;TZID=America/New_York:20250910T170000
DTSTAMP:20260421T133503
CREATED:20250829T134731Z
LAST-MODIFIED:20250829T134731Z
UID:10020736-1757491200-1757523600@gridphilly.com
SUMMARY:Buen Camino
DESCRIPTION:Touring from Hawaii\, Susan Edsall brings “Buen Camino\,” directed and developed by Jessica Lynn Johnson\, to the Yellow Bicycle Theatre (1435 Arch St) for the 2025 Philadelphia Fringe Festival. \nSusan has a perfect life\, a perfect love\, and perfect happiness. When she suddenly undergoes an unexpected loss\, her perfect life ends. Consumed by excruciating pain\, she finds it impossible to imagine any future worth living.\nUntil\, on an ordinary trip to the grocery store\, she hears The Voice. The trouble is\, Susan doesn’t believe in Voices. And yet\, when The Voice tells her to walk the Camino de Santiago in Spain\, she obeys despite knowing nothing about this ancient pilgrimage. \nAt rock bottom\, Susan has nothing left to lose except the stories that bind her to the past. With the help of some improbable Spiritual Guides\, a little bit of magic\, and the Camino itself\, Susan must face her past to have any hope of creating her future. \nAlone on stage\, she becomes 23 characters to take the audience on her solitary walk through 540 miles of rain\, resentment\, and redemption. “Buen Camino” is a moving story of how grief can lead to surrender and ultimately to freedom. \n“Through the vivid\, funny and at times heartbreaking story of an excruciating and intense time in her life\, she magically transfers her own metamorphoses\, from profoundly bereft widow to hopeful\, determined and inspiring human\, to us — the audience. Both the performer and the observers undoubtedly changed by art created out of tragedy.” –NoHo Arts District
URL:https://gridphilly.com/event/buen-camino/2025-09-10/
LOCATION:Yellow Bicycle Theater\, 1435 Arch St Floor 2\, Philadelphia\, 19102\, United States
CATEGORIES:Arts & Culture,Arts & Performance,Event,Events,Free
ATTACH;FMTTYPE=image/png:https://gridphilly.com/wp-content/uploads/2025/08/BuenCamino.png
END:VEVENT
BEGIN:VEVENT
DTSTART;TZID=America/New_York:20250904T190000
DTEND;TZID=America/New_York:20250904T200000
DTSTAMP:20260421T133503
CREATED:20250829T134731Z
LAST-MODIFIED:20250829T134731Z
UID:10020728-1757012400-1757016000@gridphilly.com
SUMMARY:Buen Camino
DESCRIPTION:Touring from Hawaii\, Susan Edsall brings “Buen Camino\,” directed and developed by Jessica Lynn Johnson\, to the Yellow Bicycle Theatre (1435 Arch St) for the 2025 Philadelphia Fringe Festival. \nSusan has a perfect life\, a perfect love\, and perfect happiness. When she suddenly undergoes an unexpected loss\, her perfect life ends. Consumed by excruciating pain\, she finds it impossible to imagine any future worth living.\nUntil\, on an ordinary trip to the grocery store\, she hears The Voice. The trouble is\, Susan doesn’t believe in Voices. And yet\, when The Voice tells her to walk the Camino de Santiago in Spain\, she obeys despite knowing nothing about this ancient pilgrimage. \nAt rock bottom\, Susan has nothing left to lose except the stories that bind her to the past. With the help of some improbable Spiritual Guides\, a little bit of magic\, and the Camino itself\, Susan must face her past to have any hope of creating her future. \nAlone on stage\, she becomes 23 characters to take the audience on her solitary walk through 540 miles of rain\, resentment\, and redemption. “Buen Camino” is a moving story of how grief can lead to surrender and ultimately to freedom. \n“Through the vivid\, funny and at times heartbreaking story of an excruciating and intense time in her life\, she magically transfers her own metamorphoses\, from profoundly bereft widow to hopeful\, determined and inspiring human\, to us — the audience. Both the performer and the observers undoubtedly changed by art created out of tragedy.” –NoHo Arts District
URL:https://gridphilly.com/event/buen-camino/2025-09-04/
LOCATION:Yellow Bicycle Theater\, 1435 Arch St Floor 2\, Philadelphia\, 19102\, United States
CATEGORIES:Arts & Culture,Arts & Performance,Event,Events,Free
ATTACH;FMTTYPE=image/png:https://gridphilly.com/wp-content/uploads/2025/08/BuenCamino.png
END:VEVENT
BEGIN:VEVENT
DTSTART;TZID=America/New_York:20240505T143000
DTEND;TZID=America/New_York:20240505T173000
DTSTAMP:20260421T133503
CREATED:20240502T192011Z
LAST-MODIFIED:20240502T192011Z
UID:10012687-1714919400-1714930200@gridphilly.com
SUMMARY:Bicycle Shorts Film Festival
DESCRIPTION:Ring in National Bike Month with the second annual Bicycle Shorts Film Festival at Yellow Bicycle Theater. \nThis year’s lineup features two rides and thirteen bike-themed films from across the globe\, ranging from riveting travelogues\, trippy animation\, and inspiring documentaries to immersive visual poems\, edgy family drama and a laugh-out-loud short about bike shorts. \nThe fun starts at noon at the Fountain of Seahorses\, where Yellow Bicycle will join the Bicycle Club of Philadelphia on a ride for all ages. Around 1:45\, YBC will lead a short ride from the fountain to the theater\, where film screenings and talkbacks will take place from 2:30 to 5:30 pm\, with intermission. \nThen to top it off\, we’ll be cycling 7 scenic miles past the Rocky Steps and up the Schuylkill River Trail to Taqueria Amor in Manayunk to celebrate Cinco de Mayo. What better way to spend National Ride a Bike Day? \nNote: All films are screened with open captions for the hearing impaired.
URL:https://gridphilly.com/event/bicycle-shorts-film-festival/
LOCATION:Yellow Bicycle Theater\, 1435 Arch St Floor 2\, Philadelphia\, 19102\, United States
CATEGORIES:---Biking
END:VEVENT
END:VCALENDAR