BEGIN:VCALENDAR
VERSION:2.0
PRODID:-//Grid Magazine - ECPv6.15.20//NONSGML v1.0//EN
CALSCALE:GREGORIAN
METHOD:PUBLISH
X-ORIGINAL-URL:https://gridphilly.com
X-WR-CALDESC:Events for Grid Magazine
REFRESH-INTERVAL;VALUE=DURATION:PT1H
X-Robots-Tag:noindex
X-PUBLISHED-TTL:PT1H
BEGIN:VTIMEZONE
TZID:America/New_York
BEGIN:DAYLIGHT
TZOFFSETFROM:-0500
TZOFFSETTO:-0400
TZNAME:EDT
DTSTART:20240310T070000
END:DAYLIGHT
BEGIN:STANDARD
TZOFFSETFROM:-0400
TZOFFSETTO:-0500
TZNAME:EST
DTSTART:20241103T060000
END:STANDARD
BEGIN:DAYLIGHT
TZOFFSETFROM:-0500
TZOFFSETTO:-0400
TZNAME:EDT
DTSTART:20250309T070000
END:DAYLIGHT
BEGIN:STANDARD
TZOFFSETFROM:-0400
TZOFFSETTO:-0500
TZNAME:EST
DTSTART:20251102T060000
END:STANDARD
BEGIN:DAYLIGHT
TZOFFSETFROM:-0500
TZOFFSETTO:-0400
TZNAME:EDT
DTSTART:20260308T070000
END:DAYLIGHT
BEGIN:STANDARD
TZOFFSETFROM:-0400
TZOFFSETTO:-0500
TZNAME:EST
DTSTART:20261101T060000
END:STANDARD
END:VTIMEZONE
BEGIN:VEVENT
DTSTART;TZID=America/New_York:20251024T100000
DTEND;TZID=America/New_York:20251024T130000
DTSTAMP:20260424T235230
CREATED:20251023T145032Z
LAST-MODIFIED:20251023T145032Z
UID:10023636-1761300000-1761310800@gridphilly.com
SUMMARY:October Hand-Processing Event at Wyck
DESCRIPTION:Join us to watch fiber flax transform right before your eyes!\n\n\nCome to the Wyck Historic House and Garden to learn how linen is made! The Pennsylvania Flax Project will lead a workshop demonstrating how fiber flax can be hand processed in a matter of minutes. \nIf you are a participant of the Square Yard Project\, this is a great opportunity to turn your crop into spinnable fiber.
URL:https://gridphilly.com/event/october-hand-processing-event-at-wyck/
LOCATION:Wyck Historic House And Garden\, 6026 Germantown Avenue\, Philadelphia\, PA\, 19144\, United States
ATTACH;FMTTYPE=image/jpeg:https://gridphilly.com/wp-content/uploads/2025/10/f8fd4e65c29632509761109560c61aba.jpg
END:VEVENT
BEGIN:VEVENT
DTSTART;TZID=America/New_York:20250912T100000
DTEND;TZID=America/New_York:20250912T130000
DTSTAMP:20260424T235230
CREATED:20250905T150008Z
LAST-MODIFIED:20250905T150008Z
UID:10021404-1757671200-1757682000@gridphilly.com
SUMMARY:September Hand-Processing Event at Wyck
DESCRIPTION:Join us to watch fiber flax transform before your eyes!\n\n\nCome to the Wyck Historic House and Garden to learn how linen is made! The Pennsylvania Flax Project will lead a workshop demonstrating how fiber flax can be hand processed in a matter of minutes. \nIf you are a participant of the Square Yard Project\, this is a great opportunity to turn your crop into spinnable fiber.
URL:https://gridphilly.com/event/september-hand-processing-event-at-wyck/
LOCATION:Wyck Historic House And Garden\, 6026 Germantown Avenue\, Philadelphia\, PA\, 19144\, United States
ATTACH;FMTTYPE=image/jpeg:https://gridphilly.com/wp-content/uploads/2025/09/600260266152262e3c8c2ee560eb3575.jpg
END:VEVENT
BEGIN:VEVENT
DTSTART;TZID=America/New_York:20250729T160000
DTEND;TZID=America/New_York:20250729T180000
DTSTAMP:20260424T235230
CREATED:20250725T182913Z
LAST-MODIFIED:20250725T182913Z
UID:10020111-1753804800-1753812000@gridphilly.com
SUMMARY:Seed Keepers/Saving Spring Seeds Gathering
DESCRIPTION:Bring your homegrown seeds to process\, trade and or share with other Germantown gardeners\, share stories about how they were grown and more!\n\n\nThis is a gathering of Germantown neighbors of various ages and gardening/seed keeping experiences. It is nice to keep seeds alone but its even better when we can gather to chat\, chew and work alongside one another. We will also chat about home seed libraries and share our current gardening/seed keeping goals for the summer/fall.
URL:https://gridphilly.com/event/seed-keepers-saving-spring-seeds-gathering/
LOCATION:Wyck Historic House And Garden\, 6026 Germantown Avenue\, Philadelphia\, PA\, 19144\, United States
ATTACH;FMTTYPE=image/jpeg:https://gridphilly.com/wp-content/uploads/2025/07/02383193f78ff2135e7f1da172a440e5.jpg
END:VEVENT
BEGIN:VEVENT
DTSTART;TZID=America/New_York:20250510T110000
DTEND;TZID=America/New_York:20250510T150000
DTSTAMP:20260424T235230
CREATED:20250505T174700Z
LAST-MODIFIED:20250505T174700Z
UID:10018809-1746874800-1746889200@gridphilly.com
SUMMARY:Germantown Food & Seeds CommUNITY Expo
DESCRIPTION:Join us at the Germantown Food & Seeds CommUNITY Expo to celebrate local food\, seeds\, and community connections!\n\n\nWelcome to the Germantown Food & Seeds CommUNITY Expo! Join us at the Wyck Historic House And Garden for a day filled with live demonstrations in relation to our theme “Food Is Medicine”. Look out for free seeds and seedlings\, foraging and a chance to build commUNITY. Hosted by Germantown Residents for Economic Alternatives. \n@greatgtown on Instagram \nfacebook.com/greatgtownwww.greatgtown.org \n215-839-9508
URL:https://gridphilly.com/event/germantown-food-seeds-community-expo/
LOCATION:Wyck Historic House And Garden\, 6026 Germantown Avenue\, Philadelphia\, PA\, 19144\, United States
ATTACH;FMTTYPE=image/jpeg:https://gridphilly.com/wp-content/uploads/2025/05/094673564a056213ae56969b7efbeb64.jpg
END:VEVENT
END:VCALENDAR