BEGIN:VCALENDAR
VERSION:2.0
PRODID:-//Grid Magazine - ECPv6.15.20//NONSGML v1.0//EN
CALSCALE:GREGORIAN
METHOD:PUBLISH
X-WR-CALNAME:Grid Magazine
X-ORIGINAL-URL:https://gridphilly.com
X-WR-CALDESC:Events for Grid Magazine
REFRESH-INTERVAL;VALUE=DURATION:PT1H
X-Robots-Tag:noindex
X-PUBLISHED-TTL:PT1H
BEGIN:VTIMEZONE
TZID:America/New_York
BEGIN:DAYLIGHT
TZOFFSETFROM:-0500
TZOFFSETTO:-0400
TZNAME:EDT
DTSTART:20250309T070000
END:DAYLIGHT
BEGIN:STANDARD
TZOFFSETFROM:-0400
TZOFFSETTO:-0500
TZNAME:EST
DTSTART:20251102T060000
END:STANDARD
BEGIN:DAYLIGHT
TZOFFSETFROM:-0500
TZOFFSETTO:-0400
TZNAME:EDT
DTSTART:20260308T070000
END:DAYLIGHT
BEGIN:STANDARD
TZOFFSETFROM:-0400
TZOFFSETTO:-0500
TZNAME:EST
DTSTART:20261101T060000
END:STANDARD
BEGIN:DAYLIGHT
TZOFFSETFROM:-0500
TZOFFSETTO:-0400
TZNAME:EDT
DTSTART:20270314T070000
END:DAYLIGHT
BEGIN:STANDARD
TZOFFSETFROM:-0400
TZOFFSETTO:-0500
TZNAME:EST
DTSTART:20271107T060000
END:STANDARD
END:VTIMEZONE
BEGIN:VEVENT
DTSTART;TZID=America/New_York:20260425T090000
DTEND;TZID=America/New_York:20260425T130000
DTSTAMP:20260421T172508
CREATED:20260421T165352Z
LAST-MODIFIED:20260421T165352Z
UID:10032442-1777107600-1777122000@gridphilly.com
SUMMARY:57th Annual Wissahickon Creek Clean Up
DESCRIPTION:Our inaugural Creek Clean Up was held in 1970 to coincide with the very first Earth Day! Join us in celebrating both events by helping clean the Wissahickon Creek\, its tributaries\, and local trails on Saturday\, April 25th. This is the perfect volunteer event to get outside and show your support for a cleaner watershed. \nAll volunteers choose a pre-assigned section of the Wissahickon Creek\, its tributaries\, or a section of trail. Maps (including parking\, cleaning boundaries\, and trash drop sites) can be found on the registration page. Please note that this is a self-guided volunteer outing and you will join other volunteers in cleaning your section. \n\nDay-of Event Details\nMost participants begin cleaning around 9:00 am\, but that time is flexible. Report directly to your assigned section and leave your trash in the designated areas no later than 1:00pm. \nBe prepared to get wet and/or muddy. Volunteers are asked to clean both the surrounding trails and in the creek. Old shoes\, rain boots\, or waders are suggested. \nSupply Pick-Up \nRegistered volunteers can pick-up their bags and supplies the week leading up to the event at 12 Morris Road\, Ambler\, PA 19002 during any of these dates and times: \n\nTuesday\, 4/21: 11a-3p\nWednesday\, 4/22: 11a-6p\nThursday\, 4/23: 11a-6p\nFriday\, 4/24: 11a-3p\nSaturday\, 4/25: 8a-9a\n\n  \nSponsorship\nSponsoring the 57th annual Creek Clean Up reflects a shared dedication to preserving our local environment and ensuring that green spaces and trails remain accessible for the community to enjoy. Your support helps foster a cleaner\, healthier ecosystem\, benefiting both wildlife and future generations who will continue to cherish these natural spaces. Contact Lisa Hansell for details\, lisa@wissahickontrails.org. \nCLICK HERE FOR SPONSOR INFO \n\nClick here to see photos from 2024 Wissahickon Creek Clean Up. \n\n2026 Participants:\nShare your photos on Facebook\, Twitter\, and Instagram and use #creekcleanup. Be sure to tag us in your posts! \nFacebook: @Wissahickon Trails \nInstagram: @wissahickon.trails \nLinkedIn: @Wissahickon Trails \n\nWe’re also putting together a Facebook photo album of the event. Email your photos and trash stories to alex@wissahickontrails.org so that we can add your photos to the event album! \n\n\n\n\n\n\nRegister \nEVENT DETAILS\n\n\nLocation \nWissahickon Watershed \n\n\nWhat To Expect \nThis is a self-guided volunteer event where volunteers sign up for a designated section of the Wissahickon Creek or one of its tributaries. Wissahickon Trails will provide cleaning supplies in the days leading up to the event. \n\n\nContact \nalex@wissahickontrails.org \n\n\nParking \nVarious\, depends on section
URL:https://gridphilly.com/event/57th-annual-wissahickon-creek-clean-up/
LOCATION:Wissahickon Watershed
CATEGORIES:Clean-ups,Community Events,Volunteer,Volunteer Opportunities,Volunteer Service
ATTACH;FMTTYPE=image/png:https://gridphilly.com/wp-content/uploads/2026/04/Screenshot-2026-04-21-at-12.50.30-PM.png
END:VEVENT
END:VCALENDAR