BEGIN:VCALENDAR
VERSION:2.0
PRODID:-//Grid Magazine - ECPv6.15.20//NONSGML v1.0//EN
CALSCALE:GREGORIAN
METHOD:PUBLISH
X-ORIGINAL-URL:https://gridphilly.com
X-WR-CALDESC:Events for Grid Magazine
REFRESH-INTERVAL;VALUE=DURATION:PT1H
X-Robots-Tag:noindex
X-PUBLISHED-TTL:PT1H
BEGIN:VTIMEZONE
TZID:America/New_York
BEGIN:DAYLIGHT
TZOFFSETFROM:-0500
TZOFFSETTO:-0400
TZNAME:EDT
DTSTART:20250309T070000
END:DAYLIGHT
BEGIN:STANDARD
TZOFFSETFROM:-0400
TZOFFSETTO:-0500
TZNAME:EST
DTSTART:20251102T060000
END:STANDARD
BEGIN:DAYLIGHT
TZOFFSETFROM:-0500
TZOFFSETTO:-0400
TZNAME:EDT
DTSTART:20260308T070000
END:DAYLIGHT
BEGIN:STANDARD
TZOFFSETFROM:-0400
TZOFFSETTO:-0500
TZNAME:EST
DTSTART:20261101T060000
END:STANDARD
BEGIN:DAYLIGHT
TZOFFSETFROM:-0500
TZOFFSETTO:-0400
TZNAME:EDT
DTSTART:20270314T070000
END:DAYLIGHT
BEGIN:STANDARD
TZOFFSETFROM:-0400
TZOFFSETTO:-0500
TZNAME:EST
DTSTART:20271107T060000
END:STANDARD
END:VTIMEZONE
BEGIN:VEVENT
DTSTART;TZID=America/New_York:20260420T103000
DTEND;TZID=America/New_York:20260420T123000
DTSTAMP:20260419T194057
CREATED:20260418T181616Z
LAST-MODIFIED:20260418T181616Z
UID:10032359-1776681000-1776688200@gridphilly.com
SUMMARY:Early Spring Wildflower Walk\, Bells Mill
DESCRIPTION:Starting at Bells Mill Road\, we will explore the Yellow Trail and Forbidden Drive for early spring wildflowers.\n\n\nMeet at Bells Mill Road and Forbidden Drive. We will walk uphill to see some beautiful\, planted Trilliums and then continue on the Yellow Trail looking for other spring ephemeral wildflower\, such as Spring Beauty\, Jack-in-the-Pulpit\, Jacob’s Ladder\, and May Apple. Many of these beautiful wildflowers have a short growing season before the large trees obscure the light reaching the forest floor. Free!
URL:https://gridphilly.com/event/early-spring-wildflower-walk-bells-mill/
LOCATION:Wissahickon Environmental Center (Tree House)\, 300 West Northwestern Avenue\, Philadelphia\, PA\, 19118\, United States
ATTACH;FMTTYPE=image/jpeg:https://gridphilly.com/wp-content/uploads/2026/04/5b8889027a983de45c79270f0bde4522.jpg
END:VEVENT
BEGIN:VEVENT
DTSTART;TZID=America/New_York:20260422T120000
DTEND;TZID=America/New_York:20260422T133000
DTSTAMP:20260419T194057
CREATED:20260418T183020Z
LAST-MODIFIED:20260418T183020Z
UID:10032376-1776859200-1776864600@gridphilly.com
SUMMARY:Noon Bird Walks at the Wissahickon Environmental Center.
DESCRIPTION:Enjoy a guided bird walk in the Andorra Natural Area of the park during lunchtime !  All levels of birders welcome.\n\n\n Enjoy a guided bird walk in the Andorra section of the Park during lunchtime. It is spring migration season\, and various species will be arriving throughout the next few months. Walks vary in length from 1.5 hrs to 2 hrs.  Wooded trails\, Andorra Meadow\, Harper’s Meadow and Forbidden Drive are the areas we explore.
URL:https://gridphilly.com/event/noon-bird-walks-at-the-wissahickon-environmental-center-3/
LOCATION:Wissahickon Environmental Center (Tree House)\, 300 West Northwestern Avenue\, Philadelphia\, PA\, 19118\, United States
ATTACH;FMTTYPE=image/jpeg:https://gridphilly.com/wp-content/uploads/2026/03/354f3fb52e064688597afc5192db5a28.jpg
END:VEVENT
BEGIN:VEVENT
DTSTART;TZID=America/New_York:20260422T140000
DTEND;TZID=America/New_York:20260422T153000
DTSTAMP:20260419T194057
CREATED:20260409T025107Z
LAST-MODIFIED:20260409T025107Z
UID:10032180-1776866400-1776871800@gridphilly.com
SUMMARY:Earth Day Walk - Amphibians Abound!
DESCRIPTION:For this family-oriented program\, take a walk in search of salamanders\, frogs\, and toads.  Talk about clean water and Earth Day.\n\n\nTake a walk towards the Creek to search for salamanders and frogs. Identify and look at their unique features. Discuss clean water and its importance to the health of amphibians and how Earth Day helped protect it.
URL:https://gridphilly.com/event/earth-day-walk-amphibians-abound/
LOCATION:Wissahickon Environmental Center (Tree House)\, 300 West Northwestern Avenue\, Philadelphia\, PA\, 19118\, United States
ATTACH;FMTTYPE=image/jpeg:https://gridphilly.com/wp-content/uploads/2026/04/8e8d5660cd47e63c4b11b9446c1cafec.jpg
END:VEVENT
END:VCALENDAR