BEGIN:VCALENDAR
VERSION:2.0
PRODID:-//Grid Magazine - ECPv6.15.20//NONSGML v1.0//EN
CALSCALE:GREGORIAN
METHOD:PUBLISH
X-WR-CALNAME:Grid Magazine
X-ORIGINAL-URL:https://gridphilly.com
X-WR-CALDESC:Events for Grid Magazine
REFRESH-INTERVAL;VALUE=DURATION:PT1H
X-Robots-Tag:noindex
X-PUBLISHED-TTL:PT1H
BEGIN:VTIMEZONE
TZID:America/New_York
BEGIN:DAYLIGHT
TZOFFSETFROM:-0500
TZOFFSETTO:-0400
TZNAME:EDT
DTSTART:20240310T070000
END:DAYLIGHT
BEGIN:STANDARD
TZOFFSETFROM:-0400
TZOFFSETTO:-0500
TZNAME:EST
DTSTART:20241103T060000
END:STANDARD
BEGIN:DAYLIGHT
TZOFFSETFROM:-0500
TZOFFSETTO:-0400
TZNAME:EDT
DTSTART:20250309T070000
END:DAYLIGHT
BEGIN:STANDARD
TZOFFSETFROM:-0400
TZOFFSETTO:-0500
TZNAME:EST
DTSTART:20251102T060000
END:STANDARD
BEGIN:DAYLIGHT
TZOFFSETFROM:-0500
TZOFFSETTO:-0400
TZNAME:EDT
DTSTART:20260308T070000
END:DAYLIGHT
BEGIN:STANDARD
TZOFFSETFROM:-0400
TZOFFSETTO:-0500
TZNAME:EST
DTSTART:20261101T060000
END:STANDARD
END:VTIMEZONE
BEGIN:VEVENT
DTSTART;TZID=America/New_York:20250217T100000
DTEND;TZID=America/New_York:20250217T140000
DTSTAMP:20260420T223935
CREATED:20250211T202955Z
LAST-MODIFIED:20250211T202955Z
UID:10016983-1739786400-1739800800@gridphilly.com
SUMMARY:Presidents' Day Family Day and JDAIM Celebration
DESCRIPTION:Schools are closed\, but the museum is open! \nJoin us at the Weitzman for a FREE Family Day jam-packed with fun activities for all ages. This year\, we’re spotlighting Jewish Disability Awareness\, Acceptance\, and Inclusion Month (JDAIM) alongside exciting programs\, workshops\, crafts\, a resource fair\, scavenger hunts\, and more. \nHighlights include: Mr. John’s Music class with Miss Cat\, Face Painting with BonBon Parties\, Khalil Munir’s show The Crown’s Corner\, Adoughma sensory-friendly play dough fun\, Open Gym with We Rock the Spectrum\, and a Cartoon-Making Workshop.
URL:https://gridphilly.com/event/presidents-day-family-day-and-jdaim-celebration/
LOCATION:Weitzman National Museum of American Jewish History\, 101 South Independence Ml East\, Philadelphia\, PA\, 19106\, United States
CATEGORIES:Accessible Event,Advocacy,Arts & Performance,Children,Community Events,Family,Family Activities,Family and Kids,Family Fun,Family-friendly,Free,Free Community Events,Kids,Programs for Children
ATTACH;FMTTYPE=image/jpeg:https://gridphilly.com/wp-content/uploads/2025/02/presidents-days-web-asset.jpg
ORGANIZER;CN="Weitzman National Museum of American Jewish History":MAILTO:education@theweitzman.org
END:VEVENT
END:VCALENDAR