BEGIN:VCALENDAR
VERSION:2.0
PRODID:-//Grid Magazine - ECPv6.15.20//NONSGML v1.0//EN
CALSCALE:GREGORIAN
METHOD:PUBLISH
X-ORIGINAL-URL:https://gridphilly.com
X-WR-CALDESC:Events for Grid Magazine
REFRESH-INTERVAL;VALUE=DURATION:PT1H
X-Robots-Tag:noindex
X-PUBLISHED-TTL:PT1H
BEGIN:VTIMEZONE
TZID:America/New_York
BEGIN:DAYLIGHT
TZOFFSETFROM:-0500
TZOFFSETTO:-0400
TZNAME:EDT
DTSTART:20230312T070000
END:DAYLIGHT
BEGIN:STANDARD
TZOFFSETFROM:-0400
TZOFFSETTO:-0500
TZNAME:EST
DTSTART:20231105T060000
END:STANDARD
BEGIN:DAYLIGHT
TZOFFSETFROM:-0500
TZOFFSETTO:-0400
TZNAME:EDT
DTSTART:20240310T070000
END:DAYLIGHT
BEGIN:STANDARD
TZOFFSETFROM:-0400
TZOFFSETTO:-0500
TZNAME:EST
DTSTART:20241103T060000
END:STANDARD
BEGIN:DAYLIGHT
TZOFFSETFROM:-0500
TZOFFSETTO:-0400
TZNAME:EDT
DTSTART:20250309T070000
END:DAYLIGHT
BEGIN:STANDARD
TZOFFSETFROM:-0400
TZOFFSETTO:-0500
TZNAME:EST
DTSTART:20251102T060000
END:STANDARD
BEGIN:DAYLIGHT
TZOFFSETFROM:-0500
TZOFFSETTO:-0400
TZNAME:EDT
DTSTART:20260308T070000
END:DAYLIGHT
BEGIN:STANDARD
TZOFFSETFROM:-0400
TZOFFSETTO:-0500
TZNAME:EST
DTSTART:20261101T060000
END:STANDARD
END:VTIMEZONE
BEGIN:VEVENT
DTSTART;TZID=America/New_York:20251108T180000
DTEND;TZID=America/New_York:20251108T233000
DTSTAMP:20260421T023836
CREATED:20251006T180248Z
LAST-MODIFIED:20251006T180248Z
UID:10022898-1762624800-1762644600@gridphilly.com
SUMMARY:Evening of Hope: A Night In Venice
DESCRIPTION:On Saturday\, Nov. 8\, Devereux Pennsylvania will host its annual “Evening of Hope” event at Vie by Cescaphe in Philadelphia. The theme of this year’s event\, “A Night in Venice\,” celebrates Devereux’s commitment to guiding children\, adolescents and adults with emotional\, behavioral and cognitive differences on a journey of connection\, growth and belonging. \nEach year\, Devereux’s highly anticipated fall event generates hundreds of thousands of dollars to support the more than 4\,000 individuals served by the organization in Pennsylvania. This year’s event\, which is expected to draw more than 400 guests\, will feature cocktails and hors d’oeuvres; a sumptuous three-course dinner; live entertainment – including an illustration artist\, 360 photo booth\, cannoli piping station and music by the Philadelphia band Milan 77 – as well as exciting live and silent auctions. Guests are invited to embrace the evening’s theme of elegance and mystique by wearing masquerade masks. \nDuring the event\, Devereux will honor Phil Glick\, an esteemed member of the Devereux Pennsylvania Advisory Board since 1999\, for his outstanding service and unwavering commitment to the organization.
URL:https://gridphilly.com/event/evening-of-hope-a-night-in-venice/
LOCATION:Vie by Cescaphe\, 600 North Broad Street\, Philadelphia\, PA\, 19130\, United States
CATEGORIES:Children,Food & Drink
ATTACH;FMTTYPE=image/jpeg:https://gridphilly.com/wp-content/uploads/2025/10/Save_the_Date_v4.jpg
ORGANIZER;CN="Devereux Advanced Behavioral Health":MAILTO:Melissa.Trexler@devereux.org
END:VEVENT
BEGIN:VEVENT
DTSTART;TZID=America/New_York:20251009T170000
DTEND;TZID=America/New_York:20251009T203000
DTSTAMP:20260421T023836
CREATED:20251002T145024Z
LAST-MODIFIED:20251002T145024Z
UID:10022940-1760029200-1760041800@gridphilly.com
SUMMARY:2025  Experience the Estuary Celebration
DESCRIPTION:Join the Partnership for the Delaware Estuary at the 2025 Experience the Estuary Celebration\n\n\nSorry! Ticket sales have ended for this event. Please contact us if you have any questions at hburns@delawareestuary.org. We hope to see you at another one of our fundraising events! \n \nThis year’s celebration will take place at Vie by Cescaphe in Philadelphia\, PA on Thursday\, October 9 from 5:00 to 8:30 p.m.\nJoin PDE for an incredible evening featuring cocktail hour\, open bar\, dinner\, silent auction\, and raw oysters from the Delaware Bay. \n\n \nTentative Schedule:\n5:00 Reception – Cocktails & Hors d’Oeuvres \n5:00 Bidding Opens – Silent Auction and Wine Pull \n5:00 PDE Program Highlights \n6:30 Seated Dinner \n7 :15 Short Speaking Program \n7:50 Dessert Served \n8:15 Silent Auction Closes \n8:15 Checkout Begins \n8:30 Event Ends \n\nThe digital program can be accessed here in early October.\n\n\nThank you to our sponsors!
URL:https://gridphilly.com/event/2025-experience-the-estuary-celebration/
LOCATION:Vie by Cescaphe\, 600 North Broad Street\, Philadelphia\, PA\, 19130\, United States
ATTACH;FMTTYPE=image/jpeg:https://gridphilly.com/wp-content/uploads/2025/10/8ab936d0cc34642c82e8338fd83abeda.jpg
END:VEVENT
BEGIN:VEVENT
DTSTART;TZID=America/New_York:20241009T170000
DTEND;TZID=America/New_York:20241009T203000
DTSTAMP:20260421T023836
CREATED:20241007T151132Z
LAST-MODIFIED:20241007T151132Z
UID:10014932-1728493200-1728505800@gridphilly.com
SUMMARY:2024 Experience the Estuary Celebration
DESCRIPTION:Join the Partnership for the Delaware Estuary at the 2024 Experience the Estuary Celebration\n\n\nSorry! Tickets for this events are no longer available. We hope to see you at another one of our fundraising events! Please contact us if you have any questions at hburns@delawareestuary.org. \n \n \nThis year’s celebration will take place at Vie by Cescaphe in Philadelphia\, PA on Wednesday\, October 9 from 5:00 to 8:30 p.m.\nJoin PDE for an incredible evening featuring cocktail hour\, open bar\, dinner\, silent auction\, and raw oysters from the Delaware Bay.\n\n \nSchedule:\n5:00 Reception – Cocktails & Hors d’Oeuvres\n5:00 Bidding Opens – Silent Auction and Wine Pull\n5:00 PDE Program Highlights\n6:30 Seated Dinner\n7 :00 Short Speaking Program\n7:45 Dessert Served\n8:00 Silent Auction Closes\n8:00 Checkout Begins\n8:30 Event Ends\n\nParking: Complimentary valet parking will be available.\n\nThe digital program can be viewed here.\n\n\nThank you to our sponsors!
URL:https://gridphilly.com/event/2024-experience-the-estuary-celebration/
LOCATION:Vie by Cescaphe\, 600 North Broad Street\, Philadelphia\, PA\, 19130\, United States
ATTACH;FMTTYPE=image/jpeg:https://gridphilly.com/wp-content/uploads/2024/10/636abbe2a04ad949d3ac08b7eeac197c.jpg
END:VEVENT
END:VCALENDAR