BEGIN:VCALENDAR
VERSION:2.0
PRODID:-//Grid Magazine - ECPv6.15.20//NONSGML v1.0//EN
CALSCALE:GREGORIAN
METHOD:PUBLISH
X-ORIGINAL-URL:https://gridphilly.com
X-WR-CALDESC:Events for Grid Magazine
REFRESH-INTERVAL;VALUE=DURATION:PT1H
X-Robots-Tag:noindex
X-PUBLISHED-TTL:PT1H
BEGIN:VTIMEZONE
TZID:America/New_York
BEGIN:DAYLIGHT
TZOFFSETFROM:-0500
TZOFFSETTO:-0400
TZNAME:EDT
DTSTART:20240310T070000
END:DAYLIGHT
BEGIN:STANDARD
TZOFFSETFROM:-0400
TZOFFSETTO:-0500
TZNAME:EST
DTSTART:20241103T060000
END:STANDARD
BEGIN:DAYLIGHT
TZOFFSETFROM:-0500
TZOFFSETTO:-0400
TZNAME:EDT
DTSTART:20250309T070000
END:DAYLIGHT
BEGIN:STANDARD
TZOFFSETFROM:-0400
TZOFFSETTO:-0500
TZNAME:EST
DTSTART:20251102T060000
END:STANDARD
BEGIN:DAYLIGHT
TZOFFSETFROM:-0500
TZOFFSETTO:-0400
TZNAME:EDT
DTSTART:20260308T070000
END:DAYLIGHT
BEGIN:STANDARD
TZOFFSETFROM:-0400
TZOFFSETTO:-0500
TZNAME:EST
DTSTART:20261101T060000
END:STANDARD
END:VTIMEZONE
BEGIN:VEVENT
DTSTART;TZID=America/New_York:20250405T093000
DTEND;TZID=America/New_York:20250405T140000
DTSTAMP:20260419T194244
CREATED:20250328T145333Z
LAST-MODIFIED:20250328T145333Z
UID:10018043-1743845400-1743861600@gridphilly.com
SUMMARY:Saturday Leadership Academy
DESCRIPTION:Please join us for Saturday Leadership Academy! Mentoring at its best by 100 Black Men of Philadelphia. “What They See Is What They’ll Be”\n\n\nThe 100 Black Men of Philadelphia (www.100BlackMenPhilly.org) is a brotherhood of successful black men who pull their resources and volunteer time to mentor black and diverse youth in the Philadelphia area.   \n \nWe provide “Safe Havens” for young folks to learn\, development and have fun. Mentoring is a key preventive measure to stop “gun violence”.   \nY﻿OUR CHILD COULD EARN UP TO $450 FOR JUST ATTENDING THE MENTORING PROGRAM ON 1st AND 3rd SATURDAY! \n \nIt is easier to build strong children than to repair broken men.” – Frederick Douglass \n \nWe run different Mentoring programs including: \n* Saturday Leadership Academy (boys 1st to 8th grades) \n* MANHOOD 101: Abundant Life Mentoring Program for High School Young Men \n* 100 Vaux Success Academy (afterschool program for Vaux Big picture H.S. students)  \n* Home Depot Foundation Pre-Apprentice Certification Training (PACT) (Saturday coed 11th & 12th grade students) \n* African American History Challenge (AAHC) (coed Jr. High & High School students) \n* Wells Fargo Hands On Banking (coed 6th to 12th grades) \n* College Scholars 2 Internships  \n* Wells Fargo Junior Investment Program (coed 6th to 12th grades) \n* Wells Fargo Dollars & $ense (coed High School students) \n \n* City Wide Summer Programs & Activities Workshops: Physical Fitness\,  Book Clubs\,  (youth 1st to 12th grades) \nP﻿lease contact 100 Black Men Philadelphia Event Chairman Yusef Abdur-Razzaaq (yusef.adburrazzaaq@100blackmenphilly.org) with any questions.
URL:https://gridphilly.com/event/saturday-leadership-academy/
LOCATION:Vaux Big Picture High School\, 2300 Master Street\, Philadelphia\, PA\, 19121\, United States
ATTACH;FMTTYPE=image/jpeg:https://gridphilly.com/wp-content/uploads/2025/03/252ce28dd12033ba8d83093e310de2a8.jpg
END:VEVENT
BEGIN:VEVENT
DTSTART;TZID=America/New_York:20250227T180000
DTEND;TZID=America/New_York:20250227T200000
DTSTAMP:20260419T194244
CREATED:20250224T130106Z
LAST-MODIFIED:20250224T163211Z
UID:10017310-1740679200-1740686400@gridphilly.com
SUMMARY:Rhythm & Resilience with Amir Campbell
DESCRIPTION:Join Mural Arts and artist Amir Campbell for an evening of joy and celebration of Sharswood history and community!\n\n\nJoin Mural Arts and artist Amir Campbell for an evening of joy and celebration of Sharswood history and community! These events kick-off the upcoming mural series at Webb Plaza.  We invite you to contribute to a Sharswood history timeline\, participate in an art-making exercise\, and engage in a photobooth to document your iconic dance moves.
URL:https://gridphilly.com/event/rhythm-resilience-with-amir-campbell-2/
LOCATION:Vaux Big Picture High School\, 2300 Master Street\, Philadelphia\, PA\, 19121\, United States
ATTACH;FMTTYPE=image/jpeg:https://gridphilly.com/wp-content/uploads/2025/02/699a10e21e23273b7dbf33a5b2edb1cb.jpg
END:VEVENT
BEGIN:VEVENT
DTSTART;TZID=America/New_York:20250213T180000
DTEND;TZID=America/New_York:20250213T200000
DTSTAMP:20260419T194244
CREATED:20250210T150031Z
LAST-MODIFIED:20250210T150031Z
UID:10017027-1739469600-1739476800@gridphilly.com
SUMMARY:Rhythm & Resilience with Amir Campbell
DESCRIPTION:Join Mural Arts and artist Amir Campbell for an evening of joy and celebration of Sharswood history and community!\n\n\nJoin Mural Arts and artist Amir Campbell for an evening of joy and celebration of Sharswood history and community! These events kick-off the upcoming mural series at Webb Plaza.  We invite you to contribute to a Sharswood history timeline\, participate in an art-making exercise\, and engage in a photobooth to document your iconic dance moves.
URL:https://gridphilly.com/event/rhythm-resilience-with-amir-campbell/
LOCATION:Vaux Big Picture High School\, 2300 Master Street\, Philadelphia\, PA\, 19121\, United States
ATTACH;FMTTYPE=image/jpeg:https://gridphilly.com/wp-content/uploads/2025/02/699a10e21e23273b7dbf33a5b2edb1cb.jpg
END:VEVENT
END:VCALENDAR