BEGIN:VCALENDAR
VERSION:2.0
PRODID:-//Grid Magazine - ECPv6.15.20//NONSGML v1.0//EN
CALSCALE:GREGORIAN
METHOD:PUBLISH
X-ORIGINAL-URL:https://gridphilly.com
X-WR-CALDESC:Events for Grid Magazine
REFRESH-INTERVAL;VALUE=DURATION:PT1H
X-Robots-Tag:noindex
X-PUBLISHED-TTL:PT1H
BEGIN:VTIMEZONE
TZID:America/New_York
BEGIN:DAYLIGHT
TZOFFSETFROM:-0500
TZOFFSETTO:-0400
TZNAME:EDT
DTSTART:20220313T070000
END:DAYLIGHT
BEGIN:STANDARD
TZOFFSETFROM:-0400
TZOFFSETTO:-0500
TZNAME:EST
DTSTART:20221106T060000
END:STANDARD
BEGIN:DAYLIGHT
TZOFFSETFROM:-0500
TZOFFSETTO:-0400
TZNAME:EDT
DTSTART:20230312T070000
END:DAYLIGHT
BEGIN:STANDARD
TZOFFSETFROM:-0400
TZOFFSETTO:-0500
TZNAME:EST
DTSTART:20231105T060000
END:STANDARD
BEGIN:DAYLIGHT
TZOFFSETFROM:-0500
TZOFFSETTO:-0400
TZNAME:EDT
DTSTART:20240310T070000
END:DAYLIGHT
BEGIN:STANDARD
TZOFFSETFROM:-0400
TZOFFSETTO:-0500
TZNAME:EST
DTSTART:20241103T060000
END:STANDARD
BEGIN:DAYLIGHT
TZOFFSETFROM:-0500
TZOFFSETTO:-0400
TZNAME:EDT
DTSTART:20250309T070000
END:DAYLIGHT
BEGIN:STANDARD
TZOFFSETFROM:-0400
TZOFFSETTO:-0500
TZNAME:EST
DTSTART:20251102T060000
END:STANDARD
BEGIN:DAYLIGHT
TZOFFSETFROM:-0500
TZOFFSETTO:-0400
TZNAME:EDT
DTSTART:20260308T070000
END:DAYLIGHT
BEGIN:STANDARD
TZOFFSETFROM:-0400
TZOFFSETTO:-0500
TZNAME:EST
DTSTART:20261101T060000
END:STANDARD
END:VTIMEZONE
BEGIN:VEVENT
DTSTART;TZID=America/New_York:20250204T113000
DTEND;TZID=America/New_York:20250204T130000
DTSTAMP:20260419T194136
CREATED:20250120T161730Z
LAST-MODIFIED:20250120T161730Z
UID:10016695-1738668600-1738674000@gridphilly.com
SUMMARY:Global Approaches to Food as Medicine
DESCRIPTION:This event will bring together experts from various fields to discuss how different cultures around the world use food as a form of medicine\, incorporating traditional practices and modern science. Attendees will gain insights into the diverse ways in which dietary choices can prevent and treat illnesses\, enhance overall well-being\, and support sustainable health practices. From the Mediterranean diet’s heart-healthy benefits to the Ayurvedic principles of balancing body and mind\, we will explore local and global perspectives and innovative approaches to using food as a powerful tool for healing. \nJoin us to discover how the food on your plate can be the foundation of a healthier\, more vibrant life. \nLunch will be provided by Honeysuckle.
URL:https://gridphilly.com/event/global-approaches-to-food-as-medicine/
LOCATION:University City Science Center\, 3675 Market Street\, Philadelphia\, PA\, 19104\, United States
CATEGORIES:Food
ATTACH;FMTTYPE=image/png:https://gridphilly.com/wp-content/uploads/2025/01/EventPic.png
ORGANIZER;CN="World Affairs Council of Philadelphia":MAILTO:info@wacphila.org
END:VEVENT
BEGIN:VEVENT
DTSTART;TZID=America/New_York:20231113T090000
DTEND;TZID=America/New_York:20231113T180000
DTSTAMP:20260419T194136
CREATED:20230726T141607Z
LAST-MODIFIED:20230726T141607Z
UID:10005934-1699866000-1699898400@gridphilly.com
SUMMARY:Reimagining Journalism Summit 2023: Nov. 13th & 14th
DESCRIPTION:How can we work together to reinvent Philadelphia’s news ecosystem so that all of its residents feel seen\, heard\, and represented?\n\n\nJoin the The Lenfest Institute for Journalism for our 3rd annual two-day gathering\, the Reimagining Journalism Summit\, where we will engage and galvanize the journalism community to have candid\, transparent conversations about goals\, accountability\, and tangible plans for a more equitable and reimagined future for journalism.  \nWe invite you to SAVE THE DATE to your calendar by registering TODAY. \nAdditional details will be provided over the next few weeks. \n We look forward to having you join us!
URL:https://gridphilly.com/event/reimagining-journalism-summit-2023-nov-13th-14th/
LOCATION:University City Science Center\, 3675 Market Street\, Philadelphia\, PA\, 19104\, United States
ATTACH;FMTTYPE=image/jpeg:https://gridphilly.com/wp-content/uploads/2023/07/8b16117d1decf127022187acd6646621.jpg
END:VEVENT
END:VCALENDAR