BEGIN:VCALENDAR
VERSION:2.0
PRODID:-//Grid Magazine - ECPv6.15.20//NONSGML v1.0//EN
CALSCALE:GREGORIAN
METHOD:PUBLISH
X-WR-CALNAME:Grid Magazine
X-ORIGINAL-URL:https://gridphilly.com
X-WR-CALDESC:Events for Grid Magazine
REFRESH-INTERVAL;VALUE=DURATION:PT1H
X-Robots-Tag:noindex
X-PUBLISHED-TTL:PT1H
BEGIN:VTIMEZONE
TZID:America/New_York
BEGIN:DAYLIGHT
TZOFFSETFROM:-0500
TZOFFSETTO:-0400
TZNAME:EDT
DTSTART:20230312T070000
END:DAYLIGHT
BEGIN:STANDARD
TZOFFSETFROM:-0400
TZOFFSETTO:-0500
TZNAME:EST
DTSTART:20231105T060000
END:STANDARD
BEGIN:DAYLIGHT
TZOFFSETFROM:-0500
TZOFFSETTO:-0400
TZNAME:EDT
DTSTART:20240310T070000
END:DAYLIGHT
BEGIN:STANDARD
TZOFFSETFROM:-0400
TZOFFSETTO:-0500
TZNAME:EST
DTSTART:20241103T060000
END:STANDARD
BEGIN:DAYLIGHT
TZOFFSETFROM:-0500
TZOFFSETTO:-0400
TZNAME:EDT
DTSTART:20250309T070000
END:DAYLIGHT
BEGIN:STANDARD
TZOFFSETFROM:-0400
TZOFFSETTO:-0500
TZNAME:EST
DTSTART:20251102T060000
END:STANDARD
END:VTIMEZONE
BEGIN:VEVENT
DTSTART;TZID=America/New_York:20240615T100000
DTEND;TZID=America/New_York:20240615T150000
DTSTAMP:20260421T113353
CREATED:20240102T143303Z
LAST-MODIFIED:20240102T143303Z
UID:10010416-1718445600-1718463600@gridphilly.com
SUMMARY:Designed for Nature Garden Tour
DESCRIPTION:Be inspired!  Tour five Doylestown residential gardens in transition to the use of native plants and creative water management.\n\n\nThe Bucks County Branch of the Woman’s National Farm & Garden Association in partnership with Bowman’s Hill Wildflower Preserve presents their eighth annual garden tour showcasing local residential gardens in transition to the use of native plants and creative water management. See five unique approaches and take home ideas for your own yard\, meadow\, woodland\, foundation planting\, bird and pollinator haven\, or vegetable plot. Native plants serve as an impetus for responsible land stewardship and offer a pleasurable way for each of us to reconnect with nature. Check out our native plant sale and purchase raffle tickets for a nature inspired painted rain barrel by WNF&GA member artist\, Anna Edling. \nFAQs \nHow can I contact the organizer with any questions? \nEmail – Melissa or Diane at: wnfga.gardentour@gmail.com \nWhen and where do I retrieve my ticket(s)? \nJune 15\, 2024 from 9:30 a.m. – 3:00 p.m. – Doylestown Borough Hall Parking Lot \n10 Doyle Street\, Doylestown\, PA 18901 \nAdvance ticket sales through Eventbrite ends at 12:00 Midnight on June 14\, 2024. Can I still get tickets? \nYes. Day-of-tour tickets may be purchased for $20.00 at Doylestown Borough Hall parking lot\, 10 Doyle Street\, Doylestown\, PA 18901 from 9:30 a.m. to 3:00 p.m. on June 15\, 2024. \nThis is a self-guided tour. Event is rain or shine. Ticket purchase(s) are non-refundable.
URL:https://gridphilly.com/event/designed-for-nature-garden-tour/
LOCATION:Ticket pick-up location – The Borough of Doylestown parking lot\, 10 Doyle Street\, Doylestown\, PA\, 18901\, United States
ATTACH;FMTTYPE=image/jpeg:https://gridphilly.com/wp-content/uploads/2024/01/5da50c0ae2466e31ceb8c22dc9b329cc.jpg
END:VEVENT
END:VCALENDAR