BEGIN:VCALENDAR
VERSION:2.0
PRODID:-//Grid Magazine - ECPv6.15.20//NONSGML v1.0//EN
CALSCALE:GREGORIAN
METHOD:PUBLISH
X-ORIGINAL-URL:https://gridphilly.com
X-WR-CALDESC:Events for Grid Magazine
REFRESH-INTERVAL;VALUE=DURATION:PT1H
X-Robots-Tag:noindex
X-PUBLISHED-TTL:PT1H
BEGIN:VTIMEZONE
TZID:America/New_York
BEGIN:DAYLIGHT
TZOFFSETFROM:-0500
TZOFFSETTO:-0400
TZNAME:EDT
DTSTART:20250309T070000
END:DAYLIGHT
BEGIN:STANDARD
TZOFFSETFROM:-0400
TZOFFSETTO:-0500
TZNAME:EST
DTSTART:20251102T060000
END:STANDARD
BEGIN:DAYLIGHT
TZOFFSETFROM:-0500
TZOFFSETTO:-0400
TZNAME:EDT
DTSTART:20260308T070000
END:DAYLIGHT
BEGIN:STANDARD
TZOFFSETFROM:-0400
TZOFFSETTO:-0500
TZNAME:EST
DTSTART:20261101T060000
END:STANDARD
BEGIN:DAYLIGHT
TZOFFSETFROM:-0500
TZOFFSETTO:-0400
TZNAME:EDT
DTSTART:20270314T070000
END:DAYLIGHT
BEGIN:STANDARD
TZOFFSETFROM:-0400
TZOFFSETTO:-0500
TZNAME:EST
DTSTART:20271107T060000
END:STANDARD
END:VTIMEZONE
BEGIN:VEVENT
DTSTART;TZID=America/New_York:20260407T121500
DTEND;TZID=America/New_York:20260407T131500
DTSTAMP:20260422T042720
CREATED:20260326T010532Z
LAST-MODIFIED:20260326T010532Z
UID:10030464-1775564100-1775567700@gridphilly.com
SUMMARY:PA Fibershed Jefferson Ambassador Clothing Swap
DESCRIPTION:Are you a Thomas Jefferson University student or faculty member with clothes you never wear taking up space in your closet? \nIf so\, join PA Fibershed’s Jefferson Ambassadors for a Clothing Swap on Tuesday\, 4/7\, at the Gutman Quad! Participants are invited to arrive anytime after 12:15 PM and bring 5–15 clean\, gently used clothing items\, shoes\, or accessories to swap. \n\n\n\n\n\n\n\n\n\n\nPlease sign up and pay beforehand through the link below. You’ll be provided with table space to display your items and will have the opportunity to browse and select pieces brought by others. Bring a bag for your finds! \nAfter the swap\, you can either take your leftover items with you or pass them to PA Fibershed ambassadors\, who will donate them. \nWe hope to see you there! \n⚠️ To keep the event manageable\, please bring no more than 15 items. \n\nPlease note: This event is for Jefferson University students and faculty only.
URL:https://gridphilly.com/event/pa-fibershed-jefferson-ambassador-clothing-swap/
LOCATION:Thomas Jefferson University – East Falls Campus\, 4201 Henry Avenue\, DEC Forum\, Philadelphia\, PA\, 19144\, United States
ATTACH;FMTTYPE=image/webp:https://gridphilly.com/wp-content/uploads/2026/03/4-7FibershedClothingSwap-1.webp
END:VEVENT
END:VCALENDAR