BEGIN:VCALENDAR
VERSION:2.0
PRODID:-//Grid Magazine - ECPv6.15.20//NONSGML v1.0//EN
CALSCALE:GREGORIAN
METHOD:PUBLISH
X-WR-CALNAME:Grid Magazine
X-ORIGINAL-URL:https://gridphilly.com
X-WR-CALDESC:Events for Grid Magazine
REFRESH-INTERVAL;VALUE=DURATION:PT1H
X-Robots-Tag:noindex
X-PUBLISHED-TTL:PT1H
BEGIN:VTIMEZONE
TZID:America/New_York
BEGIN:DAYLIGHT
TZOFFSETFROM:-0500
TZOFFSETTO:-0400
TZNAME:EDT
DTSTART:20250309T070000
END:DAYLIGHT
BEGIN:STANDARD
TZOFFSETFROM:-0400
TZOFFSETTO:-0500
TZNAME:EST
DTSTART:20251102T060000
END:STANDARD
BEGIN:DAYLIGHT
TZOFFSETFROM:-0500
TZOFFSETTO:-0400
TZNAME:EDT
DTSTART:20260308T070000
END:DAYLIGHT
BEGIN:STANDARD
TZOFFSETFROM:-0400
TZOFFSETTO:-0500
TZNAME:EST
DTSTART:20261101T060000
END:STANDARD
BEGIN:DAYLIGHT
TZOFFSETFROM:-0500
TZOFFSETTO:-0400
TZNAME:EDT
DTSTART:20270314T070000
END:DAYLIGHT
BEGIN:STANDARD
TZOFFSETFROM:-0400
TZOFFSETTO:-0500
TZNAME:EST
DTSTART:20271107T060000
END:STANDARD
END:VTIMEZONE
BEGIN:VEVENT
DTSTART;TZID=America/New_York:20260419T130000
DTEND;TZID=America/New_York:20260419T133000
DTSTAMP:20260424T151922
CREATED:20260418T181606Z
LAST-MODIFIED:20260418T181606Z
UID:10032354-1776603600-1776605400@gridphilly.com
SUMMARY:Wellness Walk at the Willows
DESCRIPTION:Join us during our annual Wellness Fair for a refreshing stroll through the Willows park to rejuvenate your mind\, body\, and soul.\n\n\nKick off Wellness Week at the Willows with a relaxing and rejuvenating Wellness Walk at The Willows Park! This free community walk is the perfect opportunity to unwind\, connect with nature\, and focus on your well-being. Whether you’re looking to de-stress\, get some exercise\, or enjoy the beauty of the Willows Park with your fellow community members\, this walk is open to all. \nThe Wellness Walk will consist of a 1-mile family-friendly guided walk through the Willows Park. This will start and end in the paved Willows Mansion courtyard\, beginning promptly at 1:00pm. This is a free community event\, and all ages are welcome to join! Registration via Eventbrite is appreciated. \nThis Wellness Walk is scheduled in conjunction with the Wellness Fair kickoff event (12pm-3pm) for Wellness Week at the Willows. We welcome you to arrive early or stick around after the walk to browse our health and wellness resource vendors\, sign up for free wellness classes\, or grab a bite to eat from the food truck. If you’re interested in a bit more of a challenge\, consider participating in our For the Hill of it Endurance Challenge at 1:30pm! \nQuestions? Email us at info@willowsparkpreserve.org
URL:https://gridphilly.com/event/wellness-walk-at-the-willows/
LOCATION:The Willows Mansion\, 490 Darby Paoli Road\, Villanova\, PA\, 19085\, United States
ATTACH;FMTTYPE=image/jpeg:https://gridphilly.com/wp-content/uploads/2026/04/439d9a7a0a869ba568cec9721cc56caf.jpg
END:VEVENT
BEGIN:VEVENT
DTSTART;TZID=America/New_York:20260121T180000
DTEND;TZID=America/New_York:20260121T190000
DTSTAMP:20260424T151922
CREATED:20260110T145746Z
LAST-MODIFIED:20260110T145746Z
UID:10028280-1769018400-1769022000@gridphilly.com
SUMMARY:Qi Gong at the Willows Mansion
DESCRIPTION:Join us at the historic Willows Mansion to explore this ancient Chinese mind body practice.\n\n\nJoin instructor Jood Thompson at the historic Willows Mansion to explore this ancient chinese mind body practice. Qi Gong exercises create a strong and flexible body\, and clear mind and an open heart. All experience and skill levels welcome! \nThis class is offered on a pay-what-you-wish basis\, with a suggested donation of $10 per class to benefit Willows Mansion revitalization. Thank you. \nAdvance registration is appreciated.
URL:https://gridphilly.com/event/qi-gong-at-the-willows-mansion/
LOCATION:The Willows Mansion\, 490 Darby Paoli Road\, Villanova\, PA\, 19085\, United States
ATTACH;FMTTYPE=image/jpeg:https://gridphilly.com/wp-content/uploads/2026/01/ef992c96942d088d6d754a260d73777c.jpg
END:VEVENT
BEGIN:VEVENT
DTSTART;TZID=America/New_York:20260119T103000
DTEND;TZID=America/New_York:20260119T113000
DTSTAMP:20260424T151922
CREATED:20260110T145327Z
LAST-MODIFIED:20260110T145327Z
UID:10028273-1768818600-1768822200@gridphilly.com
SUMMARY:Winter Animals Kids Yoga Adventure
DESCRIPTION:Kids Yoga at the Willows Mansion: Winter Animals Adventure\n\n\nJoin us at the Willows Mansion for a cozy\, movement-filled morning as we stretch\, wiggle\, and explore the wonder of winter animals through yoga with certified yoga instructor & Educator Erin Park! Appropriate for children ages 3-6. \nWhat’s included: winter animals themed yoga program\, hot cocoa\, and a winter-themed craft. \nCost: $15 per child (with caregiver) \nRegistration through Eventbrite is required. If you wish to pay via Venmo or Check\, please select the “Pay via Venmo” or “Pay via Check” option during registration\, and then send payment separately in your preferred method prior to the event.
URL:https://gridphilly.com/event/winter-animals-kids-yoga-adventure/
LOCATION:The Willows Mansion\, 490 Darby Paoli Road\, Villanova\, PA\, 19085\, United States
ATTACH;FMTTYPE=image/jpeg:https://gridphilly.com/wp-content/uploads/2026/01/28ea68f6d4ba1d4f09d53ac1f6707685.jpg
END:VEVENT
END:VCALENDAR