BEGIN:VCALENDAR
VERSION:2.0
PRODID:-//Grid Magazine - ECPv6.15.20//NONSGML v1.0//EN
CALSCALE:GREGORIAN
METHOD:PUBLISH
X-ORIGINAL-URL:https://gridphilly.com
X-WR-CALDESC:Events for Grid Magazine
REFRESH-INTERVAL;VALUE=DURATION:PT1H
X-Robots-Tag:noindex
X-PUBLISHED-TTL:PT1H
BEGIN:VTIMEZONE
TZID:America/New_York
BEGIN:DAYLIGHT
TZOFFSETFROM:-0500
TZOFFSETTO:-0400
TZNAME:EDT
DTSTART:20230312T070000
END:DAYLIGHT
BEGIN:STANDARD
TZOFFSETFROM:-0400
TZOFFSETTO:-0500
TZNAME:EST
DTSTART:20231105T060000
END:STANDARD
BEGIN:DAYLIGHT
TZOFFSETFROM:-0500
TZOFFSETTO:-0400
TZNAME:EDT
DTSTART:20240310T070000
END:DAYLIGHT
BEGIN:STANDARD
TZOFFSETFROM:-0400
TZOFFSETTO:-0500
TZNAME:EST
DTSTART:20241103T060000
END:STANDARD
BEGIN:DAYLIGHT
TZOFFSETFROM:-0500
TZOFFSETTO:-0400
TZNAME:EDT
DTSTART:20250309T070000
END:DAYLIGHT
BEGIN:STANDARD
TZOFFSETFROM:-0400
TZOFFSETTO:-0500
TZNAME:EST
DTSTART:20251102T060000
END:STANDARD
BEGIN:DAYLIGHT
TZOFFSETFROM:-0500
TZOFFSETTO:-0400
TZNAME:EDT
DTSTART:20260308T070000
END:DAYLIGHT
BEGIN:STANDARD
TZOFFSETFROM:-0400
TZOFFSETTO:-0500
TZNAME:EST
DTSTART:20261101T060000
END:STANDARD
END:VTIMEZONE
BEGIN:VEVENT
DTSTART;TZID=America/New_York:20250521T070000
DTEND;TZID=America/New_York:20250521T210000
DTSTAMP:20260421T092206
CREATED:20250505T164801Z
LAST-MODIFIED:20250505T164801Z
UID:10018622-1747810800-1747861200@gridphilly.com
SUMMARY:Night Music presents Bach Family Salon Concert
DESCRIPTION:Night Music\, a period-instrument chamber ensemble\, will present “‘Ich bin ein Berliner’: Music from the Court of Frederick the Great” at Powel House\, 244 S. 3rd Street\, on Wednesday\, May 21. Pre-concert talk by musicologist Dr. Ellen Exner (The Juilliard School) at 6:30 PM\, concert at 7:00 PM. Featuring Karen Dekker\, violin\, Steven Zohn\, flute\, Heather Miller Lardin\, viola da gamba\, and John Walthausen\, harpsichord. \nThe finest among eighteenth-century composers wrote music not only for entertainment\, but also to educate and inspire those who paid their salaries. In “Ich bin ein Berliner\,” Night Music invites audiences to a multifaceted experience of musical life at the Berlin court of Frederick the Great of Prussia – including an opportunity to connect with the musicians over a mid-concert reception (with jelly donuts\, naturally!) \nAs an avid music lover and staunch supporter of the arts\, Frederick played the flute and composed. Night Music’s program highlights the king’s musical circle\, including his sister Anna Amalia\, his flute teacher and other court musicians\, and several members of the Bach family. Featured is the dramatic trio sonata from Johann Sebastian Bach’s Musical Offering\, the linchpin of an epic collection based on a fugue subject that Frederick himself presented to Bach. \nTickets required; “Pay what you can”: suggested donation $25 for General Admission\, $50 for Premium Seating. Purchase tickets here. \nAudiences describe Night Music’s concerts in the historic ballroom of Powel House as “a rejuvenating and delightful evening” and “a wonderful performance in the perfect setting.” \nNight Music\, now in its 10th season\, is a period-instrument chamber ensemble based in the greater Philadelphia area. Its repertoire centers on the Classical and early Romantic periods (roughly 1750–1850)\, highlighting excellent yet seldom-heard music by composers both familiar and obscure. The ensemble’s mission is to explore this repertoire with audiences in Philadelphia and beyond.
URL:https://gridphilly.com/event/night-music-presents-bach-family-salon-concert/
LOCATION:The Powel House\, 244 S. 3rd Street\, Philadelphia\, PA\, 19106\, United States
CATEGORIES:Arts & Performance
ATTACH;FMTTYPE=image/jpeg:https://gridphilly.com/wp-content/uploads/2025/04/LNM-2-scaled.jpg
ORGANIZER;CN="Night Music":MAILTO:info@nightmusicensemble.com
END:VEVENT
BEGIN:VEVENT
DTSTART;TZID=America/New_York:20250516T173000
DTEND;TZID=America/New_York:20250516T203000
DTSTAMP:20260421T092206
CREATED:20250410T173756Z
LAST-MODIFIED:20250506T195655Z
UID:10018358-1747416600-1747427400@gridphilly.com
SUMMARY:Powel Garden Party
DESCRIPTION:Spring’s most awaited event!\n\n\nSpend an enchanted evening in the Powel House garden. Sip refreshing cocktails while feasting on a delicious buffet and passed hors d’oeuvres while enjoying the entertainment and lively companionship of friends new and known. \nSpring attire and fancy hats encouraged! \nTickets $125
URL:https://gridphilly.com/event/powel-garden-party-3/
LOCATION:The Powel House\, 244 S. 3rd Street\, Philadelphia\, PA\, 19106\, United States
ATTACH;FMTTYPE=image/jpeg:https://gridphilly.com/wp-content/uploads/2025/04/dbebea769fb00178af9b6ea113cf2466.jpg
END:VEVENT
BEGIN:VEVENT
DTSTART;TZID=America/New_York:20240517T173000
DTEND;TZID=America/New_York:20240517T203000
DTSTAMP:20260421T092206
CREATED:20240506T161806Z
LAST-MODIFIED:20240506T161806Z
UID:10012748-1715967000-1715977800@gridphilly.com
SUMMARY:Powel Garden Party
DESCRIPTION:This year’s “talk of the town”!\n\n\nJoin us for an elegant evening in the Powel House Garden. Whether you enjoy basking in a beautiful garden\, learning about eighteenth-century history\, or are a fan of Bridgerton\, you’ll find something to love at this event. Enjoy a live violinist (playing everything from Vivaldi to Taylor Swift!)\, delicious hor d’oeuvres\, a signature cocktail or mocktail\, and good company on this spring evening. \nTickets $125
URL:https://gridphilly.com/event/powel-garden-party/
LOCATION:The Powel House\, 244 S. 3rd Street\, Philadelphia\, PA\, 19106\, United States
ATTACH;FMTTYPE=image/jpeg:https://gridphilly.com/wp-content/uploads/2024/05/21946d644085351d61840cc674088ba3.jpg
END:VEVENT
END:VCALENDAR