BEGIN:VCALENDAR
VERSION:2.0
PRODID:-//Grid Magazine - ECPv6.15.20//NONSGML v1.0//EN
CALSCALE:GREGORIAN
METHOD:PUBLISH
X-ORIGINAL-URL:https://gridphilly.com
X-WR-CALDESC:Events for Grid Magazine
REFRESH-INTERVAL;VALUE=DURATION:PT1H
X-Robots-Tag:noindex
X-PUBLISHED-TTL:PT1H
BEGIN:VTIMEZONE
TZID:America/New_York
BEGIN:DAYLIGHT
TZOFFSETFROM:-0500
TZOFFSETTO:-0400
TZNAME:EDT
DTSTART:20240310T070000
END:DAYLIGHT
BEGIN:STANDARD
TZOFFSETFROM:-0400
TZOFFSETTO:-0500
TZNAME:EST
DTSTART:20241103T060000
END:STANDARD
BEGIN:DAYLIGHT
TZOFFSETFROM:-0500
TZOFFSETTO:-0400
TZNAME:EDT
DTSTART:20250309T070000
END:DAYLIGHT
BEGIN:STANDARD
TZOFFSETFROM:-0400
TZOFFSETTO:-0500
TZNAME:EST
DTSTART:20251102T060000
END:STANDARD
BEGIN:DAYLIGHT
TZOFFSETFROM:-0500
TZOFFSETTO:-0400
TZNAME:EDT
DTSTART:20260308T070000
END:DAYLIGHT
BEGIN:STANDARD
TZOFFSETFROM:-0400
TZOFFSETTO:-0500
TZNAME:EST
DTSTART:20261101T060000
END:STANDARD
END:VTIMEZONE
BEGIN:VEVENT
DTSTART;TZID=America/New_York:20251101T083000
DTEND;TZID=America/New_York:20251101T183000
DTSTAMP:20260420T125922
CREATED:20251027T133347Z
LAST-MODIFIED:20251027T205529Z
UID:10023718-1761985800-1762021800@gridphilly.com
SUMMARY:FreeWalkers Marathon -- Philadelphia (Fairmount Park)
DESCRIPTION:Our most diverse and scenic walk of the year.  A FreeWalkers favorite.\n\n\nOur most diverse and scenic walk of the year. A FreeWalkers favorite! \nStart: Porch at 30th St Station \nFinish: Chestnut Hill West Station \nDistance: 13-26mi \nWhere to find us: Outside south side of station \nOptional endpoints:– East Falls Station\, Highland Station and numerous other mass transit options \nTerrain: paved\, gravel\, grass \nTransit: Amtrak\, Megabus\, NJTransit AC and NJTransit/Septa connections to 30th Street Station \nReturn: SEPTA train \nParking: Many nearby garages and lots. Try 3101 Market St or Cira South Garage \nDifficulty: Average / Advanced \nCategory: nature\, history\, urban\, scenic \nCoordinator: Charles Updike\, 916-225-0569 \n \nAn Autumn Walk in the Park\n26.2 miles (or 13.1 miles) from 30th St Station to Chestnut Hill through Fairmount Park and the Wissahickon Valley.\nWalk the entire breadth of the city through the largest landscaped city park in the world\, Fairmount Park\, with the autumn colors at their peak along the Schuylkill River Trail and Forbidden Drive along the Wissahickon Creek. \nIn the early 19th century\, the Wissahickon was a hub for small industry\, due to its steady water flow for powering mills. When industry moved downtown\, the area was preserved to protect the water supply for the region\, producing an environment that became world renowned for its beauty and inspired the works of Walt Whitman\, John Greenleaf Whittier\, Edgar Allen Poe\, Christopher Morley\, and Currier and Ives. Forbidden Drive is so named for its prohibition of all motor vehicles. The Wissahickon Valley has a stillness untouched by time\, strange for one of the world’s larger cities\, and is surely Philadelphia’s best kept secret\, offering as appealing a walking route as is available for a hundred miles around. \n“The Wissahickon is of so remarkable a loveliness that\, were it flowing in England\, it would be the theme of every bard.” — Poe \n \n“Some of my happiest hours have been spent there\, some of my freest hours.” — Whitman \nOur journey begins at 30th Street Station\, with convenient connections to Septa\, NJ Transit\, Amtrak and Megabus. The walk ends in the tony main-street neighborhood of Chestnut Hill\, where we shall meet for eats and libations\, with two train stations available to carry us back to 30th Street. Easy gravel and paved terrain\, with very few road crossings after one leaves Center City. Two snack bars with nearby bathrooms assist along the way. \n \nThe half-marathon route is a shortest-distance trek along the Schuylkill and Wissahickon. The full route provides a broad and meandering treatment of all of the many highlights of sprawling Fairmount Park\, along with visits to the places of debate and worship of our founding fathers\, the site of the 1876 Centennial Exposition\, the world’s tallest masonry building\, dozens of works of public art\, and the nation’s most pioneering and pedestrian-friendly cemetery\, replete with graves of countless war heroes\, inventors\, tycoons and even local icons like Harry Kalas and Rocky’s Adrian Balboa. \n \nMARATHON WALK Highlights\n\nUniversity of Pennsylvania\nSchuylkill Banks Boardwalk\nRittenhouse Square\nWashington Square\nIndependence Hall\nCarpenters Hall\nSpruce Street Harbor Park\nPenns Landing\nChrist Church\nCity Hall\nLogan Circle\nBen Franklin Parkway\nArt Museum steps\nFairmount Waterworks\nBoathouse Row\nKelly Drive\nMemorial Hall\nJapanese House and Garden\nBelmont Plateau\nStrawberry Mansion Bridge\nLaurel Hill Cemetery\nFalls Bridge\nWissahickon Creek\nBattle of Germantown\nForbidden Drive\nValley Green Inn\nMagarge Dam\nCovered bridge\nChestnut Hill\n\nHALF-MARATHON Highlights\n\nFairmount Waterworks\nBoathouse Row\nKelly Drive\nFalls Bridge\nWissahickon Creek\nBattle of Germantown\nForbidden Drive\nValley Green Inn\nMagarge Dam\nCovered bridge\nChestnut Hill\n\n \nPartners: \nThe East Coast Greenway Alliance is a non-profit organization developing a public multi-use 3\,000 mile trail from Canada to Key West through New Jersey and New York. Donations and memberships help make this dream trail a reality. \nCircuit Trails is 800 miles of interconnected trails in Greater Philadelphia in the making\, already one of America’s largest trail networks. Once connected\, the Circuit Trails will be one of the nation’s premier urban trail networks and it will provide multiple benefits to neighborhoods\, communities and the region as a whole. \nMore about FreeWalkers: \nOur calendar of walks and hikes | About FreeWalkers | Walker stories | Walking tips \nNew Jersey walks | Pennsylvania walks | New York City walks \n \n \n–
URL:https://gridphilly.com/event/freewalkers-marathon-philadelphia-fairmount-park-3/
LOCATION:The Porch at 30th\, 2949 Market Street\, #2901\, Philadelphia\, PA\, 19104\, United States
ATTACH;FMTTYPE=image/jpeg:https://gridphilly.com/wp-content/uploads/2025/10/1a4179bbac68a18b7f805b0ba8247be3.jpg
END:VEVENT
END:VCALENDAR