BEGIN:VCALENDAR
VERSION:2.0
PRODID:-//Grid Magazine - ECPv6.15.20//NONSGML v1.0//EN
CALSCALE:GREGORIAN
METHOD:PUBLISH
X-ORIGINAL-URL:https://gridphilly.com
X-WR-CALDESC:Events for Grid Magazine
REFRESH-INTERVAL;VALUE=DURATION:PT1H
X-Robots-Tag:noindex
X-PUBLISHED-TTL:PT1H
BEGIN:VTIMEZONE
TZID:America/New_York
BEGIN:DAYLIGHT
TZOFFSETFROM:-0500
TZOFFSETTO:-0400
TZNAME:EDT
DTSTART:20240310T070000
END:DAYLIGHT
BEGIN:STANDARD
TZOFFSETFROM:-0400
TZOFFSETTO:-0500
TZNAME:EST
DTSTART:20241103T060000
END:STANDARD
BEGIN:DAYLIGHT
TZOFFSETFROM:-0500
TZOFFSETTO:-0400
TZNAME:EDT
DTSTART:20250309T070000
END:DAYLIGHT
BEGIN:STANDARD
TZOFFSETFROM:-0400
TZOFFSETTO:-0500
TZNAME:EST
DTSTART:20251102T060000
END:STANDARD
BEGIN:DAYLIGHT
TZOFFSETFROM:-0500
TZOFFSETTO:-0400
TZNAME:EDT
DTSTART:20260308T070000
END:DAYLIGHT
BEGIN:STANDARD
TZOFFSETFROM:-0400
TZOFFSETTO:-0500
TZNAME:EST
DTSTART:20261101T060000
END:STANDARD
END:VTIMEZONE
BEGIN:VEVENT
DTSTART;TZID=America/New_York:20250914T130000
DTEND;TZID=America/New_York:20250914T190000
DTSTAMP:20260424T171524
CREATED:20250829T125652Z
LAST-MODIFIED:20250829T125652Z
UID:10020686-1757854800-1757876400@gridphilly.com
SUMMARY:Now + Then Marketplace Oval Closer
DESCRIPTION:Now + Then Marketplace closes out The Oval for the 4th year\, hosting a one of a kind market on its closing night\, Sunday September 14th\, in front of the iconic Philadelphia Museum of Art steps. The market hosts over 100 local vendors into the night\, including everything from art to vintage clothes. Soak up the last rays of Summer in Philly\, enjoy local entertainment & mini golf\, and top it all off with an iced cold beer in the beer garden. As always the market is free to attend\, dog & family friendly.
URL:https://gridphilly.com/event/now-then-marketplace-oval-closer/
LOCATION:The Oval\, 2451 Benjamin Franklin Parkway\, Philadelphia\, PA\, 19130\, United States
CATEGORIES:Accessible Event,Events,Family-friendly,Local Food
ATTACH;FMTTYPE=image/jpeg:https://gridphilly.com/wp-content/uploads/2025/08/IMG_2163-scaled.jpg
ORGANIZER;CN="Now + Then Marketplace":MAILTO:stephirwin@grombacher.com
END:VEVENT
BEGIN:VEVENT
DTSTART;TZID=America/New_York:20250913T140000
DTEND;TZID=America/New_York:20250913T190000
DTSTAMP:20260424T171524
CREATED:20250905T150821Z
LAST-MODIFIED:20250905T150821Z
UID:10021421-1757772000-1757790000@gridphilly.com
SUMMARY:Mural Arts Fest 2025: Voices of Philly
DESCRIPTION:Get ready to experience the vibrant and diverse voices of Philly come to life at Mural Arts Fest 2025 – it’s going to be a blast!\n\n\nMural Arts Month kicks off with Mural Arts Fest: Voices of Philly\, a FREE day of art\, music\, and activities with a sneak peek at Mural Arts Month ahead.  This family-friendly block party will feature live DJ sets and performances from Interna$hional Bounce\, Plantain Party\, Tameartz\, ThursdayNightGroove\, and more.   Mural Art Fest is sponsored by TD Bank\, The Oval\, Parkway Council\, Philadelphia Parks & Recreation\, WURD and Lululemon. \nThe day revs up with a special movement activity led by Lululemon. There will be fun for all ages\, including kids’ activities such as button-making\, coloring\, bounce basketball\, and airbrushing demonstrations.
URL:https://gridphilly.com/event/mural-arts-fest-2025-voices-of-philly/
LOCATION:The Oval\, 2451 Benjamin Franklin Parkway\, Philadelphia\, PA\, 19130\, United States
END:VEVENT
BEGIN:VEVENT
DTSTART;TZID=America/New_York:20250806T180000
DTEND;TZID=America/New_York:20250806T200000
DTSTAMP:20260424T171524
CREATED:20250725T174816Z
LAST-MODIFIED:20250725T174816Z
UID:10020038-1754503200-1754510400@gridphilly.com
SUMMARY:Green Philly & Green Drinks Happy Hour
DESCRIPTION:Join Green Philly\, in collaboration with Green Drinks and Green Investment Strategies\, to present a sustainability-focused happy hour at The Oval! Connect with local changemakers\, eco-enthusiasts\, and sustainable organizations who are making Philly a cleaner\, greener place to lives. \nWhether you’re deep into composting or just curious about how to live a little lighter on the earth\, this is your chance to meet the folks leading Philly’s sustainability movement—all while enjoying great vibes and even better cocktails. \nGreen Philly will host a Pop-up newsroom\, where you can share story ideas\, sustainability questions\, and what you want to see covered across our platforms.
URL:https://gridphilly.com/event/green-philly-green-drinks-happy-hour/
LOCATION:The Oval\, 2451 Benjamin Franklin Parkway\, Philadelphia\, PA\, 19130\, United States
ATTACH;FMTTYPE=image/png:https://gridphilly.com/wp-content/uploads/2025/07/Green-Philly-Green-Drinks-Happy-Hour-3.png
END:VEVENT
END:VCALENDAR