BEGIN:VCALENDAR
VERSION:2.0
PRODID:-//Grid Magazine - ECPv6.15.20//NONSGML v1.0//EN
CALSCALE:GREGORIAN
METHOD:PUBLISH
X-WR-CALNAME:Grid Magazine
X-ORIGINAL-URL:https://gridphilly.com
X-WR-CALDESC:Events for Grid Magazine
REFRESH-INTERVAL;VALUE=DURATION:PT1H
X-Robots-Tag:noindex
X-PUBLISHED-TTL:PT1H
BEGIN:VTIMEZONE
TZID:America/New_York
BEGIN:DAYLIGHT
TZOFFSETFROM:-0500
TZOFFSETTO:-0400
TZNAME:EDT
DTSTART:20250309T070000
END:DAYLIGHT
BEGIN:STANDARD
TZOFFSETFROM:-0400
TZOFFSETTO:-0500
TZNAME:EST
DTSTART:20251102T060000
END:STANDARD
BEGIN:DAYLIGHT
TZOFFSETFROM:-0500
TZOFFSETTO:-0400
TZNAME:EDT
DTSTART:20260308T070000
END:DAYLIGHT
BEGIN:STANDARD
TZOFFSETFROM:-0400
TZOFFSETTO:-0500
TZNAME:EST
DTSTART:20261101T060000
END:STANDARD
BEGIN:DAYLIGHT
TZOFFSETFROM:-0500
TZOFFSETTO:-0400
TZNAME:EDT
DTSTART:20270314T070000
END:DAYLIGHT
BEGIN:STANDARD
TZOFFSETFROM:-0400
TZOFFSETTO:-0500
TZNAME:EST
DTSTART:20271107T060000
END:STANDARD
END:VTIMEZONE
BEGIN:VEVENT
DTSTART;TZID=America/New_York:20260419T120000
DTEND;TZID=America/New_York:20260419T150000
DTSTAMP:20260424T192235
CREATED:20260418T181036Z
LAST-MODIFIED:20260418T181036Z
UID:10032350-1776600000-1776610800@gridphilly.com
SUMMARY:Rooted In Wellness
DESCRIPTION:Get grounded and glow up with Rooted In Wellness – where good vibes and self-care meet IRL!\n\n\nRooted In Wellness is an intimate\, immersive gathering designed to ground Black women in the 8 dimensions of wellness—physical\, emotional\, social\, spiritual\, intellectual\, occupational\, financial\, and environmental. We’re curating a holistic experience that feels like a soft landing: a space to slow down\, learn\, connect\, and be poured into mind\, body\, and spirit. \nGuests will enjoy a dedicated vendor hour featuring an herbalist\, masseuse\, esthetician\, and facilitators\, along with light music\, refreshments\, and The Black Girl Agenda merch. From there\, Charlotte Andrews of The Lotus W.E.L.L. will lead a plant therapy sneak peek\, guiding guests through the benefits of plant-based practices and a hands-on potpourri-making experience so they can create something sensory and grounding to take home. \nWe’ll then shift into financial wellness with coach Leslie Reis\, who will break down the fundamentals of financial literacy and how money management is deeply connected to our overall wellbeing. To close\, Zelette Harris will offer a restorative sound bath experience\, introducing sound healing and Reiki-infused care to help participants release\, reset\, and leave feeling truly rooted in themselves and their community. \n \n12:00–1:00 pm – Guest arrival + vendor hour \n\nDoors open\, check-in\, welcome\nVisit vendors (herbalist\, masseuse\, esthetician\, and faciliators)\nLight music\, refreshments (if offered)\, and The Black Girl Agenda merch table open\n\n1:00–1:10 pm – Welcome + introductions \n\nBrief welcome and framing of Rooted In Wellness and the 8 dimensions of wellness\nAll vendors and facilitators introduce themselves \nQuick housekeeping announcements\n\n1:10–2:10 pm – Charlotte (The Lotus W.E.L.L.): Plant therapy + potpourri \n\nOverview of your plant therapy program and how it supports wellness\nDeeper dive into plant-based practices and their benefits\nGuided\, hands-on walk-through of creating potpourri and space for participant questions/reflection\n\n2:10–2:30 pm – Leslie Reis: Financial wellness \n\nFinancial literacy segment focused on financial wellness as part of overall wellbeing\nBrief Q&A as time allows\n\n2:30–2:50 pm – Zelette Harris: Sound bath \n\nBrief introduction to sound healing and benefits\nGuided sound bath experience\n\n2:50–3:00 pm – Closing remarks \n\nClosing reflection and thank yous\nInvitations to connect with vendors and follow our platforms
URL:https://gridphilly.com/event/rooted-in-wellness/
LOCATION:The Lotus W.E.L.L.\, 411 West Cheltenham Avenue\, Melrose Park\, PA\, 19027\, United States
ATTACH;FMTTYPE=image/jpeg:https://gridphilly.com/wp-content/uploads/2026/04/fc360b32e3d2c97e84984d7916f2cede.jpg
END:VEVENT
END:VCALENDAR