BEGIN:VCALENDAR
VERSION:2.0
PRODID:-//Grid Magazine - ECPv6.15.20//NONSGML v1.0//EN
CALSCALE:GREGORIAN
METHOD:PUBLISH
X-ORIGINAL-URL:https://gridphilly.com
X-WR-CALDESC:Events for Grid Magazine
REFRESH-INTERVAL;VALUE=DURATION:PT1H
X-Robots-Tag:noindex
X-PUBLISHED-TTL:PT1H
BEGIN:VTIMEZONE
TZID:America/New_York
BEGIN:DAYLIGHT
TZOFFSETFROM:-0500
TZOFFSETTO:-0400
TZNAME:EDT
DTSTART:20250309T070000
END:DAYLIGHT
BEGIN:STANDARD
TZOFFSETFROM:-0400
TZOFFSETTO:-0500
TZNAME:EST
DTSTART:20251102T060000
END:STANDARD
BEGIN:DAYLIGHT
TZOFFSETFROM:-0500
TZOFFSETTO:-0400
TZNAME:EDT
DTSTART:20260308T070000
END:DAYLIGHT
BEGIN:STANDARD
TZOFFSETFROM:-0400
TZOFFSETTO:-0500
TZNAME:EST
DTSTART:20261101T060000
END:STANDARD
BEGIN:DAYLIGHT
TZOFFSETFROM:-0500
TZOFFSETTO:-0400
TZNAME:EDT
DTSTART:20270314T070000
END:DAYLIGHT
BEGIN:STANDARD
TZOFFSETFROM:-0400
TZOFFSETTO:-0500
TZNAME:EST
DTSTART:20271107T060000
END:STANDARD
END:VTIMEZONE
BEGIN:VEVENT
DTSTART;TZID=America/New_York:20260424T190000
DTEND;TZID=America/New_York:20260424T210000
DTSTAMP:20260425T073948
CREATED:20260313T150145Z
LAST-MODIFIED:20260313T150205Z
UID:10030089-1777057200-1777064400@gridphilly.com
SUMMARY:SENG’S HAIR SALON
DESCRIPTION:When a mysterious and fatal epidemic starts to haunt their shop\, three generations of a Lao family in South Philly clash over what’s best for the well-being of their matriarch. This modern American family includes Lao\, Vietnamese and Cambodian characters\, who must navigate a dramatically shifting local and national cultural political scene while advocating for greater political representation.
URL:https://gridphilly.com/event/sengs-hair-salon/2026-04-24/
LOCATION:The drake\, 302 S Hicks St\, Philadelphia\, PA\, 19102\, United States
ATTACH;FMTTYPE=image/png:https://gridphilly.com/wp-content/uploads/2026/03/Screen-Shot-2026-03-10-at-11.49.40-AM.png
END:VEVENT
BEGIN:VEVENT
DTSTART;TZID=America/New_York:20260422T190000
DTEND;TZID=America/New_York:20260422T210000
DTSTAMP:20260425T073948
CREATED:20260313T150145Z
LAST-MODIFIED:20260313T150205Z
UID:10030088-1776884400-1776891600@gridphilly.com
SUMMARY:SENG’S HAIR SALON
DESCRIPTION:When a mysterious and fatal epidemic starts to haunt their shop\, three generations of a Lao family in South Philly clash over what’s best for the well-being of their matriarch. This modern American family includes Lao\, Vietnamese and Cambodian characters\, who must navigate a dramatically shifting local and national cultural political scene while advocating for greater political representation.
URL:https://gridphilly.com/event/sengs-hair-salon/2026-04-22/
LOCATION:The drake\, 302 S Hicks St\, Philadelphia\, PA\, 19102\, United States
ATTACH;FMTTYPE=image/png:https://gridphilly.com/wp-content/uploads/2026/03/Screen-Shot-2026-03-10-at-11.49.40-AM.png
END:VEVENT
BEGIN:VEVENT
DTSTART;TZID=America/New_York:20260419T140000
DTEND;TZID=America/New_York:20260419T170000
DTSTAMP:20260425T073948
CREATED:20260313T150145Z
LAST-MODIFIED:20260313T150205Z
UID:10030087-1776607200-1776618000@gridphilly.com
SUMMARY:SENG’S HAIR SALON
DESCRIPTION:When a mysterious and fatal epidemic starts to haunt their shop\, three generations of a Lao family in South Philly clash over what’s best for the well-being of their matriarch. This modern American family includes Lao\, Vietnamese and Cambodian characters\, who must navigate a dramatically shifting local and national cultural political scene while advocating for greater political representation.
URL:https://gridphilly.com/event/sengs-hair-salon/2026-04-19/
LOCATION:The drake\, 302 S Hicks St\, Philadelphia\, PA\, 19102\, United States
ATTACH;FMTTYPE=image/png:https://gridphilly.com/wp-content/uploads/2026/03/Screen-Shot-2026-03-10-at-11.49.40-AM.png
END:VEVENT
BEGIN:VEVENT
DTSTART;TZID=America/New_York:20260418T190000
DTEND;TZID=America/New_York:20260418T210000
DTSTAMP:20260425T073948
CREATED:20260313T150145Z
LAST-MODIFIED:20260313T150205Z
UID:10030086-1776538800-1776546000@gridphilly.com
SUMMARY:SENG’S HAIR SALON
DESCRIPTION:When a mysterious and fatal epidemic starts to haunt their shop\, three generations of a Lao family in South Philly clash over what’s best for the well-being of their matriarch. This modern American family includes Lao\, Vietnamese and Cambodian characters\, who must navigate a dramatically shifting local and national cultural political scene while advocating for greater political representation.
URL:https://gridphilly.com/event/sengs-hair-salon/2026-04-18/
LOCATION:The drake\, 302 S Hicks St\, Philadelphia\, PA\, 19102\, United States
ATTACH;FMTTYPE=image/png:https://gridphilly.com/wp-content/uploads/2026/03/Screen-Shot-2026-03-10-at-11.49.40-AM.png
END:VEVENT
BEGIN:VEVENT
DTSTART;TZID=America/New_York:20260417T190000
DTEND;TZID=America/New_York:20260417T210000
DTSTAMP:20260425T073948
CREATED:20260313T150145Z
LAST-MODIFIED:20260313T150205Z
UID:10030084-1776452400-1776459600@gridphilly.com
SUMMARY:SENG’S HAIR SALON
DESCRIPTION:When a mysterious and fatal epidemic starts to haunt their shop\, three generations of a Lao family in South Philly clash over what’s best for the well-being of their matriarch. This modern American family includes Lao\, Vietnamese and Cambodian characters\, who must navigate a dramatically shifting local and national cultural political scene while advocating for greater political representation.
URL:https://gridphilly.com/event/sengs-hair-salon/2026-04-17/
LOCATION:The drake\, 302 S Hicks St\, Philadelphia\, PA\, 19102\, United States
ATTACH;FMTTYPE=image/png:https://gridphilly.com/wp-content/uploads/2026/03/Screen-Shot-2026-03-10-at-11.49.40-AM.png
END:VEVENT
END:VCALENDAR