BEGIN:VCALENDAR
VERSION:2.0
PRODID:-//Grid Magazine - ECPv6.15.20//NONSGML v1.0//EN
CALSCALE:GREGORIAN
METHOD:PUBLISH
X-ORIGINAL-URL:https://gridphilly.com
X-WR-CALDESC:Events for Grid Magazine
REFRESH-INTERVAL;VALUE=DURATION:PT1H
X-Robots-Tag:noindex
X-PUBLISHED-TTL:PT1H
BEGIN:VTIMEZONE
TZID:America/New_York
BEGIN:DAYLIGHT
TZOFFSETFROM:-0500
TZOFFSETTO:-0400
TZNAME:EDT
DTSTART:20240310T070000
END:DAYLIGHT
BEGIN:STANDARD
TZOFFSETFROM:-0400
TZOFFSETTO:-0500
TZNAME:EST
DTSTART:20241103T060000
END:STANDARD
BEGIN:DAYLIGHT
TZOFFSETFROM:-0500
TZOFFSETTO:-0400
TZNAME:EDT
DTSTART:20250309T070000
END:DAYLIGHT
BEGIN:STANDARD
TZOFFSETFROM:-0400
TZOFFSETTO:-0500
TZNAME:EST
DTSTART:20251102T060000
END:STANDARD
BEGIN:DAYLIGHT
TZOFFSETFROM:-0500
TZOFFSETTO:-0400
TZNAME:EDT
DTSTART:20260308T070000
END:DAYLIGHT
BEGIN:STANDARD
TZOFFSETFROM:-0400
TZOFFSETTO:-0500
TZNAME:EST
DTSTART:20261101T060000
END:STANDARD
END:VTIMEZONE
BEGIN:VEVENT
DTSTART;TZID=America/New_York:20250608T140000
DTEND;TZID=America/New_York:20250608T170000
DTSTAMP:20260421T081127
CREATED:20250530T182752Z
LAST-MODIFIED:20250530T182752Z
UID:10019304-1749391200-1749402000@gridphilly.com
SUMMARY:Philadelphia Water Department Spokesdog Competition
DESCRIPTION:Does your pup have what it takes to be the next Spokesdog and represent Philly on the path to cleaner waterways?\n\n\nNo one likes dog poop left on the sidewalk…not people\, not pups\, and especially not our waterways! Dog waste left on the ground can wash into storm drains and eventually enters our local creeks and streams\, worsening water quality and negatively impacting aquatic plants and animals. That is exactly why the Philadelphia Water Department (PWD) is seeking one special dog to represent the city as its 2025 Spokesdog! \nThe PWD Spokesdog will help to educate dog owners around the city about the importance of picking up after your pup to help improve water quality. The Spokesdog will represent the Philadelphia Water Department as its official doggy mascot through appearances at in-person events and educational campaigns. \nSpokesdog Competition Event Details \n\nDate: Sunday\, June 8\nTime: 2 – 5 PM\nLocation: The Boozy Mutt\, 2639 Poplar Street\, Philadelphia\, PA 19130\n\nHow will the Spokesdog be chosen? \nDuring the event\, dogs and their owners will be asked to participate in several stations\, including dog waste and tap water trivia\, a guessing game\, dog poop cornhole\, trick display and costume contest. Points will be awarded for each station. The dog with the most points at the end of the event will be crowned the 2025 Philadelphia Water Department Spokesdog. Prizes will be awarded to multiple dogs. \nWhat will the Spokesdog responsibilities be? \nThe chosen 2025 Philadelphia Water Department Spokesdog will be asked to participate in a one-time photo shoot to obtain images of your pup in the official Spokesdog cape. The winner will be invited to attend other local events hosted by the Philadelphia Water Department or Partnership for the Delaware Estuary during 2025. Compensation will be provided for attendance at each event. To read the full Spokesdog Agreement\, click here. \nAdditional Information: \nThe 2025 Spokesdog Competition is being organized by the Philadelphia Water Department and Partnership for the Delaware Estuary with assistance from the Boozy Mutt. \nThe Partnership for the Delaware Estuary is committed to providing equal access to information about its programs\, events and activities\, including document translation services for all individuals. If you require accommodations to participate in this event please contact us at least 2 weeks before the event. \nAny requests for reasonable accommodations or questions about any of PDE’s non-discrimination programs\, policies\, or procedures can be directed to PDE’s designated civil rights coordinator: Brian Yerger\, Director of Business Operations\, 110 South Poplar St. Suite 202 Wilmington DE 19801\, 302.655.4990 Byerger@delawareestuary.org.
URL:https://gridphilly.com/event/philadelphia-water-department-spokesdog-competition/
LOCATION:The Boozy Mutt\, 2639 Poplar Street\, Philadelphia\, PA\, 19130\, United States
ATTACH;FMTTYPE=image/jpeg:https://gridphilly.com/wp-content/uploads/2025/05/5bd217a6436baa0abe63c953b11ac9c9.jpg
END:VEVENT
END:VCALENDAR