BEGIN:VCALENDAR
VERSION:2.0
PRODID:-//Grid Magazine - ECPv6.15.20//NONSGML v1.0//EN
CALSCALE:GREGORIAN
METHOD:PUBLISH
X-WR-CALNAME:Grid Magazine
X-ORIGINAL-URL:https://gridphilly.com
X-WR-CALDESC:Events for Grid Magazine
REFRESH-INTERVAL;VALUE=DURATION:PT1H
X-Robots-Tag:noindex
X-PUBLISHED-TTL:PT1H
BEGIN:VTIMEZONE
TZID:America/New_York
BEGIN:DAYLIGHT
TZOFFSETFROM:-0500
TZOFFSETTO:-0400
TZNAME:EDT
DTSTART:20240310T070000
END:DAYLIGHT
BEGIN:STANDARD
TZOFFSETFROM:-0400
TZOFFSETTO:-0500
TZNAME:EST
DTSTART:20241103T060000
END:STANDARD
BEGIN:DAYLIGHT
TZOFFSETFROM:-0500
TZOFFSETTO:-0400
TZNAME:EDT
DTSTART:20250309T070000
END:DAYLIGHT
BEGIN:STANDARD
TZOFFSETFROM:-0400
TZOFFSETTO:-0500
TZNAME:EST
DTSTART:20251102T060000
END:STANDARD
BEGIN:DAYLIGHT
TZOFFSETFROM:-0500
TZOFFSETTO:-0400
TZNAME:EDT
DTSTART:20260308T070000
END:DAYLIGHT
BEGIN:STANDARD
TZOFFSETFROM:-0400
TZOFFSETTO:-0500
TZNAME:EST
DTSTART:20261101T060000
END:STANDARD
END:VTIMEZONE
BEGIN:VEVENT
DTSTART;TZID=America/New_York:20250809T090000
DTEND;TZID=America/New_York:20250809T100000
DTSTAMP:20260419T234131
CREATED:20250804T183231Z
LAST-MODIFIED:20250804T183231Z
UID:10020237-1754730000-1754733600@gridphilly.com
SUMMARY:[Photo Contest Series] Explore and Capture the Tacony Creek Park
DESCRIPTION:📷 Family-Friendly Photo Walk at Tacony Creek Park\n🗓️ Saturday\, August 9 | ⏰ 9:00 AM – 10:00 AM\n📍 Meet at the Whitaker Ave Gateway\, Tacony Creek Park \nJoin us for a family-friendly Photo Walk along Tacony Creek Park! Whether you’re a beginner with a phone or a hobbyist with a camera\, this is your chance to practice photography\, explore the watershed\, and ask your photo questions. \n\n\nvar gform;gform||(document.addEventListener(“gform_main_scripts_loaded”\,function(){gform.scriptsLoaded=!0})\,document.addEventListener(“gform/theme/scripts_loaded”\,function(){gform.themeScriptsLoaded=!0})\,window.addEventListener(“DOMContentLoaded”\,function(){gform.domLoaded=!0})\,gform={domLoaded:!1\,scriptsLoaded:!1\,themeScriptsLoaded:!1\,isFormEditor:()=>”function”==typeof InitializeEditor\,callIfLoaded:function(o){return!(!gform.domLoaded||!gform.scriptsLoaded||!gform.themeScriptsLoaded&&!gform.isFormEditor()||(gform.isFormEditor()&&console.warn(“The use of gform.initializeOnLoaded() is deprecated in the form editor context and will be removed in Gravity Forms 3.1.”)\,o()\,0))}\,initializeOnLoaded:function(o){gform.callIfLoaded(o)||(document.addEventListener(“gform_main_scripts_loaded”\,()=>{gform.scriptsLoaded=!0\,gform.callIfLoaded(o)})\,document.addEventListener(“gform/theme/scripts_loaded”\,()=>{gform.themeScriptsLoaded=!0\,gform.callIfLoaded(o)})\,window.addEventListener(“DOMContentLoaded”\,()=>{gform.domLoaded=!0\,gform.callIfLoaded(o)}))}\,hooks:{action:{}\,filter:{}}\,addAction:function(o\,r\,e\,t){gform.addHook(“action”\,o\,r\,e\,t)}\,addFilter:function(o\,r\,e\,t){gform.addHook(“filter”\,o\,r\,e\,t)}\,doAction:function(o){gform.doHook(“action”\,o\,arguments)}\,applyFilters:function(o){return gform.doHook(“filter”\,o\,arguments)}\,removeAction:function(o\,r){gform.removeHook(“action”\,o\,r)}\,removeFilter:function(o\,r\,e){gform.removeHook(“filter”\,o\,r\,e)}\,addHook:function(o\,r\,e\,t\,n){null==gform.hooks[o][r]&&(gform.hooks[o][r]=[]);var d=gform.hooks[o][r];null==n&&(n=r+”_”+d.length)\,gform.hooks[o][r].push({tag:n\,callable:e\,priority:t=null==t?10:t})}\,doHook:function(r\,o\,e){var t;if(e=Array.prototype.slice.call(e\,1)\,null!=gform.hooks[r][o]&&((o=gform.hooks[r][o]).sort(function(o\,r){return o.priority-r.priority})\,o.forEach(function(o){“function”!=typeof(t=o.callable)&&(t=window[t])\,”action”==r?t.apply(null\,e):e[0]=t.apply(null\,e)}))\,”filter”==r)return e[0]}\,removeHook:function(o\,r\,t\,n){var e;null!=gform.hooks[o][r]&&(e=(e=gform.hooks[o][r]).filter(function(o\,r\,e){return!!(null!=n&&n!=o.tag||null!=t&&t!=o.priority)})\,gform.hooks[o][r]=e)}}); \n\n\nEvent RSVP\n\n \n\n						Δ \ndocument.getElementById( “ak_js_1” ).setAttribute( “value”\, ( new Date() ).getTime() ); \n\n\n\nName(Required)\n\n                            \n                                                    First \n                                                 \n                            \n                                                            Last \n                                                         \n\nEmail(Required) \n\n\nPhone \n\n\nHow many adults over 18? | ¿Cuántos adultos mayores de 18? * (Required)(Required) \n\n\nHow many children will attend with you who are under 18? | ¿Cuántos niños menores de 18? \n\n\nHow did you find out about this event? | ¿Cómo se enteró de este evento? \nSelection an answer | Selecciona una opciónTTF Website | Sitio web de TTFTTF Email | Correo electrónico de TTFTTF Social Media (Facebook\, Instagram\, etc.) | Redes sociales de TTFOther's Social Media | Redes sociales de otrosFlyer or Poster | Volante o cartelSchool or Organization | Escuela u organizaciónOther | Otro\n\n\nThis field is hidden when viewing the form\nHow many binoculars do you need? \n\nPlease enter a number from 1 to 10.\n\n\n\nThis field is hidden when viewing the form\nEvent \n\n\n\nThis field is hidden when viewing the form\nEvent URL \n\n\n\n\n\n \ngform.initializeOnLoaded( function() {gformInitSpinner( 13\, ‘https://ttfwatershed.org/wp-content/plugins/gravityforms/images/spinner.svg’\, true );jQuery(‘#gform_ajax_frame_13’).on(‘load’\,function(){var contents = jQuery(this).contents().find(‘*’).html();var is_postback = contents.indexOf(‘GF_AJAX_POSTBACK’) >= 0;if(!is_postback){return;}var form_content = jQuery(this).contents().find(‘#gform_wrapper_13’);var is_confirmation = jQuery(this).contents().find(‘#gform_confirmation_wrapper_13’).length > 0;var is_redirect = contents.indexOf(‘gformRedirect(){‘) >= 0;var is_form = form_content.length > 0 && ! is_redirect && ! is_confirmation;var mt = parseInt(jQuery(‘html’).css(‘margin-top’)\, 10) + parseInt(jQuery(‘body’).css(‘margin-top’)\, 10) + 100;if(is_form){jQuery(‘#gform_wrapper_13’).html(form_content.html());if(form_content.hasClass(‘gform_validation_error’)){jQuery(‘#gform_wrapper_13’).addClass(‘gform_validation_error’);} else {jQuery(‘#gform_wrapper_13’).removeClass(‘gform_validation_error’);}setTimeout( function() { /* delay the scroll by 50 milliseconds to fix a bug in chrome */  }\, 50 );if(window[‘gformInitDatepicker’]) {gformInitDatepicker();}if(window[‘gformInitPriceFields’]) {gformInitPriceFields();}var current_page = jQuery(‘#gform_source_page_number_13’).val();gformInitSpinner( 13\, ‘https://ttfwatershed.org/wp-content/plugins/gravityforms/images/spinner.svg’\, true );jQuery(document).trigger(‘gform_page_loaded’\, [13\, current_page]);window[‘gf_submitting_13’] = false;}else if(!is_redirect){var confirmation_content = jQuery(this).contents().find(‘.GF_AJAX_POSTBACK’).html();if(!confirmation_content){confirmation_content = contents;}jQuery(‘#gform_wrapper_13’).replaceWith(confirmation_content);jQuery(document).trigger(‘gform_confirmation_loaded’\, [13]);window[‘gf_submitting_13’] = false;wp.a11y.speak(jQuery(‘#gform_confirmation_message_13’).text());}else{jQuery(‘#gform_13’).append(contents);if(window[‘gformRedirect’]) {gformRedirect();}}jQuery(document).trigger(“gform_pre_post_render”\, [{ formId: “13”\, currentPage: “current_page”\, abort: function() { this.preventDefault(); } }]);        if (event && event.defaultPrevented) {                return;        }        const gformWrapperDiv = document.getElementById( “gform_wrapper_13” );        if ( gformWrapperDiv ) {            const visibilitySpan = document.createElement( “span” );            visibilitySpan.id = “gform_visibility_test_13”;            gformWrapperDiv.insertAdjacentElement( “afterend”\, visibilitySpan );        }        const visibilityTestDiv = document.getElementById( “gform_visibility_test_13” );        let postRenderFired = false;        function triggerPostRender() {            if ( postRenderFired ) {                return;            }            postRenderFired = true;            gform.core.triggerPostRenderEvents( 13\, current_page );            if ( visibilityTestDiv ) {                visibilityTestDiv.parentNode.removeChild( visibilityTestDiv );            }        }        function debounce( func\, wait\, immediate ) {            var timeout;            return function() {                var context = this\, args = arguments;                var later = function() {                    timeout = null;                    if ( !immediate ) func.apply( context\, args );                };                var callNow = immediate && !timeout;                clearTimeout( timeout );                timeout = setTimeout( later\, wait );                if ( callNow ) func.apply( context\, args );            };        }        const debouncedTriggerPostRender = debounce( function() {            triggerPostRender();        }\, 200 );        if ( visibilityTestDiv && visibilityTestDiv.offsetParent === null ) {            const observer = new MutationObserver( ( mutations ) => {                mutations.forEach( ( mutation ) => {                    if ( mutation.type === ‘attributes’ && visibilityTestDiv.offsetParent !== null ) {                        debouncedTriggerPostRender();                        observer.disconnect();                    }                });            });            observer.observe( document.body\, {                attributes: true\,                childList: false\,                subtree: true\,                attributeFilter: [ ‘style’\, ‘class’ ]\,            });        } else {            triggerPostRender();        }    } );} ); \n\nBy submitting this form\, you agree to receive emails from Tookany/Tacony-Frankford Watershed Partnership Inc.\, 4500 Worth Street\, Philadelphia\, PA 19124-3491. \n🔹 Led by TTF Communications staff member Wendi Wu — a photographer with a BFA in photography who captures many of TTF’s event moments. \n🌿 We’ll walk\, chat\, and share tips while enjoying the scenery and community. Bring your curiosity\, your questions\, and your eye for nature! \n🎯 Perfect for participants in the 2025 TTF Photo Contest or anyone looking to improve their outdoor photo skills.\n🌍 This event is accessible in English\, Spanish\, and Mandarin Chinese. \nLet’s Take Photos! | ¡Vamos a tomar fotos! | 一起来拍照！\nWhat to Bring:\n\n✔️ Your phone or camera\n✔️ Water bottle\n✔️ Comfortable shoes\n✔️ Your photography questions!\n\n📷 Open to all ages—children under 15 must be accompanied by an adult. \n✨ Stay afterward if you’d like to help us clean up the park or keep taking photos! \n\n \n\n📸 ¡Caminata Fotográfica Familiar!\nSábado\, 9 de agosto | 9:00 AM – 10:00 AM\n📍 Encuentro en la entrada de Whitaker Ave\, Parque Tacony Creek \nÚnase a nosotros para una caminata fotográfica trilingüe y familiar. Esta es su oportunidad de explorar el parque\, practicar fotografía y aprender junto a nuestra fotógrafa\, Wendi Wu. \n🌿 Este evento se llevará a cabo en inglés\, español y chino mandarín. \n¡Vamos a tomar fotos! \nAbierto a todas las edades — los niños menores de 15 años deben estar acompañados por un adulto.✨ ¡Quédese después si desea ayudarnos a limpiar el parque! \n\n \n\n📸 公园摄影活动 \n8月9日（星期六）| 上午9:00 – 上午10:00\n📍 地点: Tacony Creek Park 的 Whitaker Ave 出入口 \n歡迎所有年齡層和語言背景的朋友一同來參加攝影散步活動，帶上手機或相機，跟我們一起走走拍拍，觀察自然。 \n🌿 本活動提供英語、西班牙語與中文普通話翻譯。 \n一起来拍照！ \n欢迎所有年龄段参加——15岁以下儿童须由成人陪同。
URL:https://gridphilly.com/event/photo-contest-series-explore-and-capture-the-tacony-creek-park/
LOCATION:Tacony Creek Park\, Whitaker Avenue Gateway\, East Loudon Street & Whitaker Avenue\, Philadelphia\, PA\, 19120\, United States
CATEGORIES:Featured,Nature Walks,Tacony Creek Park Events
ATTACH;FMTTYPE=image/png:https://gridphilly.com/wp-content/uploads/2025/08/25-Photo-walk-Flyer-Instagram-Post-45-jZ9aY8.png
ORGANIZER;CN="TTF Watershed Partnership":MAILTO:info@ttfwatershed.org
END:VEVENT
END:VCALENDAR