BEGIN:VCALENDAR
VERSION:2.0
PRODID:-//Grid Magazine - ECPv6.15.20//NONSGML v1.0//EN
CALSCALE:GREGORIAN
METHOD:PUBLISH
X-ORIGINAL-URL:https://gridphilly.com
X-WR-CALDESC:Events for Grid Magazine
REFRESH-INTERVAL;VALUE=DURATION:PT1H
X-Robots-Tag:noindex
X-PUBLISHED-TTL:PT1H
BEGIN:VTIMEZONE
TZID:America/New_York
BEGIN:DAYLIGHT
TZOFFSETFROM:-0500
TZOFFSETTO:-0400
TZNAME:EDT
DTSTART:20230312T070000
END:DAYLIGHT
BEGIN:STANDARD
TZOFFSETFROM:-0400
TZOFFSETTO:-0500
TZNAME:EST
DTSTART:20231105T060000
END:STANDARD
BEGIN:DAYLIGHT
TZOFFSETFROM:-0500
TZOFFSETTO:-0400
TZNAME:EDT
DTSTART:20240310T070000
END:DAYLIGHT
BEGIN:STANDARD
TZOFFSETFROM:-0400
TZOFFSETTO:-0500
TZNAME:EST
DTSTART:20241103T060000
END:STANDARD
BEGIN:DAYLIGHT
TZOFFSETFROM:-0500
TZOFFSETTO:-0400
TZNAME:EDT
DTSTART:20250309T070000
END:DAYLIGHT
BEGIN:STANDARD
TZOFFSETFROM:-0400
TZOFFSETTO:-0500
TZNAME:EST
DTSTART:20251102T060000
END:STANDARD
END:VTIMEZONE
BEGIN:VEVENT
DTSTART;TZID=America/New_York:20240420T103000
DTEND;TZID=America/New_York:20240420T123000
DTSTAMP:20260421T125436
CREATED:20240405T194014Z
LAST-MODIFIED:20240405T194014Z
UID:10012393-1713609000-1713616200@gridphilly.com
SUMMARY:Revival Walk: Philly Celebrates Jazz Edition
DESCRIPTION:Join us for a Revival Walk (Philly Celebrates Jazz Edition) through Tacony Creek Park in the Olney where we will honor the sun and nature.\n\n\nJoin us on Saturday\, April 20 from 10:30 am – 12:30 pm for a Revival Walk (Philly Celebrates Jazz Edition) through Tacony Creek Park in the Olney neighborhood of Philadelphia where we will honor the sun\, wind\, trees\, birds and nature. Mama Carla will share stories illuminating the history of jazz as well as our place in community with one another and with our natural environment. \nOriginally created by dance artist / activist Lela Aisha Jones during the height of the pandemic\, the Revival Walks brought healing\, solace and joy to participants\, as facilitators lifted up Afro-centric practices in order to rebalance our relationship to the natural world. \nIn this edition of the Revival Walk\, Mama Carla will be joined by jazz instrumentalist Marcell Bellinger\, who will improvise music and sounds in the jazz idiom\, in concert with the natural environment. Participants will also assist in removing trash along the way as an act of reciprocity to this important natural space.
URL:https://gridphilly.com/event/revival-walk-philly-celebrates-jazz-edition-2/
LOCATION:Tacony Creek Park in the Olney neighborhood of Philadelphia\, Rising Sun Avenue & East Olney Avenue\, Philadelphia\, PA\, 19120\, United States
ATTACH;FMTTYPE=image/jpeg:https://gridphilly.com/wp-content/uploads/2024/04/3fab58d82e368284b90e07f11b651b68.jpg
END:VEVENT
END:VCALENDAR