BEGIN:VCALENDAR
VERSION:2.0
PRODID:-//Grid Magazine - ECPv6.15.20//NONSGML v1.0//EN
CALSCALE:GREGORIAN
METHOD:PUBLISH
X-ORIGINAL-URL:https://gridphilly.com
X-WR-CALDESC:Events for Grid Magazine
REFRESH-INTERVAL;VALUE=DURATION:PT1H
X-Robots-Tag:noindex
X-PUBLISHED-TTL:PT1H
BEGIN:VTIMEZONE
TZID:America/New_York
BEGIN:DAYLIGHT
TZOFFSETFROM:-0500
TZOFFSETTO:-0400
TZNAME:EDT
DTSTART:20240310T070000
END:DAYLIGHT
BEGIN:STANDARD
TZOFFSETFROM:-0400
TZOFFSETTO:-0500
TZNAME:EST
DTSTART:20241103T060000
END:STANDARD
BEGIN:DAYLIGHT
TZOFFSETFROM:-0500
TZOFFSETTO:-0400
TZNAME:EDT
DTSTART:20250309T070000
END:DAYLIGHT
BEGIN:STANDARD
TZOFFSETFROM:-0400
TZOFFSETTO:-0500
TZNAME:EST
DTSTART:20251102T060000
END:STANDARD
BEGIN:DAYLIGHT
TZOFFSETFROM:-0500
TZOFFSETTO:-0400
TZNAME:EDT
DTSTART:20260308T070000
END:DAYLIGHT
BEGIN:STANDARD
TZOFFSETFROM:-0400
TZOFFSETTO:-0500
TZNAME:EST
DTSTART:20261101T060000
END:STANDARD
END:VTIMEZONE
BEGIN:VEVENT
DTSTART;TZID=America/New_York:20251206T110000
DTEND;TZID=America/New_York:20251206T170000
DTSTAMP:20260419T232303
CREATED:20251124T200157Z
LAST-MODIFIED:20251124T200157Z
UID:10025195-1765018800-1765040400@gridphilly.com
SUMMARY:Last Minute Market
DESCRIPTION:Join us for a holiday market where neighbors can get holiday gifts from local artists! There will be an assortment of prints\, stickers\, books\, glassware\, fiber arts\, ceramics\, and more! Support Philly artists while getting cool unique gifts for the holidays.
URL:https://gridphilly.com/event/last-minute-market/
LOCATION:starbolt\, 1936 N Front St\, Philadelphia\, 19122\, United States
CATEGORIES:Art
ATTACH;FMTTYPE=image/jpeg:https://gridphilly.com/wp-content/uploads/2025/11/FNA019_LastMinuteMarket_2025_Social_8x10-scaled.jpg
ORGANIZER;CN="Fishtown Neighbors Association":MAILTO:Sarahj.mack@gmail.com
END:VEVENT
END:VCALENDAR