BEGIN:VCALENDAR
VERSION:2.0
PRODID:-//Grid Magazine - ECPv6.15.20//NONSGML v1.0//EN
CALSCALE:GREGORIAN
METHOD:PUBLISH
X-WR-CALNAME:Grid Magazine
X-ORIGINAL-URL:https://gridphilly.com
X-WR-CALDESC:Events for Grid Magazine
REFRESH-INTERVAL;VALUE=DURATION:PT1H
X-Robots-Tag:noindex
X-PUBLISHED-TTL:PT1H
BEGIN:VTIMEZONE
TZID:America/New_York
BEGIN:DAYLIGHT
TZOFFSETFROM:-0500
TZOFFSETTO:-0400
TZNAME:EDT
DTSTART:20240310T070000
END:DAYLIGHT
BEGIN:STANDARD
TZOFFSETFROM:-0400
TZOFFSETTO:-0500
TZNAME:EST
DTSTART:20241103T060000
END:STANDARD
BEGIN:DAYLIGHT
TZOFFSETFROM:-0500
TZOFFSETTO:-0400
TZNAME:EDT
DTSTART:20250309T070000
END:DAYLIGHT
BEGIN:STANDARD
TZOFFSETFROM:-0400
TZOFFSETTO:-0500
TZNAME:EST
DTSTART:20251102T060000
END:STANDARD
BEGIN:DAYLIGHT
TZOFFSETFROM:-0500
TZOFFSETTO:-0400
TZNAME:EDT
DTSTART:20260308T070000
END:DAYLIGHT
BEGIN:STANDARD
TZOFFSETFROM:-0400
TZOFFSETTO:-0500
TZNAME:EST
DTSTART:20261101T060000
END:STANDARD
END:VTIMEZONE
BEGIN:VEVENT
DTSTART;TZID=America/New_York:20251206T100000
DTEND;TZID=America/New_York:20251206T120000
DTSTAMP:20260419T221024
CREATED:20251124T141720Z
LAST-MODIFIED:20251124T141720Z
UID:10025127-1765015200-1765022400@gridphilly.com
SUMMARY:Entrepreneurship Affinity Group Workshop
DESCRIPTION:Join us for a workshop where you can kickstart your entrepreneurial journey with like-minded go-getters!\n\n\nThe Entrepreneurship Affinity Group is here to support current and future small business owners through: \n\nPractical tools and resources\nInspiring success stories\nHands-on business planning\nA collaborative\, supportive community\n\nWhether you have an idea or a running business\, this is your space to learn\, connect\, and grow.
URL:https://gridphilly.com/event/entrepreneurship-affinity-group-workshop/
LOCATION:St. Barnabas Community Resource Center\, 6006 West Girard Avenue\, Philadelphia\, PA\, 19151\, United States
ATTACH;FMTTYPE=image/jpeg:https://gridphilly.com/wp-content/uploads/2025/11/537e2be8c5282076a8b30e38bc69d7d4.jpg
END:VEVENT
END:VCALENDAR