BEGIN:VCALENDAR
VERSION:2.0
PRODID:-//Grid Magazine - ECPv6.15.20//NONSGML v1.0//EN
CALSCALE:GREGORIAN
METHOD:PUBLISH
X-WR-CALNAME:Grid Magazine
X-ORIGINAL-URL:https://gridphilly.com
X-WR-CALDESC:Events for Grid Magazine
REFRESH-INTERVAL;VALUE=DURATION:PT1H
X-Robots-Tag:noindex
X-PUBLISHED-TTL:PT1H
BEGIN:VTIMEZONE
TZID:America/New_York
BEGIN:DAYLIGHT
TZOFFSETFROM:-0500
TZOFFSETTO:-0400
TZNAME:EDT
DTSTART:20230312T070000
END:DAYLIGHT
BEGIN:STANDARD
TZOFFSETFROM:-0400
TZOFFSETTO:-0500
TZNAME:EST
DTSTART:20231105T060000
END:STANDARD
BEGIN:DAYLIGHT
TZOFFSETFROM:-0500
TZOFFSETTO:-0400
TZNAME:EDT
DTSTART:20240310T070000
END:DAYLIGHT
BEGIN:STANDARD
TZOFFSETFROM:-0400
TZOFFSETTO:-0500
TZNAME:EST
DTSTART:20241103T060000
END:STANDARD
BEGIN:DAYLIGHT
TZOFFSETFROM:-0500
TZOFFSETTO:-0400
TZNAME:EDT
DTSTART:20250309T070000
END:DAYLIGHT
BEGIN:STANDARD
TZOFFSETFROM:-0400
TZOFFSETTO:-0500
TZNAME:EST
DTSTART:20251102T060000
END:STANDARD
END:VTIMEZONE
BEGIN:VEVENT
DTSTART;TZID=America/New_York:20240603T000000
DTEND;TZID=America/New_York:20240603T235900
DTSTAMP:20260420T071608
CREATED:20240402T180644Z
LAST-MODIFIED:20240402T180644Z
UID:10012275-1717372800-1717459140@gridphilly.com
SUMMARY:Taxonomic Certification Opportunity at SFS Annual Meeting
DESCRIPTION:When: June 3\, 2024\, taxonomic certification exams begin at 9 a.m. and 1 p.m.Where: At the Society of Freshwater Science Annual Meeting in Philadelphia\, Pa.\nInterested? Fill Out This Form\nVisit the SFS website for more information about the annual meeting. For questions about the certification exam\, email tcp@stroudcenter.org.
URL:https://gridphilly.com/event/taxonomic-certification-opportunity-at-sfs-annual-meeting/
LOCATION:Sheraton Philadelphia Downtown\, 201 N 17th St\, Philadelphia\, Pennsylvania\, 19103\, United States
CATEGORIES:Exam
ATTACH;FMTTYPE=image/jpeg:https://gridphilly.com/wp-content/uploads/2024/04/taxon16-3uu8LN.tmp_.jpg
END:VEVENT
END:VCALENDAR