BEGIN:VCALENDAR
VERSION:2.0
PRODID:-//Grid Magazine - ECPv6.15.20//NONSGML v1.0//EN
CALSCALE:GREGORIAN
METHOD:PUBLISH
X-WR-CALNAME:Grid Magazine
X-ORIGINAL-URL:https://gridphilly.com
X-WR-CALDESC:Events for Grid Magazine
REFRESH-INTERVAL;VALUE=DURATION:PT1H
X-Robots-Tag:noindex
X-PUBLISHED-TTL:PT1H
BEGIN:VTIMEZONE
TZID:America/Phoenix
BEGIN:STANDARD
TZOFFSETFROM:-0700
TZOFFSETTO:-0700
TZNAME:MST
DTSTART:20240101T000000
END:STANDARD
END:VTIMEZONE
BEGIN:VEVENT
DTSTART;TZID=America/Phoenix:20250928T140000
DTEND;TZID=America/Phoenix:20250928T170000
DTSTAMP:20260421T100358
CREATED:20250913T201550Z
LAST-MODIFIED:20250913T201550Z
UID:10021917-1759068000-1759078800@gridphilly.com
SUMMARY:South Valley Farm Tour
DESCRIPTION:Open invitation to Beginning Farmers\, Land Stewards\, Educators\, and anyone committed to Regenerative Organic Food Systems.\nFarm Tour and Workshop: Strengthening Soil Health\, Improving Food Safety\, Building Value Food Chains\nLocal lunch provided. Walking shoes\, sun protection and water bottles encouraged.\nDetails:\nDate: September 28\, 2025\nTime: 2:00pm – 5:00pm MDT\nLocation:\nSaint Francis Ranch\n26 Pajarito Rd SW\nAlbuquerque\, NM 87105\nCost: FREE Registration: \n                        Name* \n                                                    First \n                                                    Last \n                        Email* \n                        State*AlabamaAlaskaArizonaArkansasCaliforniaColoradoConnecticutDelawareDistrict of ColumbiaFloridaGeorgiaHawaiiIdahoIllinoisIndianaIowaKansasKentuckyLouisianaMaineMarylandMassachusettsMichiganMinnesotaMississippiMissouriMontanaNebraskaNevadaNew HampshireNew JerseyNew MexicoNew YorkNorth CarolinaNorth DakotaOhioOklahomaOregonPennsylvaniaPuerto RicoRhode IslandSouth CarolinaSouth DakotaTennesseeTexasUtahVermontVirginiaWashingtonWest VirginiaWisconsinWyomingOutside USFarm or Organization NameI am a…* \n				Farmer/Producer \n				Processor/Handler \n				Buyer \n				Other\n			LinkedInThis field is for validation purposes and should be left unchanged. \nCompleting this form automatically signs you up for electronic communications from Rodale Institute. You can easily unsubscribe at any time.\nThis work is supported through the United States Department of Agriculture (USDA) Transition to Organic Partnership Program (TOPP). TOPP is a program of the USDA Organic Transition Initiative and is administered by the USDA Agricultural Marketing Service (AMS) National Organic Program (NOP).
URL:https://gridphilly.com/event/south-valley-farm-tour/
LOCATION:Saint Francis Ranch\, 2100 Pajarito Rd SW\, Albuquerque\, NM\, United States
CATEGORIES:Organic Consulting,Workshops & Field Days
ATTACH;FMTTYPE=image/jpeg:https://gridphilly.com/wp-content/uploads/2025/09/IMG_2499-SlQsea.jpg
GEO:34.986667;-106.696628
X-APPLE-STRUCTURED-LOCATION;VALUE=URI;X-ADDRESS=Saint Francis Ranch 2100 Pajarito Rd SW Albuquerque NM United States;X-APPLE-RADIUS=500;X-TITLE=2100 Pajarito Rd SW:geo:-106.696628,34.986667
END:VEVENT
END:VCALENDAR