BEGIN:VCALENDAR
VERSION:2.0
PRODID:-//Grid Magazine - ECPv6.15.20//NONSGML v1.0//EN
CALSCALE:GREGORIAN
METHOD:PUBLISH
X-WR-CALNAME:Grid Magazine
X-ORIGINAL-URL:https://gridphilly.com
X-WR-CALDESC:Events for Grid Magazine
REFRESH-INTERVAL;VALUE=DURATION:PT1H
X-Robots-Tag:noindex
X-PUBLISHED-TTL:PT1H
BEGIN:VTIMEZONE
TZID:America/New_York
BEGIN:DAYLIGHT
TZOFFSETFROM:-0500
TZOFFSETTO:-0400
TZNAME:EDT
DTSTART:20230312T070000
END:DAYLIGHT
BEGIN:STANDARD
TZOFFSETFROM:-0400
TZOFFSETTO:-0500
TZNAME:EST
DTSTART:20231105T060000
END:STANDARD
BEGIN:DAYLIGHT
TZOFFSETFROM:-0500
TZOFFSETTO:-0400
TZNAME:EDT
DTSTART:20240310T070000
END:DAYLIGHT
BEGIN:STANDARD
TZOFFSETFROM:-0400
TZOFFSETTO:-0500
TZNAME:EST
DTSTART:20241103T060000
END:STANDARD
BEGIN:DAYLIGHT
TZOFFSETFROM:-0500
TZOFFSETTO:-0400
TZNAME:EDT
DTSTART:20250309T070000
END:DAYLIGHT
BEGIN:STANDARD
TZOFFSETFROM:-0400
TZOFFSETTO:-0500
TZNAME:EST
DTSTART:20251102T060000
END:STANDARD
END:VTIMEZONE
BEGIN:VEVENT
DTSTART;TZID=America/New_York:20241030T173000
DTEND;TZID=America/New_York:20241030T200000
DTSTAMP:20260419T230351
CREATED:20241016T133340Z
LAST-MODIFIED:20241016T133340Z
UID:10015144-1730309400-1730318400@gridphilly.com
SUMMARY:The Business of Sustainability
DESCRIPTION:Join hosts Jay Goldring and Ed Linky for a panel discussion on Careers in Sustainability at the Rutgers Inn!\n\n\nJoin hosts Jay Goldring\, Ph.D.\, Sustainability Advisor\, and Ed Linky\, J.D.\, Instructor for the MBS Fundamentals of Sustainability course\, for a panel discussion on Careers in Sustainability at the Rutgers Inn. Highly recommended for students both in the Sustainability Concentration and other concentrations who are interested in integrating sustainability concepts into their jobs. Scheduled panel participants are: \n \n\nAhmed Moussa\, Ph.D.\, Manager\, PSE&G Utilities for the Future project\, and Sustainability Consultant\nAndy Kricun\, Managing Director\, Moonshot Missions\, a water sustainability consultant for utilities\nKelly D’Amico\, MBS\, Account Manager – Texturants at Archer Daniels Midland\, specializing in food sustainability\nVictoria Emerick\, Ph.D.\, Executive Director and Global Head\, Corporate Sustainability\, Bristol Myers Squibb\n\nDinner at 6 followed by a panel discussion and networking. Hope to see you there!
URL:https://gridphilly.com/event/the-business-of-sustainability/
LOCATION:Rutgers University Inn and Conference Center\, 178 Ryders Lane\, New Brunswick\, NJ\, 08901\, United States
ATTACH;FMTTYPE=image/jpeg:https://gridphilly.com/wp-content/uploads/2024/10/25fc122f42c2b442746ce699420b4b9a.jpg
END:VEVENT
END:VCALENDAR