BEGIN:VCALENDAR
VERSION:2.0
PRODID:-//Grid Magazine - ECPv6.15.20//NONSGML v1.0//EN
CALSCALE:GREGORIAN
METHOD:PUBLISH
X-ORIGINAL-URL:https://gridphilly.com
X-WR-CALDESC:Events for Grid Magazine
REFRESH-INTERVAL;VALUE=DURATION:PT1H
X-Robots-Tag:noindex
X-PUBLISHED-TTL:PT1H
BEGIN:VTIMEZONE
TZID:America/New_York
BEGIN:DAYLIGHT
TZOFFSETFROM:-0500
TZOFFSETTO:-0400
TZNAME:EDT
DTSTART:20250309T070000
END:DAYLIGHT
BEGIN:STANDARD
TZOFFSETFROM:-0400
TZOFFSETTO:-0500
TZNAME:EST
DTSTART:20251102T060000
END:STANDARD
BEGIN:DAYLIGHT
TZOFFSETFROM:-0500
TZOFFSETTO:-0400
TZNAME:EDT
DTSTART:20260308T070000
END:DAYLIGHT
BEGIN:STANDARD
TZOFFSETFROM:-0400
TZOFFSETTO:-0500
TZNAME:EST
DTSTART:20261101T060000
END:STANDARD
BEGIN:DAYLIGHT
TZOFFSETFROM:-0500
TZOFFSETTO:-0400
TZNAME:EDT
DTSTART:20270314T070000
END:DAYLIGHT
BEGIN:STANDARD
TZOFFSETFROM:-0400
TZOFFSETTO:-0500
TZNAME:EST
DTSTART:20271107T060000
END:STANDARD
END:VTIMEZONE
BEGIN:VEVENT
DTSTART;TZID=America/New_York:20260501T160000
DTEND;TZID=America/New_York:20260501T170000
DTSTAMP:20260421T142648
CREATED:20260421T010021Z
LAST-MODIFIED:20260421T010021Z
UID:10032433-1777651200-1777654800@gridphilly.com
SUMMARY:Introduction to Birding at Roxborough Library
DESCRIPTION:Curious about birding but not sure where to start? Join us for an engaging introduction focused on the birds and habitats of Roxborough and\n\n\nCurious about birding but not sure where to start? Join us for an engaging introduction focused on the birds and habitats of Roxborough and nearby areas. Presented by birding expert\, Wissahickon Environmental Center supervisor\, and Roxborough resident\, Tony Croasdale.We’ll cover the basics of bird identification\, where to go locally\, and what to look for during the peak of spring migration.What You’ll Learn:How to get started with birdingCommon local birds and habitatsTips for identifying birds during migration
URL:https://gridphilly.com/event/introduction-to-birding-at-roxborough-library/
LOCATION:Roxborough Library\, 6245 Ridge Avenue\, Philadelphia\, PA\, 19128\, United States
ATTACH;FMTTYPE=image/jpeg:https://gridphilly.com/wp-content/uploads/2026/04/b8e588c346608187eed5eedfe1996d30.jpg
END:VEVENT
END:VCALENDAR