BEGIN:VCALENDAR
VERSION:2.0
PRODID:-//Grid Magazine - ECPv6.15.20//NONSGML v1.0//EN
CALSCALE:GREGORIAN
METHOD:PUBLISH
X-WR-CALNAME:Grid Magazine
X-ORIGINAL-URL:https://gridphilly.com
X-WR-CALDESC:Events for Grid Magazine
REFRESH-INTERVAL;VALUE=DURATION:PT1H
X-Robots-Tag:noindex
X-PUBLISHED-TTL:PT1H
BEGIN:VTIMEZONE
TZID:America/New_York
BEGIN:DAYLIGHT
TZOFFSETFROM:-0500
TZOFFSETTO:-0400
TZNAME:EDT
DTSTART:20250309T070000
END:DAYLIGHT
BEGIN:STANDARD
TZOFFSETFROM:-0400
TZOFFSETTO:-0500
TZNAME:EST
DTSTART:20251102T060000
END:STANDARD
BEGIN:DAYLIGHT
TZOFFSETFROM:-0500
TZOFFSETTO:-0400
TZNAME:EDT
DTSTART:20260308T070000
END:DAYLIGHT
BEGIN:STANDARD
TZOFFSETFROM:-0400
TZOFFSETTO:-0500
TZNAME:EST
DTSTART:20261101T060000
END:STANDARD
BEGIN:DAYLIGHT
TZOFFSETFROM:-0500
TZOFFSETTO:-0400
TZNAME:EDT
DTSTART:20270314T070000
END:DAYLIGHT
BEGIN:STANDARD
TZOFFSETFROM:-0400
TZOFFSETTO:-0500
TZNAME:EST
DTSTART:20271107T060000
END:STANDARD
END:VTIMEZONE
BEGIN:VEVENT
DTSTART;TZID=America/New_York:20260422T180000
DTEND;TZID=America/New_York:20260422T200000
DTSTAMP:20260421T050426
CREATED:20260418T180518Z
LAST-MODIFIED:20260418T180518Z
UID:10032330-1776880800-1776888000@gridphilly.com
SUMMARY:Wednesday Volunteer Evenings with Riverfront North - Borski Park
DESCRIPTION:Spring Volunteer Opportunities!
URL:https://gridphilly.com/event/wednesday-volunteer-evenings-with-riverfront-north-borski-park-2/
LOCATION:Robert A. Borski\, Jr. Park\, 3150 Orthodox Street\, Philadelphia\, PA\, 19137\, United States
ATTACH;FMTTYPE=image/jpeg:https://gridphilly.com/wp-content/uploads/2026/03/7b431b2b3edb15645f24c78ab20bd845.jpg
END:VEVENT
BEGIN:VEVENT
DTSTART;TZID=America/New_York:20260425T103000
DTEND;TZID=America/New_York:20260425T113000
DTSTAMP:20260421T050426
CREATED:20260418T180533Z
LAST-MODIFIED:20260418T180533Z
UID:10032345-1777113000-1777116600@gridphilly.com
SUMMARY:Nature-Inspired Family Yoga
DESCRIPTION:All ages Yoga at Borski Park led by Family-Yoga professional and founder of Heartwell Yoga\, Jana Gunby.
URL:https://gridphilly.com/event/nature-inspired-family-yoga/
LOCATION:Robert A. Borski\, Jr. Park\, 3150 Orthodox Street\, Philadelphia\, PA\, 19137\, United States
ATTACH;FMTTYPE=image/jpeg:https://gridphilly.com/wp-content/uploads/2026/04/be4e9110389dc3ff5237afccc6b22fab.jpg
END:VEVENT
BEGIN:VEVENT
DTSTART;TZID=America/New_York:20260425T180000
DTEND;TZID=America/New_York:20260425T193000
DTSTAMP:20260421T050426
CREATED:20260418T181033Z
LAST-MODIFIED:20260418T181033Z
UID:10032349-1777140000-1777145400@gridphilly.com
SUMMARY:Dendê Macêdo - Recycled Sounds - Philly Jazz Month Concert at Borski Park
DESCRIPTION:A performance in the park with percussionist\, Dendê Macêdo and his Recycled Sounds Project  celebrating Philly Jazz Month and sustainability\n\n\nRecycled Sounds at Borski Park – Philly Jazz Month \nCelebrate Philly Jazz Month with an unforgettable evening of rhythm\, creativity\, and community along the Delaware River. \nJoin us on Friday\, April 25 at 6 PM at Borski Park for a live performance by internationally recognized percussionist Dendê Macêdo and his innovative Recycled Sounds project. This unique musical experience transforms everyday objects into instruments\, creating vibrant Afro-Brazilian rhythms while sharing a powerful message about sustainability\, creativity\, and the value of reusing materials. \nUsing handmade instruments crafted from found and repurposed materials—everything from buckets and bottles to tires and scrap metal—Macêdo layers sounds live using a loop pedal to build rich\, percussive compositions in real time. The performance invites audiences to hear the music hidden in everyday objects and rethink what we throw away. \nThis event also highlights the importance of environmental stewardship along our riverfront. Riverfront North Partnership works year-round to beautify\, activate\, and care for parks and trails along the Delaware River\, creating welcoming green spaces for surrounding communities. Programs like this bring people together in the parks while celebrating sustainability\, creativity\, and the outdoors. \nKids Workshop – Build Your Own Instrument\nEarlier in the day\, families are invited to join Dendê Macêdo for a hands-on workshop at 1 PM where kids will learn how to create percussion instruments from recycled materials and explore rhythm together. \nKids will get the chance to turn everyday objects into musical tools while learning about recycling\, creativity\, and sound.A separate registration link for the workshop will be provided below. \nBring a chair or blanket and enjoy this special outdoor performance in one of Philadelphia’s beautiful riverfront parks. \nEvent Details\n📍 Borski Park📅 Friday\, April 25🥁 Kids Workshop: 1:00 PM (Seperate Registration)🎶 Live Performance: 6:00 PM \nThis event is free and open to the public.
URL:https://gridphilly.com/event/dende-macedo-recycled-sounds-philly-jazz-month-concert-at-borski-park-2/
LOCATION:Robert A. Borski\, Jr. Park\, 3150 Orthodox Street\, Philadelphia\, PA\, 19137\, United States
ATTACH;FMTTYPE=image/jpeg:https://gridphilly.com/wp-content/uploads/2026/04/798af0264dd62c29d34083678b179f01.jpg
END:VEVENT
BEGIN:VEVENT
DTSTART;TZID=America/New_York:20260425T180000
DTEND;TZID=America/New_York:20260425T200000
DTSTAMP:20260421T050426
CREATED:20260418T020850Z
LAST-MODIFIED:20260418T020850Z
UID:10032246-1777140000-1777147200@gridphilly.com
SUMMARY:Dendê Macêdo - Recycled Sounds - Philly Jazz Month Concert at Borski Park
DESCRIPTION:Celebrate Philly Jazz Month with an unforgettable evening of rhythm\, creativity\, and community along the Delaware River. \nJoin us on Friday\, April 25 at 6 PM at Borski Park for a live performance by internationally recognized percussionist Dendê Macêdo and his innovative Recycled Sounds project. This unique musical experience transforms everyday objects into instruments\, creating vibrant Afro-Brazilian rhythms while sharing a powerful message about sustainability\, creativity\, and the value of reusing materials. \nUsing handmade instruments crafted from found and repurposed materials—everything from buckets and bottles to tires and scrap metal—Macêdo layers sounds live using a loop pedal to build rich\, percussive compositions in real time. The performance invites audiences to hear the music hidden in everyday objects and rethink what we throw away. \nThis event also highlights the importance of environmental stewardship along our riverfront. Riverfront North Partnership works year-round to beautify\, activate\, and care for parks and trails along the Delaware River\, creating welcoming green spaces for surrounding communities. Programs like this bring people together in the parks while celebrating sustainability\, creativity\, and the outdoors. \nKids Workshop – Build Your Own Instrument\nEarlier in the day\, families are invited to join Dendê Macêdo for a hands-on workshop at 1 PM where kids will learn how to create percussion instruments from recycled materials and explore rhythm together. \nKids will get the chance to turn everyday objects into musical tools while learning about recycling\, creativity\, and sound.\nA separate registration link for the workshop will be provided below. \nBring a chair or blanket and enjoy this special outdoor performance in one of Philadelphia’s beautiful riverfront parks. \nEvent Details\n📍 Borski Park\n📅 Friday\, April 25\n🥁 Kids Workshop: 1:00 PM (Separate Registration)\n🎶 Live Performance: 6:00 PM \nThis event is free and open to the public.
URL:https://gridphilly.com/event/dende-macedo-recycled-sounds-philly-jazz-month-concert-at-borski-park/
LOCATION:Robert A. Borski\, Jr. Park\, 3150 Orthodox Street\, Philadelphia\, PA\, 19137\, United States
CATEGORIES:Arts & Culture,Arts & Performance,Community Events,Concert,Free,Free Community Events,Public Events
ATTACH;FMTTYPE=image/png:https://gridphilly.com/wp-content/uploads/2026/04/Jazz-Event-Instagram-Post-45-1.png
END:VEVENT
BEGIN:VEVENT
DTSTART;TZID=America/New_York:20260429T180000
DTEND;TZID=America/New_York:20260429T190000
DTSTAMP:20260421T050426
CREATED:20260418T180521Z
LAST-MODIFIED:20260418T180521Z
UID:10032333-1777485600-1777489200@gridphilly.com
SUMMARY:UnOrthodox Yoga  at BORSKI PARK - All Ages!
DESCRIPTION:UnOrthodox Yoga has landed at it’s final location at Borski Park.  All ages\, gentle flow class led by local instructor\,  Violet Vines.
URL:https://gridphilly.com/event/unorthodox-yoga-at-borski-park-all-ages-4/
LOCATION:Robert A. Borski\, Jr. Park\, 3150 Orthodox Street\, Philadelphia\, PA\, 19137\, United States
ATTACH;FMTTYPE=image/jpeg:https://gridphilly.com/wp-content/uploads/2025/08/4062cc738bcba1c33df4e9af2c917700.jpg
END:VEVENT
BEGIN:VEVENT
DTSTART;TZID=America/New_York:20260502T130000
DTEND;TZID=America/New_York:20260502T180000
DTSTAMP:20260421T050426
CREATED:20260418T180023Z
LAST-MODIFIED:20260418T180023Z
UID:10032329-1777726800-1777744800@gridphilly.com
SUMMARY:BORSKI  BASH- WELCOME BACK TO THE PARK
DESCRIPTION:Welcome back to the reopening season of Borski Park! Enjoy a fun filled day on the waterfront for the whole family. Food Trucks\, Vendors!\n\n\nWelcome back to the park\, folks! Join us for the BORSKI BASH- WELCOME BACK TO THE PARK event at Robert A. Borski\, Jr. Park on May 2\, 2026 at 1:00 PM (Eastern Time). Let’s celebrate together with music\, food\, and games. Don’t miss out on the fun!
URL:https://gridphilly.com/event/borski-bash-welcome-back-to-the-park/
LOCATION:Robert A. Borski\, Jr. Park\, 3150 Orthodox Street\, Philadelphia\, PA\, 19137\, United States
ATTACH;FMTTYPE=image/jpeg:https://gridphilly.com/wp-content/uploads/2026/04/e65e88b515c05dc19ec1bf3be6978d2a.jpg
END:VEVENT
BEGIN:VEVENT
DTSTART;TZID=America/New_York:20260506T180000
DTEND;TZID=America/New_York:20260506T190000
DTSTAMP:20260421T050426
CREATED:20260418T180522Z
LAST-MODIFIED:20260418T180522Z
UID:10032334-1778090400-1778094000@gridphilly.com
SUMMARY:UnOrthodox Yoga  at BORSKI PARK - All Ages!
DESCRIPTION:UnOrthodox Yoga has landed at it’s final location at Borski Park.  All ages\, gentle flow class led by local instructor\,  Violet Vines.
URL:https://gridphilly.com/event/unorthodox-yoga-at-borski-park-all-ages-5/
LOCATION:Robert A. Borski\, Jr. Park\, 3150 Orthodox Street\, Philadelphia\, PA\, 19137\, United States
ATTACH;FMTTYPE=image/jpeg:https://gridphilly.com/wp-content/uploads/2025/08/4062cc738bcba1c33df4e9af2c917700.jpg
END:VEVENT
BEGIN:VEVENT
DTSTART;TZID=America/New_York:20260509T100000
DTEND;TZID=America/New_York:20260509T120000
DTSTAMP:20260421T050426
CREATED:20260418T180531Z
LAST-MODIFIED:20260418T180531Z
UID:10032344-1778320800-1778328000@gridphilly.com
SUMMARY:Printing with Plants Art Workshop - Borski Park
DESCRIPTION:Join us for a day of art in the park!\n\n\nThe stems\, leaves\, and flowers of plants are essential to their functions: making their own food and providing sustenance to other living things\, building healthy soil\, cleaning and filtering water\, and providing shade. They also create beautiful shapes\, lines\, and patterns. In this workshop\, you will make original prints with plants gathered from Borski Park.
URL:https://gridphilly.com/event/printing-with-plants-art-workshop-borski-park/
LOCATION:Robert A. Borski\, Jr. Park\, 3150 Orthodox Street\, Philadelphia\, PA\, 19137\, United States
ATTACH;FMTTYPE=image/jpeg:https://gridphilly.com/wp-content/uploads/2026/04/9da5d70214b6c4ee4a48cafd6401c3ef.jpg
END:VEVENT
BEGIN:VEVENT
DTSTART;TZID=America/New_York:20260513T180000
DTEND;TZID=America/New_York:20260513T190000
DTSTAMP:20260421T050426
CREATED:20260418T180523Z
LAST-MODIFIED:20260418T180523Z
UID:10032335-1778695200-1778698800@gridphilly.com
SUMMARY:UnOrthodox Yoga  at BORSKI PARK - All Ages!
DESCRIPTION:UnOrthodox Yoga has landed at it’s final location at Borski Park.  All ages\, gentle flow class led by local instructor\,  Violet Vines.
URL:https://gridphilly.com/event/unorthodox-yoga-at-borski-park-all-ages-6/
LOCATION:Robert A. Borski\, Jr. Park\, 3150 Orthodox Street\, Philadelphia\, PA\, 19137\, United States
ATTACH;FMTTYPE=image/jpeg:https://gridphilly.com/wp-content/uploads/2025/08/4062cc738bcba1c33df4e9af2c917700.jpg
END:VEVENT
BEGIN:VEVENT
DTSTART;TZID=America/New_York:20260520T180000
DTEND;TZID=America/New_York:20260520T190000
DTSTAMP:20260421T050426
CREATED:20260418T180524Z
LAST-MODIFIED:20260418T180524Z
UID:10032336-1779300000-1779303600@gridphilly.com
SUMMARY:UnOrthodox Yoga  at BORSKI PARK - All Ages!
DESCRIPTION:UnOrthodox Yoga has landed at it’s final location at Borski Park.  All ages\, gentle flow class led by local instructor\,  Violet Vines.
URL:https://gridphilly.com/event/unorthodox-yoga-at-borski-park-all-ages-7/
LOCATION:Robert A. Borski\, Jr. Park\, 3150 Orthodox Street\, Philadelphia\, PA\, 19137\, United States
ATTACH;FMTTYPE=image/jpeg:https://gridphilly.com/wp-content/uploads/2025/08/4062cc738bcba1c33df4e9af2c917700.jpg
END:VEVENT
BEGIN:VEVENT
DTSTART;TZID=America/New_York:20260525T103000
DTEND;TZID=America/New_York:20260525T113000
DTSTAMP:20260421T050426
CREATED:20260418T180536Z
LAST-MODIFIED:20260418T180536Z
UID:10032346-1779705000-1779708600@gridphilly.com
SUMMARY:Nature-Inspired Family Yoga
DESCRIPTION:All ages Yoga at Borski Park led by Family-Yoga professional and founder of Heartwell Yoga\, Jana Gunby.
URL:https://gridphilly.com/event/nature-inspired-family-yoga-2/
LOCATION:Robert A. Borski\, Jr. Park\, 3150 Orthodox Street\, Philadelphia\, PA\, 19137\, United States
ATTACH;FMTTYPE=image/jpeg:https://gridphilly.com/wp-content/uploads/2026/04/be4e9110389dc3ff5237afccc6b22fab.jpg
END:VEVENT
BEGIN:VEVENT
DTSTART;TZID=America/New_York:20260527T180000
DTEND;TZID=America/New_York:20260527T190000
DTSTAMP:20260421T050426
CREATED:20260418T180525Z
LAST-MODIFIED:20260418T180525Z
UID:10032337-1779904800-1779908400@gridphilly.com
SUMMARY:UnOrthodox Yoga  at BORSKI PARK - All Ages!
DESCRIPTION:UnOrthodox Yoga has landed at it’s final location at Borski Park.  All ages\, gentle flow class led by local instructor\,  Violet Vines.
URL:https://gridphilly.com/event/unorthodox-yoga-at-borski-park-all-ages-8/
LOCATION:Robert A. Borski\, Jr. Park\, 3150 Orthodox Street\, Philadelphia\, PA\, 19137\, United States
ATTACH;FMTTYPE=image/jpeg:https://gridphilly.com/wp-content/uploads/2025/08/4062cc738bcba1c33df4e9af2c917700.jpg
END:VEVENT
BEGIN:VEVENT
DTSTART;TZID=America/New_York:20260527T180000
DTEND;TZID=America/New_York:20260527T200000
DTSTAMP:20260421T050426
CREATED:20260418T180519Z
LAST-MODIFIED:20260418T180519Z
UID:10032331-1779904800-1779912000@gridphilly.com
SUMMARY:Wednesday Volunteer Evenings with Riverfront North - Borski Park
DESCRIPTION:Spring Volunteer Opportunities!
URL:https://gridphilly.com/event/wednesday-volunteer-evenings-with-riverfront-north-borski-park-3/
LOCATION:Robert A. Borski\, Jr. Park\, 3150 Orthodox Street\, Philadelphia\, PA\, 19137\, United States
ATTACH;FMTTYPE=image/jpeg:https://gridphilly.com/wp-content/uploads/2026/03/7b431b2b3edb15645f24c78ab20bd845.jpg
END:VEVENT
BEGIN:VEVENT
DTSTART;TZID=America/New_York:20260603T180000
DTEND;TZID=America/New_York:20260603T190000
DTSTAMP:20260421T050426
CREATED:20260418T180526Z
LAST-MODIFIED:20260418T180526Z
UID:10032338-1780509600-1780513200@gridphilly.com
SUMMARY:UnOrthodox Yoga  at BORSKI PARK - All Ages!
DESCRIPTION:UnOrthodox Yoga has landed at it’s final location at Borski Park.  All ages\, gentle flow class led by local instructor\,  Violet Vines.
URL:https://gridphilly.com/event/unorthodox-yoga-at-borski-park-all-ages-9/
LOCATION:Robert A. Borski\, Jr. Park\, 3150 Orthodox Street\, Philadelphia\, PA\, 19137\, United States
ATTACH;FMTTYPE=image/jpeg:https://gridphilly.com/wp-content/uploads/2025/08/4062cc738bcba1c33df4e9af2c917700.jpg
END:VEVENT
BEGIN:VEVENT
DTSTART;TZID=America/New_York:20260610T180000
DTEND;TZID=America/New_York:20260610T190000
DTSTAMP:20260421T050426
CREATED:20260418T180527Z
LAST-MODIFIED:20260418T180527Z
UID:10032339-1781114400-1781118000@gridphilly.com
SUMMARY:UnOrthodox Yoga  at BORSKI PARK - All Ages!
DESCRIPTION:UnOrthodox Yoga has landed at it’s final location at Borski Park.  All ages\, gentle flow class led by local instructor\,  Violet Vines.
URL:https://gridphilly.com/event/unorthodox-yoga-at-borski-park-all-ages-10/
LOCATION:Robert A. Borski\, Jr. Park\, 3150 Orthodox Street\, Philadelphia\, PA\, 19137\, United States
ATTACH;FMTTYPE=image/jpeg:https://gridphilly.com/wp-content/uploads/2025/08/4062cc738bcba1c33df4e9af2c917700.jpg
END:VEVENT
BEGIN:VEVENT
DTSTART;TZID=America/New_York:20260617T180000
DTEND;TZID=America/New_York:20260617T190000
DTSTAMP:20260421T050426
CREATED:20260418T180528Z
LAST-MODIFIED:20260418T180528Z
UID:10032340-1781719200-1781722800@gridphilly.com
SUMMARY:UnOrthodox Yoga  at BORSKI PARK - All Ages!
DESCRIPTION:UnOrthodox Yoga has landed at it’s final location at Borski Park.  All ages\, gentle flow class led by local instructor\,  Violet Vines.
URL:https://gridphilly.com/event/unorthodox-yoga-at-borski-park-all-ages-11/
LOCATION:Robert A. Borski\, Jr. Park\, 3150 Orthodox Street\, Philadelphia\, PA\, 19137\, United States
ATTACH;FMTTYPE=image/jpeg:https://gridphilly.com/wp-content/uploads/2025/08/4062cc738bcba1c33df4e9af2c917700.jpg
END:VEVENT
BEGIN:VEVENT
DTSTART;TZID=America/New_York:20260624T180000
DTEND;TZID=America/New_York:20260624T190000
DTSTAMP:20260421T050426
CREATED:20260418T180529Z
LAST-MODIFIED:20260418T180529Z
UID:10032341-1782324000-1782327600@gridphilly.com
SUMMARY:UnOrthodox Yoga  at BORSKI PARK - All Ages!
DESCRIPTION:UnOrthodox Yoga has landed at it’s final location at Borski Park.  All ages\, gentle flow class led by local instructor\,  Violet Vines.
URL:https://gridphilly.com/event/unorthodox-yoga-at-borski-park-all-ages-12/
LOCATION:Robert A. Borski\, Jr. Park\, 3150 Orthodox Street\, Philadelphia\, PA\, 19137\, United States
ATTACH;FMTTYPE=image/jpeg:https://gridphilly.com/wp-content/uploads/2025/08/4062cc738bcba1c33df4e9af2c917700.jpg
END:VEVENT
BEGIN:VEVENT
DTSTART;TZID=America/New_York:20260624T180000
DTEND;TZID=America/New_York:20260624T200000
DTSTAMP:20260421T050426
CREATED:20260418T180520Z
LAST-MODIFIED:20260418T180520Z
UID:10032332-1782324000-1782331200@gridphilly.com
SUMMARY:Wednesday Volunteer Evenings with Riverfront North - Borski Park
DESCRIPTION:Spring Volunteer Opportunities!
URL:https://gridphilly.com/event/wednesday-volunteer-evenings-with-riverfront-north-borski-park-4/
LOCATION:Robert A. Borski\, Jr. Park\, 3150 Orthodox Street\, Philadelphia\, PA\, 19137\, United States
ATTACH;FMTTYPE=image/jpeg:https://gridphilly.com/wp-content/uploads/2026/03/7b431b2b3edb15645f24c78ab20bd845.jpg
END:VEVENT
BEGIN:VEVENT
DTSTART;TZID=America/New_York:20260625T103000
DTEND;TZID=America/New_York:20260625T113000
DTSTAMP:20260421T050426
CREATED:20260418T180537Z
LAST-MODIFIED:20260418T180537Z
UID:10032347-1782383400-1782387000@gridphilly.com
SUMMARY:Nature-Inspired Family Yoga
DESCRIPTION:All ages Yoga at Borski Park led by Family-Yoga professional and founder of Heartwell Yoga\, Jana Gunby.
URL:https://gridphilly.com/event/nature-inspired-family-yoga-3/
LOCATION:Robert A. Borski\, Jr. Park\, 3150 Orthodox Street\, Philadelphia\, PA\, 19137\, United States
ATTACH;FMTTYPE=image/jpeg:https://gridphilly.com/wp-content/uploads/2026/04/be4e9110389dc3ff5237afccc6b22fab.jpg
END:VEVENT
BEGIN:VEVENT
DTSTART;TZID=America/New_York:20260701T180000
DTEND;TZID=America/New_York:20260701T190000
DTSTAMP:20260421T050426
CREATED:20260418T180529Z
LAST-MODIFIED:20260418T180529Z
UID:10032342-1782928800-1782932400@gridphilly.com
SUMMARY:UnOrthodox Yoga  at BORSKI PARK - All Ages!
DESCRIPTION:UnOrthodox Yoga has landed at it’s final location at Borski Park.  All ages\, gentle flow class led by local instructor\,  Violet Vines.
URL:https://gridphilly.com/event/unorthodox-yoga-at-borski-park-all-ages-13/
LOCATION:Robert A. Borski\, Jr. Park\, 3150 Orthodox Street\, Philadelphia\, PA\, 19137\, United States
ATTACH;FMTTYPE=image/jpeg:https://gridphilly.com/wp-content/uploads/2025/08/4062cc738bcba1c33df4e9af2c917700.jpg
END:VEVENT
BEGIN:VEVENT
DTSTART;TZID=America/New_York:20260708T180000
DTEND;TZID=America/New_York:20260708T190000
DTSTAMP:20260421T050426
CREATED:20260418T180530Z
LAST-MODIFIED:20260418T180530Z
UID:10032343-1783533600-1783537200@gridphilly.com
SUMMARY:UnOrthodox Yoga  at BORSKI PARK - All Ages!
DESCRIPTION:UnOrthodox Yoga has landed at it’s final location at Borski Park.  All ages\, gentle flow class led by local instructor\,  Violet Vines.
URL:https://gridphilly.com/event/unorthodox-yoga-at-borski-park-all-ages-14/
LOCATION:Robert A. Borski\, Jr. Park\, 3150 Orthodox Street\, Philadelphia\, PA\, 19137\, United States
ATTACH;FMTTYPE=image/jpeg:https://gridphilly.com/wp-content/uploads/2025/08/4062cc738bcba1c33df4e9af2c917700.jpg
END:VEVENT
BEGIN:VEVENT
DTSTART;TZID=America/New_York:20260725T103000
DTEND;TZID=America/New_York:20260725T113000
DTSTAMP:20260421T050426
CREATED:20260418T181032Z
LAST-MODIFIED:20260418T181032Z
UID:10032348-1784975400-1784979000@gridphilly.com
SUMMARY:Nature-Inspired Family Yoga
DESCRIPTION:All ages Yoga at Borski Park led by Family-Yoga professional and founder of Heartwell Yoga\, Jana Gunby.
URL:https://gridphilly.com/event/nature-inspired-family-yoga-4/
LOCATION:Robert A. Borski\, Jr. Park\, 3150 Orthodox Street\, Philadelphia\, PA\, 19137\, United States
ATTACH;FMTTYPE=image/jpeg:https://gridphilly.com/wp-content/uploads/2026/04/be4e9110389dc3ff5237afccc6b22fab.jpg
END:VEVENT
END:VCALENDAR