BEGIN:VCALENDAR
VERSION:2.0
PRODID:-//Grid Magazine - ECPv6.15.20//NONSGML v1.0//EN
CALSCALE:GREGORIAN
METHOD:PUBLISH
X-WR-CALNAME:Grid Magazine
X-ORIGINAL-URL:https://gridphilly.com
X-WR-CALDESC:Events for Grid Magazine
REFRESH-INTERVAL;VALUE=DURATION:PT1H
X-Robots-Tag:noindex
X-PUBLISHED-TTL:PT1H
BEGIN:VTIMEZONE
TZID:America/New_York
BEGIN:DAYLIGHT
TZOFFSETFROM:-0500
TZOFFSETTO:-0400
TZNAME:EDT
DTSTART:20230312T070000
END:DAYLIGHT
BEGIN:STANDARD
TZOFFSETFROM:-0400
TZOFFSETTO:-0500
TZNAME:EST
DTSTART:20231105T060000
END:STANDARD
BEGIN:DAYLIGHT
TZOFFSETFROM:-0500
TZOFFSETTO:-0400
TZNAME:EDT
DTSTART:20240310T070000
END:DAYLIGHT
BEGIN:STANDARD
TZOFFSETFROM:-0400
TZOFFSETTO:-0500
TZNAME:EST
DTSTART:20241103T060000
END:STANDARD
BEGIN:DAYLIGHT
TZOFFSETFROM:-0500
TZOFFSETTO:-0400
TZNAME:EDT
DTSTART:20250309T070000
END:DAYLIGHT
BEGIN:STANDARD
TZOFFSETFROM:-0400
TZOFFSETTO:-0500
TZNAME:EST
DTSTART:20251102T060000
END:STANDARD
BEGIN:DAYLIGHT
TZOFFSETFROM:-0500
TZOFFSETTO:-0400
TZNAME:EDT
DTSTART:20260308T070000
END:DAYLIGHT
BEGIN:STANDARD
TZOFFSETFROM:-0400
TZOFFSETTO:-0500
TZNAME:EST
DTSTART:20261101T060000
END:STANDARD
END:VTIMEZONE
BEGIN:VEVENT
DTSTART;TZID=America/New_York:20250313T100000
DTEND;TZID=America/New_York:20250313T110000
DTSTAMP:20260422T044049
CREATED:20250225T184226Z
LAST-MODIFIED:20250225T184226Z
UID:10017394-1741860000-1741863600@gridphilly.com
SUMMARY:Walk with Me
DESCRIPTION:Let’s take a healthy stroll in the park together! Join your neighbors every Thursday\,  Friday\, or Saturday morning for a healthy and empowering stroll on the Tacony Creek Park trail. \nOn Thursdays\, we meet from 10:00am–11:00am at the Rising Sun Avenue Bridge over Tacony Creek (near Rising Sun and Chew Ave). All are welcome to join us for this free walking group. \nThe trail is a paved\, fairly flat Circuit Trail; all ages and abilities are encouraged to join us. All programs follow Philadelphia Covid guidelines. \nRegister Here to join! \nIf you have any questions\, email TCPwalkers@gmail.com or call 215.744.1853
URL:https://gridphilly.com/event/walk-with-me-26/
LOCATION:Rising Sun Avenue Bridge over Tacony Creek\, Rising Sun Ave Gateway\, Philadelphia\, PA\, 19120\, United States
CATEGORIES:Nature Walks,Tacony Creek Park Events,Walking Group
ATTACH;FMTTYPE=image/png:https://gridphilly.com/wp-content/uploads/2025/01/TTF_Run-With-Me_Flyer-kwydP4.tmp_.png
ORGANIZER;CN="TTF Watershed Partnership":MAILTO:info@ttfwatershed.org
END:VEVENT
BEGIN:VEVENT
DTSTART;TZID=America/New_York:20250130T100000
DTEND;TZID=America/New_York:20250130T110000
DTSTAMP:20260422T044049
CREATED:20250116T204419Z
LAST-MODIFIED:20250116T204419Z
UID:10016784-1738231200-1738234800@gridphilly.com
SUMMARY:Walk with Me
DESCRIPTION:Let’s take a healthy stroll in the park together! Join your neighbors every Thursday\,  Friday\, or Saturday morning for a healthy and empowering stroll on the Tacony Creek Park trail. \nOn Thursdays\, we meet from 10:00am–11:00am at the Rising Sun Avenue Bridge over Tacony Creek (near Rising Sun and Chew Ave). All are welcome to join us for this free walking group. \nThe trail is a paved\, fairly flat Circuit Trail; all ages and abilities are encouraged to join us. All programs follow Philadelphia Covid guidelines. \nRegister Here to join! \nIf you have any questions\, email TCPwalkers@gmail.com or call 215.744.1853
URL:https://gridphilly.com/event/walk-with-me-25/
LOCATION:Rising Sun Avenue Bridge over Tacony Creek\, Rising Sun Ave Gateway\, Philadelphia\, PA\, 19120\, United States
CATEGORIES:Nature Walks,Tacony Creek Park Events,Walking Group
ATTACH;FMTTYPE=image/png:https://gridphilly.com/wp-content/uploads/2025/01/TTF_Run-With-Me_Flyer-kwydP4.tmp_.png
ORGANIZER;CN="TTF Watershed Partnership":MAILTO:info@ttfwatershed.org
END:VEVENT
BEGIN:VEVENT
DTSTART;TZID=America/New_York:20241226T100000
DTEND;TZID=America/New_York:20241226T110000
DTSTAMP:20260422T044049
CREATED:20241216T150712Z
LAST-MODIFIED:20241216T153849Z
UID:10016034-1735207200-1735210800@gridphilly.com
SUMMARY:Walk with Me
DESCRIPTION:Let’s take a healthy stroll in the park together! Join your neighbors every Thursday\,  Friday\, or Saturday morning for a healthy and empowering stroll on the Tacony Creek Park trail. \nOn Thursdays\, we meet from 10:00am–11:00am at the Rising Sun Avenue Bridge over Tacony Creek (near Rising Sun and Chew Ave). All are welcome to join us for this free walking group. \nThe trail is a paved\, fairly flat Circuit Trail; all ages and abilities are encouraged to join us. All programs follow Philadelphia Covid guidelines. \nRegister Here to join! \nIf you have any questions\, email TCPwalkers@gmail.com or call 215.744.1853
URL:https://gridphilly.com/event/walk-with-me-24/
LOCATION:Rising Sun Avenue Bridge over Tacony Creek\, Rising Sun Ave Gateway\, Philadelphia\, PA\, 19120\, United States
CATEGORIES:Nature Walks,Tacony Creek Park Events,Walking Group
ATTACH;FMTTYPE=image/jpeg:https://gridphilly.com/wp-content/uploads/2024/07/Walk-with-Me-Flyer-2_21_24-English-G0oKBI.tmp_.jpg
ORGANIZER;CN="TTF Watershed Partnership":MAILTO:info@ttfwatershed.org
END:VEVENT
END:VCALENDAR