BEGIN:VCALENDAR
VERSION:2.0
PRODID:-//Grid Magazine - ECPv6.15.20//NONSGML v1.0//EN
CALSCALE:GREGORIAN
METHOD:PUBLISH
X-ORIGINAL-URL:https://gridphilly.com
X-WR-CALDESC:Events for Grid Magazine
REFRESH-INTERVAL;VALUE=DURATION:PT1H
X-Robots-Tag:noindex
X-PUBLISHED-TTL:PT1H
BEGIN:VTIMEZONE
TZID:America/New_York
BEGIN:DAYLIGHT
TZOFFSETFROM:-0500
TZOFFSETTO:-0400
TZNAME:EDT
DTSTART:20240310T070000
END:DAYLIGHT
BEGIN:STANDARD
TZOFFSETFROM:-0400
TZOFFSETTO:-0500
TZNAME:EST
DTSTART:20241103T060000
END:STANDARD
BEGIN:DAYLIGHT
TZOFFSETFROM:-0500
TZOFFSETTO:-0400
TZNAME:EDT
DTSTART:20250309T070000
END:DAYLIGHT
BEGIN:STANDARD
TZOFFSETFROM:-0400
TZOFFSETTO:-0500
TZNAME:EST
DTSTART:20251102T060000
END:STANDARD
BEGIN:DAYLIGHT
TZOFFSETFROM:-0500
TZOFFSETTO:-0400
TZNAME:EDT
DTSTART:20260308T070000
END:DAYLIGHT
BEGIN:STANDARD
TZOFFSETFROM:-0400
TZOFFSETTO:-0500
TZNAME:EST
DTSTART:20261101T060000
END:STANDARD
END:VTIMEZONE
BEGIN:VEVENT
DTSTART;TZID=America/New_York:20251130T133000
DTEND;TZID=America/New_York:20251130T153000
DTSTAMP:20260421T062230
CREATED:20251124T011154Z
LAST-MODIFIED:20251124T011154Z
UID:10025089-1764509400-1764516600@gridphilly.com
SUMMARY:The Closet Collective: An Elevated Closet Swap
DESCRIPTION:Get ready to swap your gently used clothes and accessories with fellow fashionistas at The Closet Collective: An Elevated Closet Swap!\n\n\nThe Closet Collective: An Elevated Closet Swap Hosted by ERA BY ERA LLC \nCome join us for The Closet Collective: An Elevated Closet Swap event! A refreshingly real and elevated twist on the traditional clothing swap: \nThis is a closet swap meets feel-good girls brunch! a cozy\, intimate event where you can trade pieces you’re ready to release and walk away with new ones that fit who you are now. Think mimosas\, espresso martinis\, and that “shopping” with your besties energy! \n✨ Bring 3-5 gently loved(no stains\, holes\, current) pieces that no longer serve you \n✨ Sip\, snack\, and swap in a cozy\, welcoming environment \n✨ Enjoy intention-filled stations like: \n \n\nCloset Affirmations to shift your mindset\ncreative expression\nStyle Journaling to reconnect with your wardrobe identity\n**More stations to come\, Stay tuned!\n\n \nThis event is about expression\, confidence\, and releasing what no longer serves you. Come as you are\, leave with pieces (and energy) that align with who you’re becoming! \n \n \nA note from your host: \nTo me\, fashion is more than aesthetics; it’s about freedom\, creativity\, and dressing without limits. \nThrough upcycling\, sustainable practices\, and secondhand fashion\, we cultivate a sense of belonging. There’s beauty in imperfection and courage in showing up exactly as we are. When we release the need for perfection\, we create space for authenticity\, for being unapologetically ourselves\, for making mistakes\, and for growing through them. My hope is to build a space where anyone and everyone feels like they belong and to inspire you to carry that same energy out into the world. \nThis work is grounded in creativity\, vulnerability\, and a belief that our clothes can be a bridge\, connecting us more deeply to ourselves and to one another. \nAbove all\, I believe that everyone has a story\, a style\, and an era. That means valuing every person’s story\, every style journey\, and every era they’re in because we rise by lifting others. \nxoxo\, Emily Robin Adalbert (Era)
URL:https://gridphilly.com/event/the-closet-collective-an-elevated-closet-swap/
LOCATION:Radiant Heart Yoga & Wellness Center\, 2725 West Chester Pike\, Broomall\, PA\, 19008\, United States
ATTACH;FMTTYPE=image/jpeg:https://gridphilly.com/wp-content/uploads/2025/11/542459cf2f4997b6f3bad895b421bdda.jpg
END:VEVENT
END:VCALENDAR