BEGIN:VCALENDAR
VERSION:2.0
PRODID:-//Grid Magazine - ECPv6.15.20//NONSGML v1.0//EN
CALSCALE:GREGORIAN
METHOD:PUBLISH
X-ORIGINAL-URL:https://gridphilly.com
X-WR-CALDESC:Events for Grid Magazine
REFRESH-INTERVAL;VALUE=DURATION:PT1H
X-Robots-Tag:noindex
X-PUBLISHED-TTL:PT1H
BEGIN:VTIMEZONE
TZID:America/New_York
BEGIN:DAYLIGHT
TZOFFSETFROM:-0500
TZOFFSETTO:-0400
TZNAME:EDT
DTSTART:20230312T070000
END:DAYLIGHT
BEGIN:STANDARD
TZOFFSETFROM:-0400
TZOFFSETTO:-0500
TZNAME:EST
DTSTART:20231105T060000
END:STANDARD
BEGIN:DAYLIGHT
TZOFFSETFROM:-0500
TZOFFSETTO:-0400
TZNAME:EDT
DTSTART:20240310T070000
END:DAYLIGHT
BEGIN:STANDARD
TZOFFSETFROM:-0400
TZOFFSETTO:-0500
TZNAME:EST
DTSTART:20241103T060000
END:STANDARD
BEGIN:DAYLIGHT
TZOFFSETFROM:-0500
TZOFFSETTO:-0400
TZNAME:EDT
DTSTART:20250309T070000
END:DAYLIGHT
BEGIN:STANDARD
TZOFFSETFROM:-0400
TZOFFSETTO:-0500
TZNAME:EST
DTSTART:20251102T060000
END:STANDARD
BEGIN:DAYLIGHT
TZOFFSETFROM:-0500
TZOFFSETTO:-0400
TZNAME:EDT
DTSTART:20260308T070000
END:DAYLIGHT
BEGIN:STANDARD
TZOFFSETFROM:-0400
TZOFFSETTO:-0500
TZNAME:EST
DTSTART:20261101T060000
END:STANDARD
BEGIN:DAYLIGHT
TZOFFSETFROM:-0500
TZOFFSETTO:-0400
TZNAME:EDT
DTSTART:20270314T070000
END:DAYLIGHT
BEGIN:STANDARD
TZOFFSETFROM:-0400
TZOFFSETTO:-0500
TZNAME:EST
DTSTART:20271107T060000
END:STANDARD
END:VTIMEZONE
BEGIN:VEVENT
DTSTART;TZID=America/New_York:20260408T183000
DTEND;TZID=America/New_York:20260408T203000
DTSTAMP:20260419T220852
CREATED:20260329T222144Z
LAST-MODIFIED:20260329T222200Z
UID:10030581-1775673000-1775680200@gridphilly.com
SUMMARY:Poetry Writing Monthly Workshop
DESCRIPTION:Join Krystle for a two hour poetry workshop that will include reviews\, styles\, prompts and\ngroup activities!\n\n\nPlease join Krystle Griffin at Philly Typewriter for her monthly two hour long poetry workshop. Open to all skill levels as it will include a variety of reviews\, styles\, prompts and group activity. The only thing required to bring is yourself as materials will be provided. However\, feel free to bring any personal materials you want from home. The goal of this workshop is to both help understand poetry a little more and to have you leave inspired. Krystle would love for everyone to leave with material to go home and write with! \nThis monthly event serves as a way to keep learning\, growing\, working on your craft and providing feedback and community. Krystle is also always open to emails for feedback. Feel free to talk to her after the workshop to do so. \nAbout Krystle Griffin: \nKrystle is a poet who resides in South Philadelphia. Her work can be seen in publications like Meow Meow Pow Pow\, Bring a Blanket\, and New Plains Review. She is a Masthead on a couple publications\, a panelist for the Sandy Crimmins Poetry Contest and runs her own small zine\, Le Grif & The Exploits. \nThe specifics: Donations are accepted and appreciated but not required\, suggested $5 donation can be paid day of but please register if you are attending so we know there is enough space for everyone. If you don’t have a chance to register\, please come by anyway! \nAbout the Location: \nThis workshop will be held at Philly Typewriter at 1735 East Passyunk Ave. Philly Typewriter is as if you took a step into another time. They work simultaneously as engineers and historians to perform comprehensive typewriter restorations. From specialized deep cleaning to custom fabrication of rubber components\, Philly Typewriter takes special care to remedy the problems that come from these elegant machines sitting idle for decades. Whether you’re searching for a place to bring your typewriter back to life or looking to buy your first machine\, the proud folks at Philly Typewriter say that you needn’t look any further than Philly Typewriter. \nAbout Pricing: The Craft Coven understands the growing need for creative activities for adults\, especially  in this current climate. Pricing for this event is sliding scale- meaning that you can choose the price you can afford. The suggested cost is still a discounted rate since our instructors are all volunteers. If you’d like to contribute to this ongoing cause considering becoming a donating member HERE
URL:https://gridphilly.com/event/poetry-writing-monthly-workshop-7/
LOCATION:Philly Typewriter\, 1735 East Passyunk Avenue\, Philadelphia\, PA\, 19148\, United States
ATTACH;FMTTYPE=image/jpeg:https://gridphilly.com/wp-content/uploads/2024/12/8c8d4fceeaa3d7a40ca740cce6a241c3.jpg
END:VEVENT
BEGIN:VEVENT
DTSTART;TZID=America/New_York:20260114T183000
DTEND;TZID=America/New_York:20260114T203000
DTSTAMP:20260419T220852
CREATED:20260112T151720Z
LAST-MODIFIED:20260112T151720Z
UID:10028298-1768415400-1768422600@gridphilly.com
SUMMARY:Poetry Writing Monthly Workshop
DESCRIPTION:Join Krystle for a two hour poetry workshop that will include reviews\, styles\, prompts and\ngroup activities!\n\n\nPlease join Krystle Griffin at Philly Typewriter for her monthly two hour long poetry workshop. Open to all skill levels as it will include a variety of reviews\, styles\, prompts and group activity. The only thing required to bring is yourself as materials will be provided. However\, feel free to bring any personal materials you want from home. The goal of this workshop is to both help understand poetry a little more and to have you leave inspired. Krystle would love for everyone to leave with material to go home and write with! \nThis monthly event serves as a way to keep learning\, growing\, working on your craft and providing feedback and community. Krystle is also always open to emails for feedback. Feel free to talk to her after the workshop to do so. \nAbout Krystle Griffin: \nKrystle is a poet who resides in South Philadelphia. Her work can be seen in publications like Meow Meow Pow Pow\, Bring a Blanket\, and New Plains Review. She is a Masthead on a couple publications\, a panelist for the Sandy Crimmins Poetry Contest and runs her own small zine\, Le Grif & The Exploits. \nThe specifics: Donations are accepted and appreciated but not required\, suggested $5 donation can be paid day of but please register if you are attending so we know there is enough space for everyone. If you don’t have a chance to register\, please come by anyway! \nAbout the Location: \nThis workshop will be held at Philly Typewriter at 1735 East Passyunk Ave. Philly Typewriter is as if you took a step into another time. They work simultaneously as engineers and historians to perform comprehensive typewriter restorations. From specialized deep cleaning to custom fabrication of rubber components\, Philly Typewriter takes special care to remedy the problems that come from these elegant machines sitting idle for decades. Whether you’re searching for a place to bring your typewriter back to life or looking to buy your first machine\, the proud folks at Philly Typewriter say that you needn’t look any further than Philly Typewriter. \nOrganized by The Craft Coven\, this event is part of a community oriented series of creative enrichment projects focused on affordability for all. For more information on the group’s missions and to get involved more widely check out https://TheCraftCoven.org and become a Member for all the inside opportunities and classes.
URL:https://gridphilly.com/event/poetry-writing-monthly-workshop-6/
LOCATION:Philly Typewriter\, 1735 East Passyunk Avenue\, Philadelphia\, PA\, 19148\, United States
ATTACH;FMTTYPE=image/jpeg:https://gridphilly.com/wp-content/uploads/2024/12/8c8d4fceeaa3d7a40ca740cce6a241c3.jpg
END:VEVENT
BEGIN:VEVENT
DTSTART;TZID=America/New_York:20250910T183000
DTEND;TZID=America/New_York:20250910T203000
DTSTAMP:20260419T220852
CREATED:20250905T145058Z
LAST-MODIFIED:20250905T145058Z
UID:10021367-1757529000-1757536200@gridphilly.com
SUMMARY:Poetry Writing Monthly Workshop
DESCRIPTION:Join Krystle for a two hour poetry workshop that will include reviews\, styles\, prompts and\ngroup activities!\n\n\nPlease join Krystle Griffin at Philly Typewriter for her monthly two hour long poetry workshop. Open to all skill levels as it will include a variety of reviews\, styles\, prompts and group activity. The only thing required to bring is yourself as materials will be provided. However\, feel free to bring any personal materials you want from home. The goal of this workshop is to both help understand poetry a little more and to have you leave inspired. Krystle would love for everyone to leave with material to go home and write with! \nThis monthly event serves as a way to keep learning\, growing\, working on your craft and providing feedback and community. Krystle is also always open to emails for feedback. Feel free to talk to her after the workshop to do so. \nAbout Krystle Griffin: \nKrystle is a poet who resides in South Philadelphia. Her work can be seen in publications like Meow Meow Pow Pow\, Bring a Blanket\, and New Plains Review. She is a Masthead on a couple publications\, a panelist for the Sandy Crimmins Poetry Contest and runs her own small zine\, Le Grif & The Exploits. \nThe specifics: Donations are accepted and appreciated but not required\, suggested $5 donation can be paid day of but please register if you are attending so we know there is enough space for everyone. If you don’t have a chance to register\, please come by anyway! \nAbout the Location: \nThis workshop will be held at Philly Typewriter at 1735 East Passyunk Ave. Philly Typewriter is as if you took a step into another time. They work simultaneously as engineers and historians to perform comprehensive typewriter restorations. From specialized deep cleaning to custom fabrication of rubber components\, Philly Typewriter takes special care to remedy the problems that come from these elegant machines sitting idle for decades. Whether you’re searching for a place to bring your typewriter back to life or looking to buy your first machine\, the proud folks at Philly Typewriter say that you needn’t look any further than Philly Typewriter. \nOrganized by The Craft Coven\, this event is part of a community oriented series of creative enrichment projects focused on affordability for all. For more information on the group’s missions and to get involved more widely check out https://TheCraftCoven.org and become a Member for all the inside opportunities and classes.
URL:https://gridphilly.com/event/poetry-writing-monthly-workshop-5/
LOCATION:Philly Typewriter\, 1735 East Passyunk Avenue\, Philadelphia\, PA\, 19148\, United States
ATTACH;FMTTYPE=image/jpeg:https://gridphilly.com/wp-content/uploads/2024/12/8c8d4fceeaa3d7a40ca740cce6a241c3.jpg
END:VEVENT
BEGIN:VEVENT
DTSTART;TZID=America/New_York:20250611T183000
DTEND;TZID=America/New_York:20250611T203000
DTSTAMP:20260419T220852
CREATED:20250606T202628Z
LAST-MODIFIED:20250606T202628Z
UID:10019342-1749666600-1749673800@gridphilly.com
SUMMARY:Poetry Writing Monthly Workshop
DESCRIPTION:Join Krystle for a two hour poetry workshop that will include reviews\, styles\, prompts and\ngroup activities!\n\n\nPlease join Krystle Griffin at Philly Typewriter for her monthly two hour long poetry workshop. Open to all skill levels as it will include a variety of reviews\, styles\, prompts and group activity. The only thing required to bring is yourself as materials will be provided. However\, feel free to bring any personal materials you want from home. The goal of this workshop is to both help understand poetry a little more and to have you leave inspired. Krystle would love for everyone to leave with material to go home and write with! \nThis monthly event serves as a way to keep learning\, growing\, working on your craft and providing feedback and community. Krystle is also always open to emails for feedback. Feel free to talk to her after the workshop to do so. \nAbout Krystle Griffin: \nKrystle is a poet who resides in South Philadelphia. Her work can be seen in publications like Meow Meow Pow Pow\, Bring a Blanket\, and New Plains Review. She is a Masthead on a couple publications\, a panelist for the Sandy Crimmins Poetry Contest and runs her own small zine\, Le Grif & The Exploits. \nThe specifics: Donations are accepted and appreciated but not required\, suggested $5 donation can be paid day of but please register if you are attending so we know there is enough space for everyone. If you don’t have a chance to register\, please come by anyway! \nAbout the Location: \nThis workshop will be held at Philly Typewriter at 1735 East Passyunk Ave. Philly Typewriter is as if you took a step into another time. They work simultaneously as engineers and historians to perform comprehensive typewriter restorations. From specialized deep cleaning to custom fabrication of rubber components\, Philly Typewriter takes special care to remedy the problems that come from these elegant machines sitting idle for decades. Whether you’re searching for a place to bring your typewriter back to life or looking to buy your first machine\, the proud folks at Philly Typewriter say that you needn’t look any further than Philly Typewriter. \nOrganized by The Craft Coven\, this event is part of a community oriented series of creative enrichment projects focused on affordability for all. For more information on the group’s missions and to get involved more widely check out https://TheCraftCoven.org and become a Member for all the inside opportunities and classes.
URL:https://gridphilly.com/event/poetry-writing-monthly-workshop-4/
LOCATION:Philly Typewriter\, 1735 East Passyunk Avenue\, Philadelphia\, PA\, 19148\, United States
ATTACH;FMTTYPE=image/jpeg:https://gridphilly.com/wp-content/uploads/2024/12/8c8d4fceeaa3d7a40ca740cce6a241c3.jpg
END:VEVENT
BEGIN:VEVENT
DTSTART;TZID=America/New_York:20250108T183000
DTEND;TZID=America/New_York:20250108T203000
DTSTAMP:20260419T220852
CREATED:20250101T192816Z
LAST-MODIFIED:20250101T192816Z
UID:10016255-1736361000-1736368200@gridphilly.com
SUMMARY:Poetry Writing Monthly Workshop
DESCRIPTION:Join Krystle for a two hour poetry workshop that will include reviews\, styles\, prompts and\ngroup activities!\n\n\nPlease join Krystle Griffin at Philly Typewriter for her monthly two hour long poetry workshop. Open to all skill levels as it will include a variety of reviews\, styles\, prompts and group activity. The only thing required to bring is yourself as materials will be provided. However\, feel free to bring any personal materials you want from home. The goal of this workshop is to both help understand poetry a little more and to have you leave inspired. Krystle would love for everyone to leave with material to go home and write with! \nThis monthly event serves as a way to keep learning\, growing\, working on your craft and providing feedback and community. Krystle is also always open to emails for feedback. Feel free to talk to her after the workshop to do so. \nAbout Krystle Griffin: \nKrystle is a poet who resides in South Philadelphia. Her work can be seen in publications like Meow Meow Pow Pow\, Bring a Blanket\, and New Plains Review. She is a Masthead on a couple publications\, a panelist for the Sandy Crimmins Poetry Contest and runs her own small zine\, Le Grif & The Exploits. \nThe specifics: Donations are accepted and appreciated but not required\, suggested $5 donation can be paid day of but please register if you are attending so we know there is enough space for everyone. If you don’t have a chance to register\, please come by anyway! \nAbout the Location: \nThis workshop will be held at Philly Typewriter at 1735 East Passyunk Ave. Philly Typewriter is as if you took a step into another time. They work simultaneously as engineers and historians to perform comprehensive typewriter restorations. From specialized deep cleaning to custom fabrication of rubber components\, Philly Typewriter takes special care to remedy the problems that come from these elegant machines sitting idle for decades. Whether you’re searching for a place to bring your typewriter back to life or looking to buy your first machine\, the proud folks at Philly Typewriter say that you needn’t look any further than Philly Typewriter. \nOrganized by The Craft Coven\, this event is part of a community oriented series of creative enrichment projects focused on affordability for all. For more information on the group’s missions and to get involved more widely check out https://TheCraftCoven.org and become a Member for all the inside opportunities and classes.
URL:https://gridphilly.com/event/poetry-writing-monthly-workshop-3/
LOCATION:Philly Typewriter\, 1735 East Passyunk Avenue\, Philadelphia\, PA\, 19148\, United States
ATTACH;FMTTYPE=image/jpeg:https://gridphilly.com/wp-content/uploads/2024/12/8c8d4fceeaa3d7a40ca740cce6a241c3.jpg
END:VEVENT
BEGIN:VEVENT
DTSTART;TZID=America/New_York:20241211T183000
DTEND;TZID=America/New_York:20241211T203000
DTSTAMP:20260419T220852
CREATED:20241206T200830Z
LAST-MODIFIED:20241206T213130Z
UID:10015964-1733941800-1733949000@gridphilly.com
SUMMARY:Poetry Writing Monthly Workshop
DESCRIPTION:Join Krystle for a two hour poetry workshop that will include reviews\, styles\, prompts and\ngroup activities!\n\n\nPlease join Krystle Griffin at Philly Typewriter for her monthly two hour long poetry workshop. Open to all skill levels as it will include a variety of reviews\, styles\, prompts and group activity. The only thing required to bring is yourself as materials will be provided. However\, feel free to bring any personal materials you want from home. The goal of this workshop is to both help understand poetry a little more and to have you leave inspired. Krystle would love for everyone to leave with material to go home and write with! \nThis monthly event serves as a way to keep learning\, growing\, working on your craft and providing feedback and community. Krystle is also always open to emails for feedback. Feel free to talk to her after the workshop to do so. \nAbout Krystle Griffin: \nKrystle is a poet who resides in South Philadelphia. Her work can be seen in publications like Meow Meow Pow Pow\, Bring a Blanket\, and New Plains Review. She is a Masthead on a couple publications\, a panelist for the Sandy Crimmins Poetry Contest and runs her own small zine\, Le Grif & The Exploits. \nThe specifics: Donations are accepted and appreciated but not required\, suggested $5 donation can be paid day of but please register if you are attending so we know there is enough space for everyone. If you don’t have a chance to register\, please come by anyway! \nAbout the Location: \nThis workshop will be held at Philly Typewriter at 1735 East Passyunk Ave. Philly Typewriter is as if you took a step into another time. They work simultaneously as engineers and historians to perform comprehensive typewriter restorations. From specialized deep cleaning to custom fabrication of rubber components\, Philly Typewriter takes special care to remedy the problems that come from these elegant machines sitting idle for decades. Whether you’re searching for a place to bring your typewriter back to life or looking to buy your first machine\, the proud folks at Philly Typewriter say that you needn’t look any further than Philly Typewriter. \nOrganized by The Craft Coven\, this event is part of a community oriented series of creative enrichment projects focused on affordability for all. For more information on the group’s missions and to get involved more widely check out https://TheCraftCoven.org and become a Member for all the inside opportunities and classes.
URL:https://gridphilly.com/event/poetry-writing-monthly-workshop-2/
LOCATION:Philly Typewriter\, 1735 East Passyunk Avenue\, Philadelphia\, PA\, 19148\, United States
ATTACH;FMTTYPE=image/jpeg:https://gridphilly.com/wp-content/uploads/2024/12/8c8d4fceeaa3d7a40ca740cce6a241c3.jpg
END:VEVENT
END:VCALENDAR