BEGIN:VCALENDAR
VERSION:2.0
PRODID:-//Grid Magazine - ECPv6.15.20//NONSGML v1.0//EN
CALSCALE:GREGORIAN
METHOD:PUBLISH
X-ORIGINAL-URL:https://gridphilly.com
X-WR-CALDESC:Events for Grid Magazine
REFRESH-INTERVAL;VALUE=DURATION:PT1H
X-Robots-Tag:noindex
X-PUBLISHED-TTL:PT1H
BEGIN:VTIMEZONE
TZID:America/New_York
BEGIN:DAYLIGHT
TZOFFSETFROM:-0500
TZOFFSETTO:-0400
TZNAME:EDT
DTSTART:20250309T070000
END:DAYLIGHT
BEGIN:STANDARD
TZOFFSETFROM:-0400
TZOFFSETTO:-0500
TZNAME:EST
DTSTART:20251102T060000
END:STANDARD
BEGIN:DAYLIGHT
TZOFFSETFROM:-0500
TZOFFSETTO:-0400
TZNAME:EDT
DTSTART:20260308T070000
END:DAYLIGHT
BEGIN:STANDARD
TZOFFSETFROM:-0400
TZOFFSETTO:-0500
TZNAME:EST
DTSTART:20261101T060000
END:STANDARD
BEGIN:DAYLIGHT
TZOFFSETFROM:-0500
TZOFFSETTO:-0400
TZNAME:EDT
DTSTART:20270314T070000
END:DAYLIGHT
BEGIN:STANDARD
TZOFFSETFROM:-0400
TZOFFSETTO:-0500
TZNAME:EST
DTSTART:20271107T060000
END:STANDARD
END:VTIMEZONE
BEGIN:VEVENT
DTSTART;TZID=America/New_York:20260803T090000
DTEND;TZID=America/New_York:20260807T150000
DTSTAMP:20260420T022756
CREATED:20260419T020449Z
LAST-MODIFIED:20260419T020449Z
UID:10032385-1785747600-1786114800@gridphilly.com
SUMMARY:Teen Adventure Camp 2026
DESCRIPTION:Calling Teen Adventurers!  Come out on adventures away from the center and out into the trees\, creeks\, courses\, and more!\n\n\nTeen Adventure Camp expands teens adventures beyond Pennypack to climbing mountain tops\, kayaking along lakes\, geocaching through new forests\, hitting their target\, soring through the tree tops\, meeting new animal and human friends\, and much\, much more. \nAll adventures will begin and end at Pennypack. Full-time staff will drive the team in City issued vans. Because of this\, space for this camp is extremely limited. \nTeens can join one\, some\, or all adventures. \nAges 13-17Prices vary per adventure. \nWe also have a Teen Advisory Council that is during the school year for teens that are interested in environmental leadership. Those teens that demonstrate involvement\, interest\, and leadership often are hired for summer work through the C2L2 Program. For questions or more information email PEC@phila.gov. \nDates: Monday\, August 3-7\, 2025 \nAges: Teens 13-17 years \nTime: 9 a.m.-3 p.m. \nLocation: Begins & Ends at Pennypack Environmental Center \nLunch: Campers should bring their own lunch\, and snacks. \nRegistration: For information\, call 215-685-0470 or email PEC@phila.gov. Spaces are extremely limited for maximum adventures\, so register early. \nRegister on eventbrite\, then pay with a card(fees will apply)\, or choose “Check” pay by check or cash without fees. Payments must be recieved within 5 days of registration. All payments are non-refundable. \nNOTE: SPACES ARE RESERVED WHEN WE RECEIVE YOUR CHECK AND YOU RECEIVE A CONFIRMATION LETTER. \nCamp Instructors: Classes are taught by park staff and guest educators from other professional organizations. \n \nMonday 8/3 Disc Golf at Fort Washington  | $20/Teen \n\n500 South Bethlehem Pike 19034\nhttps://www.pa.gov/agencies/dcnr/recreation/where-to-go/state-parks/find-a-park/fort-washington-state-park\n\n \nTuesday 8/4 | Mini Golf & City Adventures at Franklin Square | $20/Teen \n\nPutt through some of the city’s most famous icons.\n200 N. 6th Street 19106 | https://linktr.ee/franklinsquarephilly\nVisit the Philadelphia Chinese Lantern Festival. \nComplete a scavenger hunt to win a free carousel ride.\n\n \nWednesday 8/5 | Ghost Tour at Fort Mifflin on the Delaware \n\n6400 Hog Island Rd 19153 | https://www.fortmifflin.us\nSPIRIT OF HISTORY (Plus Canon Firing)| History Lives at Fort Mifflin\, but do ghosts live here too?  Take a guided tour through the Fort’s history\, learning the spookier aspects of the Fort’s history and the spirits who may inhabit it. Students will also participate in a workshop\, where they will be introduced to some of the equipment and techniques used by paranormal investigators.  Come during the day or visit the Fort during twilight hours for a field trip unlike any other.\n\n \nThursday 8/6 | Archery at John Hienz | $20/Teen \n\n8601 Lindbergh Blvd 19153 | https://www.fws.gov/refuge/john-heinz-tinicum\nSchedule:\n9:15 a.m.- Leave Center\n10:00am – 10:30am – Introduction\, Welcome\, Restrooms – Ranger Led \n10:30am – 12:00pm – Archery – PPR\, PGC\, JHNWR staff \n12:00pm – 12:30pm – Lunch in Lunchroom \n12:30pm – 1:45pm – Self Guided Hiking \n1:45pm – 2:00pm – Depart for Center\n\n \nFriday 8/7 | Climbing Course at  Hellerick Aerial Adventure Park | $50/Teen \n\nAerial Adventure Park and Silo Climbing Wall\n1.5 hours in the Park and can do as much or as little as they want and also have 30 minutes of climbing on the wall. \nhttps://hellericksfarm.com/aerial-adventure-on-hellericks-ropes-course\n\n \n \nSubject to change.
URL:https://gridphilly.com/event/teen-adventure-camp-2026/
LOCATION:Pennypack Environmental Center\, 8600A Verree Road\, Philadelphia\, PA\, 19115\, United States
ATTACH;FMTTYPE=image/jpeg:https://gridphilly.com/wp-content/uploads/2024/06/bbc57fcec9daded7f857347f68ce924f.jpg
END:VEVENT
END:VCALENDAR