BEGIN:VCALENDAR
VERSION:2.0
PRODID:-//Grid Magazine - ECPv6.15.20//NONSGML v1.0//EN
CALSCALE:GREGORIAN
METHOD:PUBLISH
X-ORIGINAL-URL:https://gridphilly.com
X-WR-CALDESC:Events for Grid Magazine
REFRESH-INTERVAL;VALUE=DURATION:PT1H
X-Robots-Tag:noindex
X-PUBLISHED-TTL:PT1H
BEGIN:VTIMEZONE
TZID:America/New_York
BEGIN:DAYLIGHT
TZOFFSETFROM:-0500
TZOFFSETTO:-0400
TZNAME:EDT
DTSTART:20230312T070000
END:DAYLIGHT
BEGIN:STANDARD
TZOFFSETFROM:-0400
TZOFFSETTO:-0500
TZNAME:EST
DTSTART:20231105T060000
END:STANDARD
BEGIN:DAYLIGHT
TZOFFSETFROM:-0500
TZOFFSETTO:-0400
TZNAME:EDT
DTSTART:20240310T070000
END:DAYLIGHT
BEGIN:STANDARD
TZOFFSETFROM:-0400
TZOFFSETTO:-0500
TZNAME:EST
DTSTART:20241103T060000
END:STANDARD
BEGIN:DAYLIGHT
TZOFFSETFROM:-0500
TZOFFSETTO:-0400
TZNAME:EDT
DTSTART:20250309T070000
END:DAYLIGHT
BEGIN:STANDARD
TZOFFSETFROM:-0400
TZOFFSETTO:-0500
TZNAME:EST
DTSTART:20251102T060000
END:STANDARD
BEGIN:DAYLIGHT
TZOFFSETFROM:-0500
TZOFFSETTO:-0400
TZNAME:EDT
DTSTART:20260308T070000
END:DAYLIGHT
BEGIN:STANDARD
TZOFFSETFROM:-0400
TZOFFSETTO:-0500
TZNAME:EST
DTSTART:20261101T060000
END:STANDARD
END:VTIMEZONE
BEGIN:VEVENT
DTSTART;TZID=America/New_York:20250604T180000
DTEND;TZID=America/New_York:20250604T200000
DTSTAMP:20260421T152828
CREATED:20250523T192240Z
LAST-MODIFIED:20250523T192240Z
UID:10019095-1749060000-1749067200@gridphilly.com
SUMMARY:Human Scale Opening Reception
DESCRIPTION:Join us for the opening reception of “Human Scale” with a walkthrough of the exhibition accompanied by the artists.\n\n\nAbout the reception: \nJoin us for the opening reception for Human Scale a group exhibition at Park Towne Place Museum District Residences\, located within walking distance of The Barnes and the Philadelphia Museum of Art. \nThe reception will begin in the North Tower Gallery and commence with a walkthrough of the three galleries\, where you will have an opportunity to hear remarks from the artists. The event will feature catering by Felicia Wilson\, a celebrated restaurateur known for her establishments Amina\, Black Hen Philly\, and its latest addition\, AVANA\, at Park Towne Place. \n \nFolding Space \nFeaturing: David Beker\, Anna Guarneri\, Janos Korodi\, Allen Spencer and Deb Imler\, Krista Svalbonas \nPark Towne Place\, 2200 Benjamin Franklin Parkway \nOn view: 05/31/2025 – 10/13/2025 (please contact programming@inliquid.org to schedule viewing appointments) \n \nAbout the exhibition: \nIn Human Scale\, artists explore how they perceive and engage with the carefully designed structures that shape our built environment. From examining the formal elements of architecture to uncovering the histories embedded in buildings\, five artists find inspiration in edifices—industrial\, residential\, and commercial alike—drawing from their beauty\, functionality\, and cultural significance.
URL:https://gridphilly.com/event/human-scale-opening-reception/
LOCATION:Park Towne Place – North Tower\, 2200 Benjamin Franklin Parkway\, Philadelphia\, PA\, 19130\, United States
ATTACH;FMTTYPE=image/jpeg:https://gridphilly.com/wp-content/uploads/2025/05/438eaf056849828c06121ee4d1e595e3.jpg
END:VEVENT
BEGIN:VEVENT
DTSTART;TZID=America/New_York:20241008T180000
DTEND;TZID=America/New_York:20241008T200000
DTSTAMP:20260421T152828
CREATED:20241007T151005Z
LAST-MODIFIED:20241007T151005Z
UID:10014930-1728410400-1728417600@gridphilly.com
SUMMARY:Brilliance in the Mundane Opening Reception
DESCRIPTION:Join us for the opening reception of “Brilliance in the Mundane” with a walkthrough of the exhibition accompanied by the artists.\n\n\nAbout the reception: \nJoin us for a reception for the group exhibition\, Brilliance in the Mundane\, at Park Towne Place. The reception will begin in the North Tower Gallery\, and commence with a walkthrough of the three galleries with an opportunity to hear remarks from the artists and enjoy hors d’oeuvres. \n \nBrilliance in the Mundane \nFeaturing: Kevin Broad\, Bruce Hoffman\, Sean Irwin\, Warren Muller\, Gerri Spilka  \nPark Towne Place\, 2200 Benjamin Franklin Parkway \nOn view: 09/27/2024 – 01/28/2025 (please contact programming@inliquid.org to schedule viewing appointments) \nPublic Reception: 10/08/2024\, 6 – 8 pm \n \nAbout the exhibition: \nBrilliance in the Mundane explores the extraordinary potential hidden within the everyday. This exhibition brings together the work of Kevin Broad\, Sean Irwin\, Bruce Hoffman\, Warren Muller\, and Gerri Spilka\, each artist transforming the ordinary through their unique engagement with light and color. Their art reveals how the commonplace can be elevated to reveal profound beauty and significance\, through craft and pushing the limits of their mediums. \nKevin Broad captures the subtle play of light and color in nature\, turning the Pennsylvania landscape into a vibrant canvas. Sean Irwin reimagines everyday materials and patterns\, uncovering hidden narratives through intricate sculptures and drawings. Bruce Hoffman finds elegance in discarded objects\, creating floral arrangements that celebrate beauty in decay. \nWarren Muller’s light sculptures breathe new life into recycled items\, imbuing them with playful energy and illumination\, while Gerri Spilka’s modern quilts transform ordinary cotton into striking visual stories. Together\, these artists demonstrate how brilliance can be discovered in the mundane\, encouraging viewers to find inspiration and wonder in the familiar.
URL:https://gridphilly.com/event/brilliance-in-the-mundane-opening-reception/
LOCATION:Park Towne Place – North Tower\, 2200 Benjamin Franklin Parkway\, Philadelphia\, PA\, 19130\, United States
ATTACH;FMTTYPE=image/jpeg:https://gridphilly.com/wp-content/uploads/2024/10/710697a440be20771193b763bf92ba2b.jpg
END:VEVENT
END:VCALENDAR