BEGIN:VCALENDAR
VERSION:2.0
PRODID:-//Grid Magazine - ECPv6.15.20//NONSGML v1.0//EN
CALSCALE:GREGORIAN
METHOD:PUBLISH
X-ORIGINAL-URL:https://gridphilly.com
X-WR-CALDESC:Events for Grid Magazine
REFRESH-INTERVAL;VALUE=DURATION:PT1H
X-Robots-Tag:noindex
X-PUBLISHED-TTL:PT1H
BEGIN:VTIMEZONE
TZID:America/New_York
BEGIN:DAYLIGHT
TZOFFSETFROM:-0500
TZOFFSETTO:-0400
TZNAME:EDT
DTSTART:20220313T070000
END:DAYLIGHT
BEGIN:STANDARD
TZOFFSETFROM:-0400
TZOFFSETTO:-0500
TZNAME:EST
DTSTART:20221106T060000
END:STANDARD
BEGIN:DAYLIGHT
TZOFFSETFROM:-0500
TZOFFSETTO:-0400
TZNAME:EDT
DTSTART:20230312T070000
END:DAYLIGHT
BEGIN:STANDARD
TZOFFSETFROM:-0400
TZOFFSETTO:-0500
TZNAME:EST
DTSTART:20231105T060000
END:STANDARD
BEGIN:DAYLIGHT
TZOFFSETFROM:-0500
TZOFFSETTO:-0400
TZNAME:EDT
DTSTART:20240310T070000
END:DAYLIGHT
BEGIN:STANDARD
TZOFFSETFROM:-0400
TZOFFSETTO:-0500
TZNAME:EST
DTSTART:20241103T060000
END:STANDARD
BEGIN:DAYLIGHT
TZOFFSETFROM:-0500
TZOFFSETTO:-0400
TZNAME:EDT
DTSTART:20250309T070000
END:DAYLIGHT
BEGIN:STANDARD
TZOFFSETFROM:-0400
TZOFFSETTO:-0500
TZNAME:EST
DTSTART:20251102T060000
END:STANDARD
BEGIN:DAYLIGHT
TZOFFSETFROM:-0500
TZOFFSETTO:-0400
TZNAME:EDT
DTSTART:20260308T070000
END:DAYLIGHT
BEGIN:STANDARD
TZOFFSETFROM:-0400
TZOFFSETTO:-0500
TZNAME:EST
DTSTART:20261101T060000
END:STANDARD
BEGIN:DAYLIGHT
TZOFFSETFROM:-0500
TZOFFSETTO:-0400
TZNAME:EDT
DTSTART:20270314T070000
END:DAYLIGHT
BEGIN:STANDARD
TZOFFSETFROM:-0400
TZOFFSETTO:-0500
TZNAME:EST
DTSTART:20271107T060000
END:STANDARD
END:VTIMEZONE
BEGIN:VEVENT
DTSTART;TZID=America/New_York:20260214T140000
DTEND;TZID=America/New_York:20260214T160000
DTSTAMP:20260421T050623
CREATED:20260211T203213Z
LAST-MODIFIED:20260211T203503Z
UID:10028925-1771077600-1771084800@gridphilly.com
SUMMARY:Lovers and Friends Sip & Sculpt: POTTERY WORKSHOP at OneArt!
DESCRIPTION:Immerse yourself in a relaxing atmosphere\, bring your favorite wine\, and learn hand-building techniques to sculpt something special!\n\n\n🌿 Ever wanted to create with clay ? Now’s your chance! Join us for a beginner-friendly\, hand-building clay workshop where you’ll learn the basics to sculpt something uniquely yours! This beginner-friendly hand-building workshop is designed to slow down\, get creative! \n🧱 What’s included:✔️ All clay + tools✔️ Step-by-step guidance✔️ A relaxed\, supportive atmosphere✔️ A one-of-a-kind creation made by you! \nLet’s sculpt something beautiful\, handmade with heart. 💕 \nBring your favorite wine or drink\, bring a friend\, bring a date\, or come solo and immerse yourself in a creative evening where we will guide you and teach you hand-building techniques to sculpt something special! Come get your hands dirty in the best way possible! Guests are encouraged to bring their own beverage of choice to this workshop! \n*Please note: we will be using self-hardening clay (no firing necessary) and will not hold large amounts of water (such a coffee mug) but can hold some water (like a succulent pot). Your work will take a minimum 24hrs to dry for participants to paint at their convenience. \nOptional items to bring with you to class: \n\nFavorite Wine/Tea/Beverage\nStamps/Textured Items\nShirt/Smock\nStencils\n\nUnless class is canceled by the instructor\, payment is non-refundable. For additional questions\, please email artbyangeliquescott@gmail.com
URL:https://gridphilly.com/event/lovers-and-friends-sip-sculpt-pottery-workshop-at-oneart/
LOCATION:One Art Community Center\, 1431-39 North 52nd Street\, Philadelphia\, PA\, 19131\, United States
ATTACH;FMTTYPE=image/jpeg:https://gridphilly.com/wp-content/uploads/2026/02/745b2dfa10f5917361392ec420135a5a.jpg
END:VEVENT
BEGIN:VEVENT
DTSTART;TZID=America/New_York:20250820T194500
DTEND;TZID=America/New_York:20250820T214500
DTSTAMP:20260421T050623
CREATED:20250807T171551Z
LAST-MODIFIED:20250814T164647Z
UID:10020384-1755719100-1755726300@gridphilly.com
SUMMARY:Street Movies! with One Art Community Center
DESCRIPTION:Free outdoor screening series bringing independent short films and videos to vibrant public spaces throughout Philadelphia\n\n\nScribe Video Center presents the 28th annual year of Street Movies! This film screening and performance series tours outdoor community spaces across Philadelphia every August with a program of independent short films from local\, national\, and international filmmakers\, curated in partnership with neighborhood-based organizations. All events are family-friendly and open to the public. \nJoin us for this free outdoor screening in partnership with One Art Community Center\, featuring a live performance and a screening of five short films\, followed by a community discussion. \n7:45 pm – Live Music Performance led by saxophonist\, Joshua Peeler \n8:15 pm – Film Program & Discussion \n_____________________________________________________________ \nFilm Program: \nwyba (the study of repetition) dir. Myles Cream (2024\, USA\, 9 min) \nA look at the daily pursuit of finding and losing inspiration as an artist. \nIt’s Never Lonesome in Philadelphia dir. Kiana Lattimore (2024\, USA\, 10 min) \nExperimental documentary on the power of love in the Black community of Philadelphia. \nCome Dance With Me dir. Nwaọ (2025\, USA\, 8 min) \nCome Dance With Me is a visual archive in the form of a short film\, documenting and exploring the stories of dance in the Black Diaspora across history\, centering gender and sexuality-marginalized folks. \nWaiting Onna Punch dir. Victoria Wilcox ( 2023\, USA\, 4 min) \nAfter recovering from Hodgkin’s Lymphoma\, Steven “WOP” Williams finds his place in the rink. Through hard work\, he lands the opportunity to compete for a place on the Olympic boxing team for the upcoming Olympic trials. \nThe Brothers That Broke Bread dir. Victoria Wilcox (USA\, 10 min) \nA young Black saxophonist in Philadelphia navigates the hardship of finding his voice as a musician in a predominantly White college. Through a battle of self-doubt and determination\, Josh finds his place in the Philly jazz scene through brotherhood and resilience. \n____________________________________________________________________________________ \nFor over two decades now\, Street Movies! has been a great way for people to gather together\, engage with independent film\, and foster discussion around the cultural histories of their neighborhoods and issues affecting their communities. All screenings are free\, open to the public\, and family-friendly.
URL:https://gridphilly.com/event/street-movies-with-one-art-community-center/
LOCATION:One Art Community Center\, 1431-39 North 52nd Street\, Philadelphia\, PA\, 19131\, United States
ATTACH;FMTTYPE=image/jpeg:https://gridphilly.com/wp-content/uploads/2025/08/a324b450f957c357f56ea6121c5cdc35.jpg
END:VEVENT
BEGIN:VEVENT
DTSTART;TZID=America/New_York:20250726T160000
DTEND;TZID=America/New_York:20250726T190000
DTSTAMP:20260421T050623
CREATED:20250627T200258Z
LAST-MODIFIED:20250627T200258Z
UID:10019616-1753545600-1753556400@gridphilly.com
SUMMARY:The Art of Healing
DESCRIPTION:The Art of Healing is Back — Save the Date! Join us for an inspiring free family-friendly event focused on wellness\, creativity\, and community @oneartcommunitycenter \n🗓 Saturday\, July 26\, 2025 ⏰ 4 PM – 7 PM 📍 1431-39 N 52nd St\, Philadelphia\, PA 19131 \nExperience a day of therapeutic healing through:\n🎨 Painting\, Coloring & Drawing\n🌬 Meditation & Breathwork with Gabrielle De Burke @dragonspiritsarts\n🧘🏾 Yoga with @DeBolton\n🥣 Sound Bath with @coachshay2020\n📚 Mental health children’s book giveaway by Marcella Kamile from @mentalhealthletsexplore\n📖 Free books from @treehousebooks \n🥗 Light refreshments and our free community resource books will be provided. \nBring your loved ones and take a moment to pause\, create\, and heal together. We can’t wait to see you there! \nTheArtOfHealing #CommunityWellness #FamilyEvent #PhillyEvents
URL:https://gridphilly.com/event/the-art-of-healing/
LOCATION:One Art Community Center\, 1431-39 North 52nd Street\, Philadelphia\, PA\, 19131\, United States
ATTACH;FMTTYPE=image/jpeg:https://gridphilly.com/wp-content/uploads/2025/06/B63D22A4-E350-4F1C-BCB4-0DB286DBCACC.jpeg
END:VEVENT
BEGIN:VEVENT
DTSTART;TZID=America/New_York:20241230T180000
DTEND;TZID=America/New_York:20241230T203000
DTSTAMP:20260421T050623
CREATED:20241016T134332Z
LAST-MODIFIED:20241016T134332Z
UID:10015157-1735581600-1735590600@gridphilly.com
SUMMARY:Grief Medicine- Community Support Group
DESCRIPTION:Join us for Grief Medicine\, a healing space to honor our losses and find comfort in community support.
URL:https://gridphilly.com/event/grief-medicine-community-support-group-6/
LOCATION:One Art Community Center\, 1431-39 North 52nd Street\, Philadelphia\, PA\, 19131\, United States
ATTACH;FMTTYPE=image/jpeg:https://gridphilly.com/wp-content/uploads/2024/10/eb59b305d7a1763218dbf93fc6793146.jpg
END:VEVENT
BEGIN:VEVENT
DTSTART;TZID=America/New_York:20241216T180000
DTEND;TZID=America/New_York:20241216T203000
DTSTAMP:20260421T050623
CREATED:20241016T134332Z
LAST-MODIFIED:20241016T134332Z
UID:10015156-1734372000-1734381000@gridphilly.com
SUMMARY:Grief Medicine- Community Support Group
DESCRIPTION:Join us for Grief Medicine\, a healing space to honor our losses and find comfort in community support.
URL:https://gridphilly.com/event/grief-medicine-community-support-group-5/
LOCATION:One Art Community Center\, 1431-39 North 52nd Street\, Philadelphia\, PA\, 19131\, United States
ATTACH;FMTTYPE=image/jpeg:https://gridphilly.com/wp-content/uploads/2024/10/eb59b305d7a1763218dbf93fc6793146.jpg
END:VEVENT
BEGIN:VEVENT
DTSTART;TZID=America/New_York:20241202T180000
DTEND;TZID=America/New_York:20241202T203000
DTSTAMP:20260421T050623
CREATED:20241016T134331Z
LAST-MODIFIED:20241016T134331Z
UID:10015155-1733162400-1733171400@gridphilly.com
SUMMARY:Grief Medicine- Community Support Group
DESCRIPTION:Join us for Grief Medicine\, a healing space to honor our losses and find comfort in community support.
URL:https://gridphilly.com/event/grief-medicine-community-support-group-4/
LOCATION:One Art Community Center\, 1431-39 North 52nd Street\, Philadelphia\, PA\, 19131\, United States
ATTACH;FMTTYPE=image/jpeg:https://gridphilly.com/wp-content/uploads/2024/10/eb59b305d7a1763218dbf93fc6793146.jpg
END:VEVENT
BEGIN:VEVENT
DTSTART;TZID=America/New_York:20241118T180000
DTEND;TZID=America/New_York:20241118T203000
DTSTAMP:20260421T050623
CREATED:20241016T134331Z
LAST-MODIFIED:20241016T134331Z
UID:10015154-1731952800-1731961800@gridphilly.com
SUMMARY:Grief Medicine- Community Support Group
DESCRIPTION:Join us for Grief Medicine\, a healing space to honor our losses and find comfort in community support.
URL:https://gridphilly.com/event/grief-medicine-community-support-group-3/
LOCATION:One Art Community Center\, 1431-39 North 52nd Street\, Philadelphia\, PA\, 19131\, United States
ATTACH;FMTTYPE=image/jpeg:https://gridphilly.com/wp-content/uploads/2024/10/eb59b305d7a1763218dbf93fc6793146.jpg
END:VEVENT
BEGIN:VEVENT
DTSTART;TZID=America/New_York:20241104T180000
DTEND;TZID=America/New_York:20241104T203000
DTSTAMP:20260421T050623
CREATED:20241016T134331Z
LAST-MODIFIED:20241028T135811Z
UID:10015153-1730743200-1730752200@gridphilly.com
SUMMARY:Grief Medicine- Community Support Group
DESCRIPTION:Join us for Grief Medicine\, a healing space to honor our losses and find comfort in community support.\n\n\nGrief Medicine is donation based and open to true and vulnerable feelings\, thoughts and needs. It is a supportive space to reflect and connect while navigating the complexities of grief and loss. \n*No one will be turned away due to lack of funds\, please RSVP opting (for the donation) ticket option. \n \nLearn more on: \nInstagram \nFacebook \nYoutube
URL:https://gridphilly.com/event/grief-medicine-community-support-group-2/
LOCATION:One Art Community Center\, 1431-39 North 52nd Street\, Philadelphia\, PA\, 19131\, United States
ATTACH;FMTTYPE=image/jpeg:https://gridphilly.com/wp-content/uploads/2024/10/eb59b305d7a1763218dbf93fc6793146.jpg
END:VEVENT
BEGIN:VEVENT
DTSTART;TZID=America/New_York:20241021T180000
DTEND;TZID=America/New_York:20241021T203000
DTSTAMP:20260421T050623
CREATED:20241016T134328Z
LAST-MODIFIED:20241016T134328Z
UID:10015152-1729533600-1729542600@gridphilly.com
SUMMARY:Grief Medicine- Community Support Group
DESCRIPTION:Join us for Grief Medicine\, a healing space to honor our losses and find comfort in community support.
URL:https://gridphilly.com/event/grief-medicine-community-support-group/
LOCATION:One Art Community Center\, 1431-39 North 52nd Street\, Philadelphia\, PA\, 19131\, United States
ATTACH;FMTTYPE=image/jpeg:https://gridphilly.com/wp-content/uploads/2024/10/eb59b305d7a1763218dbf93fc6793146.jpg
END:VEVENT
BEGIN:VEVENT
DTSTART;TZID=America/New_York:20240428T100000
DTEND;TZID=America/New_York:20240428T170000
DTSTAMP:20260421T050623
CREATED:20240424T193554Z
LAST-MODIFIED:20240424T193554Z
UID:10012603-1714298400-1714323600@gridphilly.com
SUMMARY:BAPS + Market Place: For Plant Lovers
DESCRIPTION:The 4th annual BAPS (Big A** Plant Sale) + Marketplace is a day of everything planty. Demos\, plant based food\, pots and a lot of plants.\n\n\nJoin us for the premier plant market event of the year\, marking the start of the growing season! Dive into a world of plants\, locally crafted artisan goods\, delectable vegan cuisine\, refreshing botanical beverages\, and more. Carefully selected vendors and non-profits will be on hand\, offering a treasure trove of products and insights for all your plant-related desires. It’s the perfect occasion to enrich your green space and connect with fellow plant enthusiasts! \n \nThis is an outdoor event for the entire family. Bring tools\, pots\, or any plants to donate to area schools and community gardens. \nwww. plantandpeople.com
URL:https://gridphilly.com/event/baps-market-place-for-plant-lovers-3/
LOCATION:One Art Community Center\, 1431-39 North 52nd Street\, Philadelphia\, PA\, 19131\, United States
ATTACH;FMTTYPE=image/jpeg:https://gridphilly.com/wp-content/uploads/2024/04/4a014b1f5d5ed765d3adea07d8d0131a.jpg
END:VEVENT
BEGIN:VEVENT
DTSTART;TZID=America/New_York:20240420T190000
DTEND;TZID=America/New_York:20240421T020000
DTSTAMP:20260421T050623
CREATED:20240415T172006Z
LAST-MODIFIED:20240415T174631Z
UID:10012508-1713639600-1713664800@gridphilly.com
SUMMARY:One Art's Annual 4/20
DESCRIPTION:Join us at One Art for our  annual 4/20 event!\n\n\nPeace Family! We are so excited to see you for our first event of the season: One Art’s Annual 4/20!\nLive performances\, local vendors and good vibes! \n$20 tickets online or $25 tickets door \n \nFOOD\nFood will be farm-to-table from the One Art Cafe \nMUSIC/ARTISTS\nLineup will be announced soon \nVENDOR VILLAGE\nPurchase a VENDORS admission ticket to be considered for vending. There will be NO NEW vendor signups on 4/20.
URL:https://gridphilly.com/event/one-arts-annual-4-20/
LOCATION:One Art Community Center\, 1431-39 North 52nd Street\, Philadelphia\, PA\, 19131\, United States
ATTACH;FMTTYPE=image/jpeg:https://gridphilly.com/wp-content/uploads/2024/04/8e46001f7911f80d180574f237c990d9.jpg
END:VEVENT
BEGIN:VEVENT
DTSTART;TZID=America/New_York:20231020T120000
DTEND;TZID=America/New_York:20231020T170000
DTSTAMP:20260421T050623
CREATED:20231016T152539Z
LAST-MODIFIED:20231016T152652Z
UID:10007909-1697803200-1697821200@gridphilly.com
SUMMARY:A Deep Dig Into Philly’s Eco Arts Village: One Art Community Center
DESCRIPTION:A Deep Dig will walk visitors through what 22 years of community building has created in West Philadelphia’s One Art Community Center\n\n\nA Deep Dig will walk visitors through what 22 years of community building has created in West Philadelphia. Visitors will walk away with invaluable insight to bring back to their own communities to stimulate growth and healing.  \n\nA﻿BOUT US\nOur mission is to cultivate a space that encourages holistic healing in Philadelphia through art\, education\, cultural\, and community engagement. \nOur programs are intentionally curated to foster deeper connection to Self\, the Earth\, and the community.  \nWe serve over 10\,000 individuals annually. We are a Black-owned\, family operated\, partner powered non-profit community center based in Philly. \n \nT﻿HE DEEP DIG AGENDA\nPart One: Communal Grounding  \n\nLand Acknowledgements \nGrounding Sound Healing Meditation \n\nPart Two: From the Roots with a Revolutionary Vision \n\nOne Art Tour\nPhilly Sacred Lands History – Ras Ben\nHemp Pot Making Demo\n\nPart Three: Enjoying the Fruits \n\nFarm to Table Lunch at the on-site cafe\nSip on ONE ARTea and honey\nVisit the Businesses at One Art: Plant&People and InI Collective Holistic Artisan Boutique\nReiki and Massage services in our Wellness space (*additional cost)\n\nPart Four: Collective Visioning \n\nEnvision a Food System Rooted in Love\nMapJam with NESAWG (Community Landscape Assessment)\nGrow a map of our resources
URL:https://gridphilly.com/event/a-deep-dig-into-phillys-eco-arts-village-one-art-community-center/
LOCATION:One Art Community Center\, 1431-39 North 52nd Street\, Philadelphia\, PA\, 19131\, United States
ATTACH;FMTTYPE=image/jpeg:https://gridphilly.com/wp-content/uploads/2023/10/478fc24b7f6582d70add3cf6b942688f.jpg
END:VEVENT
BEGIN:VEVENT
DTSTART;TZID=America/New_York:20231009T133000
DTEND;TZID=America/New_York:20231009T143000
DTSTAMP:20260421T050623
CREATED:20231002T121850Z
LAST-MODIFIED:20231002T121850Z
UID:10007182-1696858200-1696861800@gridphilly.com
SUMMARY:The Fight for a Land Revolution .3 x ECO WURD Festival
DESCRIPTION:A land justice workshop and community gathering that brings community members together to tacklehousing issues and come up with solutions.\n\n\nTHE FIGHT FOR A LAND REVOLUTION PART 3  is back and better than ever! Join us on Mon Oct 9  at 1:30pm-2:30 for an in-person event at 1431-39 N 52nd St\, Philadelphia\, PA . This event is all about advocating for a land revolution\, and we’re excited to continue the conversation from our last event. Our goal is to raise awareness about the importance of land reform and to empower individuals to take action. We’ll have engaging speakers\, interactive activities\, and plenty of opportunities to connect with like-minded individuals. Don’t miss out on this incredible opportunity to be a part of the fight for a better future!
URL:https://gridphilly.com/event/the-fight-for-a-land-revolution-3-x-eco-wurd-festival/
LOCATION:One Art Community Center\, 1431-39 North 52nd Street\, Philadelphia\, PA\, 19131\, United States
ATTACH;FMTTYPE=image/jpeg:https://gridphilly.com/wp-content/uploads/2023/10/61e2b4fcc72f31f3cd3243dbf4cd2c87.jpg
END:VEVENT
END:VCALENDAR