BEGIN:VCALENDAR
VERSION:2.0
PRODID:-//Grid Magazine - ECPv6.15.20//NONSGML v1.0//EN
CALSCALE:GREGORIAN
METHOD:PUBLISH
X-WR-CALNAME:Grid Magazine
X-ORIGINAL-URL:https://gridphilly.com
X-WR-CALDESC:Events for Grid Magazine
REFRESH-INTERVAL;VALUE=DURATION:PT1H
X-Robots-Tag:noindex
X-PUBLISHED-TTL:PT1H
BEGIN:VTIMEZONE
TZID:America/New_York
BEGIN:DAYLIGHT
TZOFFSETFROM:-0500
TZOFFSETTO:-0400
TZNAME:EDT
DTSTART:20250309T070000
END:DAYLIGHT
BEGIN:STANDARD
TZOFFSETFROM:-0400
TZOFFSETTO:-0500
TZNAME:EST
DTSTART:20251102T060000
END:STANDARD
BEGIN:DAYLIGHT
TZOFFSETFROM:-0500
TZOFFSETTO:-0400
TZNAME:EDT
DTSTART:20260308T070000
END:DAYLIGHT
BEGIN:STANDARD
TZOFFSETFROM:-0400
TZOFFSETTO:-0500
TZNAME:EST
DTSTART:20261101T060000
END:STANDARD
BEGIN:DAYLIGHT
TZOFFSETFROM:-0500
TZOFFSETTO:-0400
TZNAME:EDT
DTSTART:20270314T070000
END:DAYLIGHT
BEGIN:STANDARD
TZOFFSETFROM:-0400
TZOFFSETTO:-0500
TZNAME:EST
DTSTART:20271107T060000
END:STANDARD
END:VTIMEZONE
BEGIN:VEVENT
DTSTART;TZID=America/New_York:20260430T180000
DTEND;TZID=America/New_York:20260430T200000
DTSTAMP:20260420T221435
CREATED:20260413T012320Z
LAST-MODIFIED:20260413T012320Z
UID:10032223-1777572000-1777579200@gridphilly.com
SUMMARY:Jewelry Swap at NextFab
DESCRIPTION:Got unwanted jeweler’s stones or deadstock? Looking for stones\, tools\, or displays? Or do you want to meet other jewelry makers in Philadelphia? \nJoin us on Thursday\, April 30th\, from 6:00 – 8:00 pm in this open-to-the-public Jeweler to Jeweler event at NextFab! This is an opportunity to meet new friends\, see the NextFab jewelry studio\, and buy\, sell\, and trade stones\, tools\, and/or displays. Come as you are with or without goodies – you may leave with some new treasures! Light refreshments will be served.  \n\n\nBring what you have\, swap for new to you goodies\, or just shop!\nMeet awesome jewelry folks and enjoy light refreshments\nBuild your network and connect with local resources like Tshatshke Jewelry Studio.\nWe can donate anything unwanted to The Resource Exchange
URL:https://gridphilly.com/event/jewelry-swap-at-nextfab/
LOCATION:NextFab\, 1800 N. American St.\, Philadelphia\, PA\, 19122\, United States
ATTACH;FMTTYPE=image/png:https://gridphilly.com/wp-content/uploads/2026/04/Jewelry-Swap-at-NextFab-yNyIPB.png
END:VEVENT
END:VCALENDAR