BEGIN:VCALENDAR
VERSION:2.0
PRODID:-//Grid Magazine - ECPv6.15.20//NONSGML v1.0//EN
CALSCALE:GREGORIAN
METHOD:PUBLISH
X-WR-CALNAME:Grid Magazine
X-ORIGINAL-URL:https://gridphilly.com
X-WR-CALDESC:Events for Grid Magazine
REFRESH-INTERVAL;VALUE=DURATION:PT1H
X-Robots-Tag:noindex
X-PUBLISHED-TTL:PT1H
BEGIN:VTIMEZONE
TZID:America/New_York
BEGIN:DAYLIGHT
TZOFFSETFROM:-0500
TZOFFSETTO:-0400
TZNAME:EDT
DTSTART:20240310T070000
END:DAYLIGHT
BEGIN:STANDARD
TZOFFSETFROM:-0400
TZOFFSETTO:-0500
TZNAME:EST
DTSTART:20241103T060000
END:STANDARD
BEGIN:DAYLIGHT
TZOFFSETFROM:-0500
TZOFFSETTO:-0400
TZNAME:EDT
DTSTART:20250309T070000
END:DAYLIGHT
BEGIN:STANDARD
TZOFFSETFROM:-0400
TZOFFSETTO:-0500
TZNAME:EST
DTSTART:20251102T060000
END:STANDARD
BEGIN:DAYLIGHT
TZOFFSETFROM:-0500
TZOFFSETTO:-0400
TZNAME:EDT
DTSTART:20260308T070000
END:DAYLIGHT
BEGIN:STANDARD
TZOFFSETFROM:-0400
TZOFFSETTO:-0500
TZNAME:EST
DTSTART:20261101T060000
END:STANDARD
END:VTIMEZONE
BEGIN:VEVENT
DTSTART;TZID=America/New_York:20250927T093000
DTEND;TZID=America/New_York:20250927T153000
DTSTAMP:20260424T192927
CREATED:20250905T143539Z
LAST-MODIFIED:20250905T150305Z
UID:10021354-1758965400-1758987000@gridphilly.com
SUMMARY:They Didn't Know We Were Seeds - Family Wellness Retreat
DESCRIPTION:Mothers\, gather your family and meet us beneath the trees for our 5th Annual family wellness retreat.\n\n\n\nBlack Girls With Green Thumbs calls mothers from across the Philadelphia region to gather together to release and unwind.\n \nOn Saturday\, September 27th we invite you and your children to immerse yourself in nature for the 5th Annual They Didn’t Know We Were Seeds: Family Wellness Retreat. \nAt the retreat you and your family will: \n\nbe free to let go\nnurture curiosity\nbreak through loneliness\n\nTogether with other women and their children\, you will enjoy a beautiful day of restoration and exploration in the woodlands around Philadelphia. During this wellness retreat\, families will engage in activities both together and apart while enjoying the outdoors\, like: \n\nYoga\nAfrican dance & drumming\nNature walk\nPlant-based cooking class\n\n…and more! \n \nThis year\, we hold special space for families navigating the impact of gun violence\, offering the retreat as a day of care\, connection\, and healing.\n\n\n\nThey Didn’t Know We Were Seeds is open to mothers\, children of all ages (best suited for school age)\, expectant mothers\, grandmothers\, and other female guardians or caretakers. \nChildren 4 and under must be accompanied by parent/guardian or responsible older sibling/family member during child-centered activities. Childcare is not available. \n \nRegistration: 9:30a-10a | Program begins promptly at 10a\nContinental breakfast and catered lunch will be provided. Please bring reusable water bottles.
URL:https://gridphilly.com/event/they-didnt-know-we-were-seeds-family-wellness-retreat-4/
LOCATION:Natural Lands’ Saunders Woods Preserve\, 1020 Waverly Road\, Gladwyne\, PA\, 19035\, United States
ATTACH;FMTTYPE=image/jpeg:https://gridphilly.com/wp-content/uploads/2025/09/c32daafa6c1a9fafff20f7944e5a2fb8.jpg
END:VEVENT
END:VCALENDAR