BEGIN:VCALENDAR
VERSION:2.0
PRODID:-//Grid Magazine - ECPv6.15.20//NONSGML v1.0//EN
CALSCALE:GREGORIAN
METHOD:PUBLISH
X-ORIGINAL-URL:https://gridphilly.com
X-WR-CALDESC:Events for Grid Magazine
REFRESH-INTERVAL;VALUE=DURATION:PT1H
X-Robots-Tag:noindex
X-PUBLISHED-TTL:PT1H
BEGIN:VTIMEZONE
TZID:America/New_York
BEGIN:DAYLIGHT
TZOFFSETFROM:-0500
TZOFFSETTO:-0400
TZNAME:EDT
DTSTART:20230312T070000
END:DAYLIGHT
BEGIN:STANDARD
TZOFFSETFROM:-0400
TZOFFSETTO:-0500
TZNAME:EST
DTSTART:20231105T060000
END:STANDARD
BEGIN:DAYLIGHT
TZOFFSETFROM:-0500
TZOFFSETTO:-0400
TZNAME:EDT
DTSTART:20240310T070000
END:DAYLIGHT
BEGIN:STANDARD
TZOFFSETFROM:-0400
TZOFFSETTO:-0500
TZNAME:EST
DTSTART:20241103T060000
END:STANDARD
BEGIN:DAYLIGHT
TZOFFSETFROM:-0500
TZOFFSETTO:-0400
TZNAME:EDT
DTSTART:20250309T070000
END:DAYLIGHT
BEGIN:STANDARD
TZOFFSETFROM:-0400
TZOFFSETTO:-0500
TZNAME:EST
DTSTART:20251102T060000
END:STANDARD
BEGIN:DAYLIGHT
TZOFFSETFROM:-0500
TZOFFSETTO:-0400
TZNAME:EDT
DTSTART:20260308T070000
END:DAYLIGHT
BEGIN:STANDARD
TZOFFSETFROM:-0400
TZOFFSETTO:-0500
TZNAME:EST
DTSTART:20261101T060000
END:STANDARD
END:VTIMEZONE
BEGIN:VEVENT
DTSTART;TZID=America/New_York:20251025T100000
DTEND;TZID=America/New_York:20251025T140000
DTSTAMP:20260421T145335
CREATED:20251023T145411Z
LAST-MODIFIED:20251023T145411Z
UID:10023642-1761386400-1761400800@gridphilly.com
SUMMARY:2nd Annual Germantown Literacy Fair
DESCRIPTION:2nd Annual Germantown Literacy Fair (Oct 25): hands-on activities\, stories\, book giveaways. Sat 10AM–2PM.
URL:https://gridphilly.com/event/2nd-annual-germantown-literacy-fair/
LOCATION:Natural Creativity\, 5534-46 Pulaski Avenue\, Philadelphia\, PA\, 19144\, United States
ATTACH;FMTTYPE=image/jpeg:https://gridphilly.com/wp-content/uploads/2025/10/a1b113b52d2e23296d6f5116f19d6592.jpg
END:VEVENT
BEGIN:VEVENT
DTSTART;TZID=America/New_York:20250419T120000
DTEND;TZID=America/New_York:20250419T150000
DTSTAMP:20260421T145335
CREATED:20250408T202300Z
LAST-MODIFIED:20250408T202300Z
UID:10018335-1745064000-1745074800@gridphilly.com
SUMMARY:Self-Directed Education Forum
DESCRIPTION:Join us at the Self-Directed Education Forum to explore alternative learning methods and empower young people and families!\n\n\nPhilly Free School and Natural Creativity are excited to announce their annual Self-Directed Education Forum with guest speaker\, M.\n \nThis engaging event brings together parents and young people who are eager to explore the world of self-directed education. Attendees will have the opportunity to learn about various educational spaces in Philadelphia and the surrounding areas\, participate in insightful discussions\, and connect with like-minded individuals passionate about alternative learning methods. Join us for a day filled with inspiration\, exploration\, and community as we celebrate the power of self-directed education! \nFeaturing learning spaces include: \nPhilly Free School \nNatural Creativity \nThe Dandelion Project-Wildseeds \nOpen Connections \nPoinciana Montessori \nPhilly Agile Learning Community \n \nAbout M.  \nM. is a  Philadelphia- based parent of two young adult unschooling daughters. With a passion for education\, M. serves as both a parent and educator coach\, guiding families in developing personalized learning and parenting approaches. As an organizational strategist and advisor\, M. utilizes a thoughtful and innovative approach to help individuals and groups enhance their effectiveness. M. enjoys a “speak and be easy” lifestyle\, valuing open communication and authenticity in both personal and professional interactions.
URL:https://gridphilly.com/event/self-directed-education-forum/
LOCATION:Natural Creativity\, 5534-46 Pulaski Avenue\, Philadelphia\, PA\, 19144\, United States
ATTACH;FMTTYPE=image/jpeg:https://gridphilly.com/wp-content/uploads/2025/04/8cb4403581208e939f7b46a881d8f0b2.jpg
END:VEVENT
BEGIN:VEVENT
DTSTART;TZID=America/New_York:20250223T120000
DTEND;TZID=America/New_York:20250223T140000
DTSTAMP:20260421T145335
CREATED:20250217T180118Z
LAST-MODIFIED:20250217T180118Z
UID:10017231-1740312000-1740319200@gridphilly.com
SUMMARY:Open Play @ Natural Creativity
DESCRIPTION:Join us at Natural Creativity on the last Sunday of each month for Open Play!\n\n\nLooking for a place for your young person to play\, explore\, and grow? Come to Natural Creativity’s unique self-directed play/learning space in Germantown on the last Sunday of the month\, 12-2pm. Young people can come and experience our offerings. 4-6 year olds must be accompanied by an adult\, while 6-12 year olds can be dropped off.
URL:https://gridphilly.com/event/open-play-natural-creativity/
LOCATION:Natural Creativity\, 5534-46 Pulaski Avenue\, Philadelphia\, PA\, 19144\, United States
ATTACH;FMTTYPE=image/jpeg:https://gridphilly.com/wp-content/uploads/2025/02/a5d1303f976cce72fb991bfe90b9aef2.jpg
END:VEVENT
BEGIN:VEVENT
DTSTART;TZID=America/New_York:20241121T180000
DTEND;TZID=America/New_York:20241121T200000
DTSTAMP:20260421T145335
CREATED:20241111T190240Z
LAST-MODIFIED:20241111T190240Z
UID:10015644-1732212000-1732219200@gridphilly.com
SUMMARY:Shared Agency in Parenting: Youth Autonomy and Community Responsibility
DESCRIPTION:Learn practical tools to create a harmonious home environment that encourages youth autonomy and a sense of shared responsibility.\n\n\nJoin Us for a Transformative Workshop! \nAre you a parent navigating the delicate balance between granting your young people freedom and managing the responsibilities that come with it? This workshop is designed for you! We will delve into the creative tension between supporting individual goals and fostering a strong sense of community. \nIn this engaging session\, you’ll discover practical tools and techniques for creating a harmonious home environment. We aim to empower parents to encourage youth autonomy while cultivating a collective sense of responsibility. \nDon’t miss this opportunity to connect with other parents and gain valuable insights. Together\, we can build a supportive community that benefits our young people and ourselves!
URL:https://gridphilly.com/event/shared-agency-in-parenting-youth-autonomy-and-community-responsibility/
LOCATION:Natural Creativity\, 5534-46 Pulaski Avenue\, Philadelphia\, PA\, 19144\, United States
ATTACH;FMTTYPE=image/jpeg:https://gridphilly.com/wp-content/uploads/2024/11/72b782e7de2c1d8c740db9ab0702bc1c.jpg
END:VEVENT
BEGIN:VEVENT
DTSTART;TZID=America/New_York:20241019T100000
DTEND;TZID=America/New_York:20241019T140000
DTSTAMP:20260421T145335
CREATED:20241016T132619Z
LAST-MODIFIED:20241016T132619Z
UID:10015141-1729332000-1729346400@gridphilly.com
SUMMARY:Germantown Literacy Fair: A Family-Friendly Celebration of Reading
DESCRIPTION:Enjoy a day filled with fun\, family-friendly activities that promote literacy\, creativity\, and community connection. Free books!\n\n\nEvent Description: \nCelebrate Literacy & Creativity in Germantown! \nNatural Creativity is thrilled to host the first-ever Germantown Literacy Fair\, a day dedicated to promoting literacy and community engagement through fun\, family-friendly activities. \nJoin us for a range of exciting outdoor activities\, hands-on experiences\, and interactive vendor booths\, all while learning more about how to support literacy in your home. Whether you’re a family looking for a day of fun or a community member wanting to connect with local resources\, this event has something for everyone! \n \nEvent Highlights:\n\nInteractive Literacy-Based Activities for families and young people of all ages\nVendor Market featuring local businesses\, nonprofits\, and community organizations\nSpecial Parent Training (special registration required) for 30 parents of young people ages 4-8 on how to support literacy at home\, presented by Children’s Literacy Initiative (CLI) (more details below)\nGiveaways from partner organizations and a chance to meet local literacy champions!\n\n \nTraining for Parents (Spaces Limited!):Parents of children aged 4-8 can sign up for a special literacy training with CLI on how to support reading and learning at home. This training will be held indoors\, with childcare provided. Register HERE. Space limited and you must register for this portion in order to attend it.  \n \nHow to Get Involved:\nWe’d love for you to be a part of this community event! Here are some ways you can help: \n\nAttend the Fair: Come and enjoy all the activities\, meet vendors\, and support literacy in the community!\nBecome a Vendor: We’re looking for local businesses\, nonprofits\, and community members to set up booths with literacy-based activities or showcase their work. LINK\nVolunteer: Lend a hand and help make this event a success. Whether you’re able to assist with setup\, activities\, or cleanup\, your help is greatly appreciated! LINK\n\n \n \nAbout Natural Creativity:\nNatural Creativity is a youth-centered\, community organization in Germantown committed to fostering creativity\, learning\, and personal growth. Our mission is to provide young people with the tools and resources they need to thrive in their own unique learning journeys. The Germantown Literacy Fair is our first-ever community event\, and we’re excited to celebrate literacy with our neighbors and friends! \n \n \nSupported By:\nWe’re proud to be supported by funders like: \n\nRead by 4th\nPhiladelphia Activities Fund\nGermantown United CDC\n\nAnd we’re excited to partner with organizations like: \n\nFirst Book\nMighty Writers\nTreehouse Books\nWeavers Way Co-Op\n\n \n \nImportant Notes:\n\nStreet Closure: The alley next to Natural Creativity will be closed to traffic to make room for outdoor activities and vendor booths.\nParking: Limited parking is available nearby\, but we encourage public transportation\, biking\, or walking to the event.\nRain Date: There is no rain date for this event. Please come prepared for outdoor activities rain or shine!\n\n \n \nContact Information:\nFor any questions or further details\, feel free to contact us at: \n📧 Email: info@naturalcreativity.org
URL:https://gridphilly.com/event/germantown-literacy-fair-a-family-friendly-celebration-of-reading/
LOCATION:Natural Creativity\, 5534-46 Pulaski Avenue\, Philadelphia\, PA\, 19144\, United States
ATTACH;FMTTYPE=image/jpeg:https://gridphilly.com/wp-content/uploads/2024/10/6efa1a410129db3d3bdca294e9066464.jpg
END:VEVENT
END:VCALENDAR