BEGIN:VCALENDAR
VERSION:2.0
PRODID:-//Grid Magazine - ECPv6.15.20//NONSGML v1.0//EN
CALSCALE:GREGORIAN
METHOD:PUBLISH
X-ORIGINAL-URL:https://gridphilly.com
X-WR-CALDESC:Events for Grid Magazine
REFRESH-INTERVAL;VALUE=DURATION:PT1H
X-Robots-Tag:noindex
X-PUBLISHED-TTL:PT1H
BEGIN:VTIMEZONE
TZID:America/New_York
BEGIN:DAYLIGHT
TZOFFSETFROM:-0500
TZOFFSETTO:-0400
TZNAME:EDT
DTSTART:20240310T070000
END:DAYLIGHT
BEGIN:STANDARD
TZOFFSETFROM:-0400
TZOFFSETTO:-0500
TZNAME:EST
DTSTART:20241103T060000
END:STANDARD
BEGIN:DAYLIGHT
TZOFFSETFROM:-0500
TZOFFSETTO:-0400
TZNAME:EDT
DTSTART:20250309T070000
END:DAYLIGHT
BEGIN:STANDARD
TZOFFSETFROM:-0400
TZOFFSETTO:-0500
TZNAME:EST
DTSTART:20251102T060000
END:STANDARD
BEGIN:DAYLIGHT
TZOFFSETFROM:-0500
TZOFFSETTO:-0400
TZNAME:EDT
DTSTART:20260308T070000
END:DAYLIGHT
BEGIN:STANDARD
TZOFFSETFROM:-0400
TZOFFSETTO:-0500
TZNAME:EST
DTSTART:20261101T060000
END:STANDARD
END:VTIMEZONE
BEGIN:VEVENT
DTSTART;TZID=America/New_York:20251011T100000
DTEND;TZID=America/New_York:20251011T120000
DTSTAMP:20260421T193615
CREATED:20251006T140857Z
LAST-MODIFIED:20251006T140857Z
UID:10023005-1760176800-1760184000@gridphilly.com
SUMMARY:Oct 11th\, Block by Block
DESCRIPTION:Join us October 11th! Working with Block by Block to do some cleaning at the train tracks!\n\n\nJoin the Volunteering Untapped Team on Saturday\, Oct 11th\, for our event! \nOur partner this month is Block by Block. Their mission is to change the culture of littering\, building connections\, and restoring trust and beauty to our city\, one block at a time. \nWhat will we be doing on Saturday\, Oct 11th? \n\nHelping them clean and shape up the train tracks.\nBeautifying the block\n\n \nNotes ahead of the event! \n\nWear clothes that are comfortable and suitable for the weather\, since this event takes place outside and inside\nPlease wear closed toed shoes\nA waiver will be sent out with the reminder email for you to sign once you have placed a reservation on Eventbrite!\n\n \nParking & Transportation \n\nParking: Street parking is available\nBus:\n\n32\, 446\, 448 to Poplar St and 30th St \n7\, 48\, 49 to Pennsylvania Ave and 29th St \n \nAfterjawn \nJoin us after the event at a local bar to wind down and hang out! \nA note about cancellations: If your schedule changes and you can no longer make it\, please email volunteeringuntappedphl@gmail.com ASAP to let us know. This way your spot can be given to someone else on the waitlist. THANK YOU!
URL:https://gridphilly.com/event/oct-11th-block-by-block/
LOCATION:N 30th St and Pennsylvania Ave\, N 30th St and Pennsylvania Avenue\, Philadelphia\, PA\, 19130\, United States
ATTACH;FMTTYPE=image/jpeg:https://gridphilly.com/wp-content/uploads/2025/10/716ebf7426ecf1102563d3bfd4696f4c.jpg
END:VEVENT
END:VCALENDAR