BEGIN:VCALENDAR
VERSION:2.0
PRODID:-//Grid Magazine - ECPv6.15.20//NONSGML v1.0//EN
CALSCALE:GREGORIAN
METHOD:PUBLISH
X-ORIGINAL-URL:https://gridphilly.com
X-WR-CALDESC:Events for Grid Magazine
REFRESH-INTERVAL;VALUE=DURATION:PT1H
X-Robots-Tag:noindex
X-PUBLISHED-TTL:PT1H
BEGIN:VTIMEZONE
TZID:America/New_York
BEGIN:DAYLIGHT
TZOFFSETFROM:-0500
TZOFFSETTO:-0400
TZNAME:EDT
DTSTART:20250309T070000
END:DAYLIGHT
BEGIN:STANDARD
TZOFFSETFROM:-0400
TZOFFSETTO:-0500
TZNAME:EST
DTSTART:20251102T060000
END:STANDARD
BEGIN:DAYLIGHT
TZOFFSETFROM:-0500
TZOFFSETTO:-0400
TZNAME:EDT
DTSTART:20260308T070000
END:DAYLIGHT
BEGIN:STANDARD
TZOFFSETFROM:-0400
TZOFFSETTO:-0500
TZNAME:EST
DTSTART:20261101T060000
END:STANDARD
BEGIN:DAYLIGHT
TZOFFSETFROM:-0500
TZOFFSETTO:-0400
TZNAME:EDT
DTSTART:20270314T070000
END:DAYLIGHT
BEGIN:STANDARD
TZOFFSETFROM:-0400
TZOFFSETTO:-0500
TZNAME:EST
DTSTART:20271107T060000
END:STANDARD
END:VTIMEZONE
BEGIN:VEVENT
DTSTART;TZID=America/New_York:20260220T130000
DTEND;TZID=America/New_York:20260220T160000
DTSTAMP:20260419T203425
CREATED:20260110T143815Z
LAST-MODIFIED:20260110T143815Z
UID:10028243-1771592400-1771603200@gridphilly.com
SUMMARY:Community Weeds: A participatory workshop on practical approaches for controlling invasive plants\, planting for resilience\, and adapting to change
DESCRIPTION:Join panelists Tama Wong\, Andrew Conboy\, and Mike Van Clef in a participatory discussion of common sense\, practical\, and real-life approaches to controlling invasive plants\, and designing\, establishing\, maintaining and restoring vibrant\, resilient landscapes. Each panelist brings a different but overlapping expertise to the topic (forest\, meadows and edge habitats\, watersheds)\, and a shared passion for the health and resilience of the flora and fauna of our Mid-Atlantic region. \nYou will be invited to share knowledge\, build community\, and learn from real-world case studies—highlighting both successes and setbacks. You will leave with fresh ideas\, practical strategies\, and a deeper understanding of how to control disruptive plants while restoring balance to landscapes ranging from highway medians to backyard gardens. \nTopics will include the difference between ‘maintenance’ and ‘stewardship’; finding value on roadsides and in vacant lots; use / misuse of herbicides; the ‘addition by subtraction’ approach to invasive plant management; mulching and mowing; native plant selection; and so much more. \nParticipants will include regional vegetation managers\, landscape and municipal professionals\, home gardeners\, small scale farmers\, native species reclamation enthusiasts\, and more. \nThis interactive forum thrives on collaboration\, so come ready to share your own challenges and insights! This program has been submitted for 3 LA CES CEUs.
URL:https://gridphilly.com/event/community-weeds-a-participatory-workshop-on-practical-approaches-for-controlling-invasive-plants-planting-for-resilience-and-adapting-to-change/
LOCATION:morris arboretum\, 100 E Northwestern Ave\, Philadelphia\, PA\, 19118\, United States
CATEGORIES:Classes & Workshops,Classes and Workshops,Climate Change,Discussion,Education/Lecture,Foraging,Land Stewardship,Native Plants,Urban Foraging,Workshops & Seminars
ATTACH;FMTTYPE=image/jpeg:https://gridphilly.com/wp-content/uploads/2026/01/Tama-Wong-scaled.jpg
ORGANIZER;CN="Morris Aboretum":MAILTO:education@morrisarboretum.org
END:VEVENT
END:VCALENDAR