BEGIN:VCALENDAR
VERSION:2.0
PRODID:-//Grid Magazine - ECPv6.15.20//NONSGML v1.0//EN
CALSCALE:GREGORIAN
METHOD:PUBLISH
X-ORIGINAL-URL:https://gridphilly.com
X-WR-CALDESC:Events for Grid Magazine
REFRESH-INTERVAL;VALUE=DURATION:PT1H
X-Robots-Tag:noindex
X-PUBLISHED-TTL:PT1H
BEGIN:VTIMEZONE
TZID:America/New_York
BEGIN:DAYLIGHT
TZOFFSETFROM:-0500
TZOFFSETTO:-0400
TZNAME:EDT
DTSTART:20240310T070000
END:DAYLIGHT
BEGIN:STANDARD
TZOFFSETFROM:-0400
TZOFFSETTO:-0500
TZNAME:EST
DTSTART:20241103T060000
END:STANDARD
BEGIN:DAYLIGHT
TZOFFSETFROM:-0500
TZOFFSETTO:-0400
TZNAME:EDT
DTSTART:20250309T070000
END:DAYLIGHT
BEGIN:STANDARD
TZOFFSETFROM:-0400
TZOFFSETTO:-0500
TZNAME:EST
DTSTART:20251102T060000
END:STANDARD
BEGIN:DAYLIGHT
TZOFFSETFROM:-0500
TZOFFSETTO:-0400
TZNAME:EDT
DTSTART:20260308T070000
END:DAYLIGHT
BEGIN:STANDARD
TZOFFSETFROM:-0400
TZOFFSETTO:-0500
TZNAME:EST
DTSTART:20261101T060000
END:STANDARD
END:VTIMEZONE
BEGIN:VEVENT
DTSTART;TZID=America/New_York:20250308T100000
DTEND;TZID=America/New_York:20250308T120000
DTSTAMP:20260424T130058
CREATED:20250303T203559Z
LAST-MODIFIED:20250303T203559Z
UID:10017448-1741428000-1741435200@gridphilly.com
SUMMARY:UC Green March Pruning Club
DESCRIPTION:Volunteer with UC Green leaders to prune trees in West Philadelphia.\n\n\nVolunteer with UC Green leaders to prune trees. Pruning keeps our trees healthy\, beautifies the neighborhood\, and helps keep streets and sidewalks clear and safe. And Pruning Club is a great way to learn more about tree care and maintenance\, plus get outside and spend time with neighbors in the community. \nPlease meet at Monumental Baptist Church parking lot at 4948 Locust Street. \nGloves and tools will be provided to all volunteers. \nBring water and wear comfortable sneakers! \n \nBy submitting this form\, you are consenting to receive marketing emails from: UC Green\, PO Box 30738\, Philadelphia\, PA\, 19104\, US\, http://www.ucgreen.org. You can revoke your consent to receive emails at any time by using the SafeUnsubscribe® link\, found at the bottom of every email. Emails are serviced by Constant Contact.
URL:https://gridphilly.com/event/uc-green-march-pruning-club/
LOCATION:Monumental Baptist Church\, 4948 Locust Street\, Philadelphia\, PA\, 19139\, United States
ATTACH;FMTTYPE=image/jpeg:https://gridphilly.com/wp-content/uploads/2025/03/a6ae781f62ed93b177044dffee92fd27.jpg
END:VEVENT
END:VCALENDAR