BEGIN:VCALENDAR
VERSION:2.0
PRODID:-//Grid Magazine - ECPv6.15.20//NONSGML v1.0//EN
CALSCALE:GREGORIAN
METHOD:PUBLISH
X-WR-CALNAME:Grid Magazine
X-ORIGINAL-URL:https://gridphilly.com
X-WR-CALDESC:Events for Grid Magazine
REFRESH-INTERVAL;VALUE=DURATION:PT1H
X-Robots-Tag:noindex
X-PUBLISHED-TTL:PT1H
BEGIN:VTIMEZONE
TZID:America/New_York
BEGIN:DAYLIGHT
TZOFFSETFROM:-0500
TZOFFSETTO:-0400
TZNAME:EDT
DTSTART:20230312T070000
END:DAYLIGHT
BEGIN:STANDARD
TZOFFSETFROM:-0400
TZOFFSETTO:-0500
TZNAME:EST
DTSTART:20231105T060000
END:STANDARD
BEGIN:DAYLIGHT
TZOFFSETFROM:-0500
TZOFFSETTO:-0400
TZNAME:EDT
DTSTART:20240310T070000
END:DAYLIGHT
BEGIN:STANDARD
TZOFFSETFROM:-0400
TZOFFSETTO:-0500
TZNAME:EST
DTSTART:20241103T060000
END:STANDARD
BEGIN:DAYLIGHT
TZOFFSETFROM:-0500
TZOFFSETTO:-0400
TZNAME:EDT
DTSTART:20250309T070000
END:DAYLIGHT
BEGIN:STANDARD
TZOFFSETFROM:-0400
TZOFFSETTO:-0500
TZNAME:EST
DTSTART:20251102T060000
END:STANDARD
END:VTIMEZONE
BEGIN:VEVENT
DTSTART;TZID=America/New_York:20241020T100000
DTEND;TZID=America/New_York:20241020T130000
DTSTAMP:20260424T203629
CREATED:20241011T170105Z
LAST-MODIFIED:20241011T170105Z
UID:10015050-1729418400-1729429200@gridphilly.com
SUMMARY:Tree Planting – McKinley Elementary
DESCRIPTION:Join us to help plant along the Jenkintown Creek that runs behind McKinley Elementary (370 Cedar Rd\, Elkins Park\, PA 19027) on Sunday\, October 20th from 10 am – 1 pm. We will be working to plant a number of trees and shrubs to help reestablish canopy cover along the creek and revitalize the existing riparian buffer on site. Please fill out the form below. \nTTF will provide tools and gloves and will have masks\, hand sanitizer\, water\, and snacks for volunteers if needed. We recommend that volunteers wear hats\, closed-toe shoes\, and comfortable\, weather-appropriate clothing that can get dirty. \n\n\nIf you have any questions please reach out to ryan@ttfwatershed.org at 215-744-1853.\n\n\nThis restoration project was made possible by the Trees for Watersheds Grant program\, managed by the Pennsylvania Horticultural Society and local conservation districts\, with funding from the Pennsylvania Department of Environmental Protection’s Growing Greener program and Aqua\, an Essential Utilities company.
URL:https://gridphilly.com/event/tree-planting-mckinley-elementary/
LOCATION:McKinley Elementary School\, 370 Cedar Road\, Elkins Park\, PA\, 19027
CATEGORIES:Clean-ups,Volunteer Opportunities
ATTACH;FMTTYPE=image/jpeg:https://gridphilly.com/wp-content/uploads/2024/10/123243079_10157801995544053_3621077093362378076_n-1-lQSfLU.tmp_.jpg
END:VEVENT
END:VCALENDAR