BEGIN:VCALENDAR
VERSION:2.0
PRODID:-//Grid Magazine - ECPv6.15.20//NONSGML v1.0//EN
CALSCALE:GREGORIAN
METHOD:PUBLISH
X-WR-CALNAME:Grid Magazine
X-ORIGINAL-URL:https://gridphilly.com
X-WR-CALDESC:Events for Grid Magazine
REFRESH-INTERVAL;VALUE=DURATION:PT1H
X-Robots-Tag:noindex
X-PUBLISHED-TTL:PT1H
BEGIN:VTIMEZONE
TZID:America/New_York
BEGIN:DAYLIGHT
TZOFFSETFROM:-0500
TZOFFSETTO:-0400
TZNAME:EDT
DTSTART:20240310T070000
END:DAYLIGHT
BEGIN:STANDARD
TZOFFSETFROM:-0400
TZOFFSETTO:-0500
TZNAME:EST
DTSTART:20241103T060000
END:STANDARD
BEGIN:DAYLIGHT
TZOFFSETFROM:-0500
TZOFFSETTO:-0400
TZNAME:EDT
DTSTART:20250309T070000
END:DAYLIGHT
BEGIN:STANDARD
TZOFFSETFROM:-0400
TZOFFSETTO:-0500
TZNAME:EST
DTSTART:20251102T060000
END:STANDARD
BEGIN:DAYLIGHT
TZOFFSETFROM:-0500
TZOFFSETTO:-0400
TZNAME:EDT
DTSTART:20260308T070000
END:DAYLIGHT
BEGIN:STANDARD
TZOFFSETFROM:-0400
TZOFFSETTO:-0500
TZNAME:EST
DTSTART:20261101T060000
END:STANDARD
END:VTIMEZONE
BEGIN:VEVENT
DTSTART;TZID=America/New_York:20250723T170000
DTEND;TZID=America/New_York:20250723T210000
DTSTAMP:20260419T234257
CREATED:20250721T150023Z
LAST-MODIFIED:20250721T150023Z
UID:10020005-1753290000-1753304400@gridphilly.com
SUMMARY:Pints for a Purpose: Global Water Alliance Fundraiser at Love City Brewing
DESCRIPTION:Wednesday\, July 23rd\, 5-9 PM\nThe Gardens at Love City Brewing (N. 10th St. & Hamilton St.) \nJoin the Global Water Alliance for a summer evening of fun\, community\, and impact. Drink beer\, play carnival games\, win prizes\, learn about the Science of Water in Beer Brewing… And help us get closer to a world where all people have access to water for life-sustaining needs! \nBid to win a kayak tour with Hidden River Outfitters\, a riverboat tour with Schuylkill Banks\, a kayaking trip with the GWA President\, a Batavus Centennial Limited Edition bike\, and more at the Silent Auction! \nTicket price includes one free Love City beer or mocktail.\nAll ages welcome. Rain date July 30th. \nCome for the beer. Stay for the cause.
URL:https://gridphilly.com/event/pints-for-a-purpose-global-water-alliance-fundraiser-at-love-city-brewing/
LOCATION:Love City Brewing\, 1023 Hamilton St\, Philadelphia\, PA\, 19123\, United States
CATEGORIES:Celebrations & Networking,Community Events,Event,Events,family and kid friendly,Family-friendly,Happy Hour,Outdoor Event,Social,Water,Watershed
ATTACH;FMTTYPE=image/png:https://gridphilly.com/wp-content/uploads/2025/07/Pints-for-a-Purpose-Graphic.png
END:VEVENT
END:VCALENDAR