BEGIN:VCALENDAR
VERSION:2.0
PRODID:-//Grid Magazine - ECPv6.15.20//NONSGML v1.0//EN
CALSCALE:GREGORIAN
METHOD:PUBLISH
X-ORIGINAL-URL:https://gridphilly.com
X-WR-CALDESC:Events for Grid Magazine
REFRESH-INTERVAL;VALUE=DURATION:PT1H
X-Robots-Tag:noindex
X-PUBLISHED-TTL:PT1H
BEGIN:VTIMEZONE
TZID:America/New_York
BEGIN:DAYLIGHT
TZOFFSETFROM:-0500
TZOFFSETTO:-0400
TZNAME:EDT
DTSTART:20230312T070000
END:DAYLIGHT
BEGIN:STANDARD
TZOFFSETFROM:-0400
TZOFFSETTO:-0500
TZNAME:EST
DTSTART:20231105T060000
END:STANDARD
BEGIN:DAYLIGHT
TZOFFSETFROM:-0500
TZOFFSETTO:-0400
TZNAME:EDT
DTSTART:20240310T070000
END:DAYLIGHT
BEGIN:STANDARD
TZOFFSETFROM:-0400
TZOFFSETTO:-0500
TZNAME:EST
DTSTART:20241103T060000
END:STANDARD
BEGIN:DAYLIGHT
TZOFFSETFROM:-0500
TZOFFSETTO:-0400
TZNAME:EDT
DTSTART:20250309T070000
END:DAYLIGHT
BEGIN:STANDARD
TZOFFSETFROM:-0400
TZOFFSETTO:-0500
TZNAME:EST
DTSTART:20251102T060000
END:STANDARD
END:VTIMEZONE
BEGIN:VEVENT
DTSTART;TZID=America/New_York:20241011T170000
DTEND;TZID=America/New_York:20241011T220000
DTSTAMP:20260421T081253
CREATED:20241007T151506Z
LAST-MODIFIED:20241007T151506Z
UID:10014939-1728666000-1728684000@gridphilly.com
SUMMARY:WURD Radio Founder's Day Gala
DESCRIPTION:Get ready! WURD’s annual Founder’s Day Celebration is back and you don’t want to miss the celebration of our founder\, Walter P. Lomax\, Jr.!\n\n\nGet ready! WURD’s annual Founder’s Day Gala is back and you don’t want to miss the celebration of our founder\, Walter P. Lomax\, Jr.\, M.D. It’s all happening Friday\, October 11 at the beautiful Mann Center. In recognition of Dr. Lomax’s powerful career as a physician\, this year we will have a special focus on health and healing as we unveil our Philadelphia Black Doctors Directory. We will feature an intimate conversation with WURD President and CEO\, Sara Lomax and Ala Stanford\, M.D.\, founder of the Black Doctors Consortium and author of Take Care of Them Like My Own. We will also honor our Community Impact Award winners – individuals who are dedicated to healing our communities. \nThis celebration will feature special guests\, food\, live music and we’ll move and groove with a dance party under the stars! Tickets are on sale now\, and current members will receive a special discount. Purchase your tickets while they last. Be there Friday\, October 11\, for this special celebration of our founder. \n***MEMBERSHIP WILL BE VERIFIED! \n***VALET PARKING INCLUDING
URL:https://gridphilly.com/event/wurd-radio-founders-day-gala/
LOCATION:Law\, Prosperity\, and Power\, Georges Hill Drive\, Philadelphia\, PA\, 19131\, United States
ATTACH;FMTTYPE=image/jpeg:https://gridphilly.com/wp-content/uploads/2024/10/f7ce15fde27a7972092e7a4c10597f44.jpg
END:VEVENT
END:VCALENDAR