BEGIN:VCALENDAR
VERSION:2.0
PRODID:-//Grid Magazine - ECPv6.15.20//NONSGML v1.0//EN
CALSCALE:GREGORIAN
METHOD:PUBLISH
X-WR-CALNAME:Grid Magazine
X-ORIGINAL-URL:https://gridphilly.com
X-WR-CALDESC:Events for Grid Magazine
REFRESH-INTERVAL;VALUE=DURATION:PT1H
X-Robots-Tag:noindex
X-PUBLISHED-TTL:PT1H
BEGIN:VTIMEZONE
TZID:America/New_York
BEGIN:DAYLIGHT
TZOFFSETFROM:-0500
TZOFFSETTO:-0400
TZNAME:EDT
DTSTART:20240310T070000
END:DAYLIGHT
BEGIN:STANDARD
TZOFFSETFROM:-0400
TZOFFSETTO:-0500
TZNAME:EST
DTSTART:20241103T060000
END:STANDARD
BEGIN:DAYLIGHT
TZOFFSETFROM:-0500
TZOFFSETTO:-0400
TZNAME:EDT
DTSTART:20250309T070000
END:DAYLIGHT
BEGIN:STANDARD
TZOFFSETFROM:-0400
TZOFFSETTO:-0500
TZNAME:EST
DTSTART:20251102T060000
END:STANDARD
BEGIN:DAYLIGHT
TZOFFSETFROM:-0500
TZOFFSETTO:-0400
TZNAME:EDT
DTSTART:20260308T070000
END:DAYLIGHT
BEGIN:STANDARD
TZOFFSETFROM:-0400
TZOFFSETTO:-0500
TZNAME:EST
DTSTART:20261101T060000
END:STANDARD
END:VTIMEZONE
BEGIN:VEVENT
DTSTART;TZID=America/New_York:20250926T090000
DTEND;TZID=America/New_York:20250926T120000
DTSTAMP:20260424T182623
CREATED:20250822T160617Z
LAST-MODIFIED:20250918T191750Z
UID:10020655-1758877200-1758888000@gridphilly.com
SUMMARY:The Wissahickon in September with Debbie Hoellein\, Jim McClory\, Dave Stehman\, and David Bower
DESCRIPTION:Meeting at W Johnson Street between Wissahickon Avenue and Lincoln Drive\nThere is free parking along W Johnson Street and other nearby neighborhood streets.\nThere will not be bathrooms available along our route.\nJoin Debbie\, Jim\, and Dave as we hike the Wissahickon in September in memory of Gerry Schweiger. Gerry was a beloved trail ambassador who led a popular series of hikes called Trails less Travelled. This approximately 3-3.5 mile hike to the Henry Houston Statue is similar to one he led. On our way to the statue\, we’ll pass through what once was the Houston Ramble and walk over some newer trails Friends of the Wissahickon built last year. Our return will take us through Historic RittenhouseTown and Thomas Mansion. FOW’s favorite historian\, David Bower\, will meet us at points of interest and explain their significance.\nOur route will be rocky in spots with some inclines and descents\, so be prepared. Children 12 years of age and older are welcome when accompanied by an adult\, but please\, no dogs except for service animals.\nDistance: 3.5 miles\nLevel: Difficult (many inclines and declines\, uneven surfaces)\nRegistration is required for all hikes so that participants can be informed of weather or other emergency cancellations.\nUnless otherwise specified\, Trail Ambassador Walks may be on rocky\, rugged trails that may be wet and slippery. Wear sturdy shoes or boots with socks. Walks are cancelled in heavy rain or icy conditions. Service animals are always welcome. For more information contact Marisa Miller at miller@fow.org. Visit www.fow.org for updates.\nRegister below!
URL:https://gridphilly.com/event/the-wissahickon-in-september-with-debbie-hoellein-jim-mcclory-dave-stehman-and-david-bower/
LOCATION:Johnson Street between Wissahickon Avenue and Lincoln Drive\, 499 W Johnson St\, Philadelphia\, PA\, United States
ATTACH;FMTTYPE=image/webp:https://gridphilly.com/wp-content/uploads/2025/08/gerry-schweiger-houston-statue-1-rotated-1-zFNUfS.webp
GEO:40.035381;-75.193126
X-APPLE-STRUCTURED-LOCATION;VALUE=URI;X-ADDRESS=Johnson Street between Wissahickon Avenue and Lincoln Drive 499 W Johnson St Philadelphia PA United States;X-APPLE-RADIUS=500;X-TITLE=499 W Johnson St:geo:-75.193126,40.035381
END:VEVENT
END:VCALENDAR