BEGIN:VCALENDAR
VERSION:2.0
PRODID:-//Grid Magazine - ECPv6.15.20//NONSGML v1.0//EN
CALSCALE:GREGORIAN
METHOD:PUBLISH
X-WR-CALNAME:Grid Magazine
X-ORIGINAL-URL:https://gridphilly.com
X-WR-CALDESC:Events for Grid Magazine
REFRESH-INTERVAL;VALUE=DURATION:PT1H
X-Robots-Tag:noindex
X-PUBLISHED-TTL:PT1H
BEGIN:VTIMEZONE
TZID:America/New_York
BEGIN:DAYLIGHT
TZOFFSETFROM:-0500
TZOFFSETTO:-0400
TZNAME:EDT
DTSTART:20230312T070000
END:DAYLIGHT
BEGIN:STANDARD
TZOFFSETFROM:-0400
TZOFFSETTO:-0500
TZNAME:EST
DTSTART:20231105T060000
END:STANDARD
BEGIN:DAYLIGHT
TZOFFSETFROM:-0500
TZOFFSETTO:-0400
TZNAME:EDT
DTSTART:20240310T070000
END:DAYLIGHT
BEGIN:STANDARD
TZOFFSETFROM:-0400
TZOFFSETTO:-0500
TZNAME:EST
DTSTART:20241103T060000
END:STANDARD
BEGIN:DAYLIGHT
TZOFFSETFROM:-0500
TZOFFSETTO:-0400
TZNAME:EDT
DTSTART:20250309T070000
END:DAYLIGHT
BEGIN:STANDARD
TZOFFSETFROM:-0400
TZOFFSETTO:-0500
TZNAME:EST
DTSTART:20251102T060000
END:STANDARD
END:VTIMEZONE
BEGIN:VEVENT
DTSTART;TZID=America/New_York:20241211T150000
DTEND;TZID=America/New_York:20241211T180000
DTSTAMP:20260420T234938
CREATED:20241206T192354Z
LAST-MODIFIED:20241206T192354Z
UID:10015963-1733929200-1733940000@gridphilly.com
SUMMARY:East Market Holiday Series
DESCRIPTION:Welcome to the East Market Holiday Series! Join us at Jefferson Plaza – East Market for a festive celebration filled with holiday cheer.\n\n\nWelcome to the East Market Holiday Series! Join us at Jefferson Plaza – East Market for a festive celebration filled with holiday cheer. This in-person event is the perfect way to get into the holiday spirit with friends and family. Enjoy live music\, delicious food\, and shopping for unique gifts from local vendors.  \n\nMake your own s’mores\nHot Chocolate  Bar\nHoliday movies \nThemed entertainment\nDon’t miss out on this wonderful opportunity to experience the magic of the holiday season. We can’t wait to see you there!
URL:https://gridphilly.com/event/east-market-holiday-series-2/
LOCATION:Jefferson Plaza – East Market\, 1115 Chestnut Street\, Philadelphia\, PA\, 19107\, United States
ATTACH;FMTTYPE=image/jpeg:https://gridphilly.com/wp-content/uploads/2024/12/896d7db60eae35c1be7b7fda4d6f40ce.jpg
END:VEVENT
BEGIN:VEVENT
DTSTART;TZID=America/New_York:20241204T150000
DTEND;TZID=America/New_York:20241204T180000
DTSTAMP:20260420T234938
CREATED:20241203T180434Z
LAST-MODIFIED:20241203T180434Z
UID:10015938-1733324400-1733335200@gridphilly.com
SUMMARY:East Market Holiday Series
DESCRIPTION:Welcome to the East Market Holiday Series! Join us at Jefferson Plaza – East Market for a festive celebration filled with holiday cheer.\n\n\nWelcome to the East Market Holiday Series! Join us at Jefferson Plaza – East Market for a festive celebration filled with holiday cheer. This in-person event is the perfect way to get into the holiday spirit with friends and family. Enjoy live music\, delicious food\, and shopping for unique gifts from local vendors.  \n\nMake your own s’mores\nHot Chocolate  Bar\nHoliday movies \nThemed entertainment\nDon’t miss out on this wonderful opportunity to experience the magic of the holiday season. We can’t wait to see you there!
URL:https://gridphilly.com/event/east-market-holiday-series/
LOCATION:Jefferson Plaza – East Market\, 1115 Chestnut Street\, Philadelphia\, PA\, 19107\, United States
ATTACH;FMTTYPE=image/jpeg:https://gridphilly.com/wp-content/uploads/2024/12/896d7db60eae35c1be7b7fda4d6f40ce.jpg
END:VEVENT
BEGIN:VEVENT
DTSTART;TZID=America/New_York:20241103T123000
DTEND;TZID=America/New_York:20241103T140000
DTSTAMP:20260420T234938
CREATED:20241007T152207Z
LAST-MODIFIED:20241028T135512Z
UID:10014952-1730637000-1730642400@gridphilly.com
SUMMARY:Mural Arts & East Market Happy Hour
DESCRIPTION:Join us for a happy hour exploring the Cradle mural by Diogo Machado\, featuring art demos\, live music\, Q&A\, and food at Jefferson Plaza!\n\n\nCelebrate one of Center City’s signature murals\, Cradle\, by Lisbon-based artist Diogo Machado. Cradle is an awe-inspiring tile installation that embodies the essence of Philadelphia’s unique character. The mural’s design references Philadelphia’s history of being a city of many firsts\, with nods to centuries of tile-making tradition from the artist’s native country. \nThis happy hour event is dedicated to exploring the story behind this signature project — produced by Mural Arts Philadelphia on behalf of National Real Estate Advisors\, National Real Estate Development\, and Jefferson\, and celebrating public art throughout the East Market. Attendees will enjoy the premiere of two short videos about the mural\, informal Q&A with the project’s curator\, and an opportunity to share thoughts with Diogo Machado about his artistic innovation. This event is part of the larger East Market Art Experience. \nThe event will include live music\, artist demonstrations\, artist Q&As\, and food from Market East’s food truck\, vendors\, and restaurants.
URL:https://gridphilly.com/event/mural-arts-east-market-happy-hour/
LOCATION:Jefferson Plaza – East Market\, 1115 Chestnut Street\, Philadelphia\, PA\, 19107\, United States
ATTACH;FMTTYPE=image/jpeg:https://gridphilly.com/wp-content/uploads/2024/10/9629c73d14be9cefdd26d4c50e5016ef.jpg
END:VEVENT
END:VCALENDAR