BEGIN:VCALENDAR
VERSION:2.0
PRODID:-//Grid Magazine - ECPv6.15.20//NONSGML v1.0//EN
CALSCALE:GREGORIAN
METHOD:PUBLISH
X-WR-CALNAME:Grid Magazine
X-ORIGINAL-URL:https://gridphilly.com
X-WR-CALDESC:Events for Grid Magazine
REFRESH-INTERVAL;VALUE=DURATION:PT1H
X-Robots-Tag:noindex
X-PUBLISHED-TTL:PT1H
BEGIN:VTIMEZONE
TZID:America/New_York
BEGIN:DAYLIGHT
TZOFFSETFROM:-0500
TZOFFSETTO:-0400
TZNAME:EDT
DTSTART:20250309T070000
END:DAYLIGHT
BEGIN:STANDARD
TZOFFSETFROM:-0400
TZOFFSETTO:-0500
TZNAME:EST
DTSTART:20251102T060000
END:STANDARD
BEGIN:DAYLIGHT
TZOFFSETFROM:-0500
TZOFFSETTO:-0400
TZNAME:EDT
DTSTART:20260308T070000
END:DAYLIGHT
BEGIN:STANDARD
TZOFFSETFROM:-0400
TZOFFSETTO:-0500
TZNAME:EST
DTSTART:20261101T060000
END:STANDARD
BEGIN:DAYLIGHT
TZOFFSETFROM:-0500
TZOFFSETTO:-0400
TZNAME:EDT
DTSTART:20270314T070000
END:DAYLIGHT
BEGIN:STANDARD
TZOFFSETFROM:-0400
TZOFFSETTO:-0500
TZNAME:EST
DTSTART:20271107T060000
END:STANDARD
END:VTIMEZONE
BEGIN:VEVENT
DTSTART;TZID=America/New_York:20260501T100000
DTEND;TZID=America/New_York:20260501T170000
DTSTAMP:20260424T223411
CREATED:20260320T125146Z
LAST-MODIFIED:20260320T125146Z
UID:10030357-1777629600-1777654800@gridphilly.com
SUMMARY:Hill-Physick House Annual Spring Plant Sale
DESCRIPTION:PhilaLandmarks and the Hill-Physick House Garden Committee are pleased to announce the annual Spring Plant Sale. This beloved neighborhood event funds the operations of the Hill-Physick House. \nWe will have available hand selected herbs\, house plants\, annuals\, perennials\, and hanging baskets in the Hill-Physick garden on Friday\, May 1st (10AM-5PM) and Saturday\, May 2nd (10AM-4PM).
URL:https://gridphilly.com/event/hill-physick-house-annual-spring-plant-sale/2026-05-01/
LOCATION:Hill-Physick House\, 321 South 4th Street\, Philadelphia\, PA\, 19106\, United States
ATTACH;FMTTYPE=image/jpeg:https://gridphilly.com/wp-content/uploads/2026/03/HPH-plant-sale-2-2.jpg
END:VEVENT
BEGIN:VEVENT
DTSTART;TZID=America/New_York:20260502T100000
DTEND;TZID=America/New_York:20260502T160000
DTSTAMP:20260424T223411
CREATED:20260320T125146Z
LAST-MODIFIED:20260320T125146Z
UID:10030358-1777716000-1777737600@gridphilly.com
SUMMARY:Hill-Physick House Annual Spring Plant Sale
DESCRIPTION:PhilaLandmarks and the Hill-Physick House Garden Committee are pleased to announce the annual Spring Plant Sale. This beloved neighborhood event funds the operations of the Hill-Physick House. \nWe will have available hand selected herbs\, house plants\, annuals\, perennials\, and hanging baskets in the Hill-Physick garden on Friday\, May 1st (10AM-5PM) and Saturday\, May 2nd (10AM-4PM).
URL:https://gridphilly.com/event/hill-physick-house-annual-spring-plant-sale/2026-05-02/
LOCATION:Hill-Physick House\, 321 South 4th Street\, Philadelphia\, PA\, 19106\, United States
ATTACH;FMTTYPE=image/jpeg:https://gridphilly.com/wp-content/uploads/2026/03/HPH-plant-sale-2-2.jpg
END:VEVENT
END:VCALENDAR