BEGIN:VCALENDAR
VERSION:2.0
PRODID:-//Grid Magazine - ECPv6.15.20//NONSGML v1.0//EN
CALSCALE:GREGORIAN
METHOD:PUBLISH
X-ORIGINAL-URL:https://gridphilly.com
X-WR-CALDESC:Events for Grid Magazine
REFRESH-INTERVAL;VALUE=DURATION:PT1H
X-Robots-Tag:noindex
X-PUBLISHED-TTL:PT1H
BEGIN:VTIMEZONE
TZID:America/New_York
BEGIN:DAYLIGHT
TZOFFSETFROM:-0500
TZOFFSETTO:-0400
TZNAME:EDT
DTSTART:20250309T070000
END:DAYLIGHT
BEGIN:STANDARD
TZOFFSETFROM:-0400
TZOFFSETTO:-0500
TZNAME:EST
DTSTART:20251102T060000
END:STANDARD
BEGIN:DAYLIGHT
TZOFFSETFROM:-0500
TZOFFSETTO:-0400
TZNAME:EDT
DTSTART:20260308T070000
END:DAYLIGHT
BEGIN:STANDARD
TZOFFSETFROM:-0400
TZOFFSETTO:-0500
TZNAME:EST
DTSTART:20261101T060000
END:STANDARD
BEGIN:DAYLIGHT
TZOFFSETFROM:-0500
TZOFFSETTO:-0400
TZNAME:EDT
DTSTART:20270314T070000
END:DAYLIGHT
BEGIN:STANDARD
TZOFFSETFROM:-0400
TZOFFSETTO:-0500
TZNAME:EST
DTSTART:20271107T060000
END:STANDARD
END:VTIMEZONE
BEGIN:VEVENT
DTSTART;TZID=America/New_York:20260402T183000
DTEND;TZID=America/New_York:20260402T203000
DTSTAMP:20260419T204634
CREATED:20260326T012639Z
LAST-MODIFIED:20260326T012944Z
UID:10030475-1775154600-1775161800@gridphilly.com
SUMMARY:LO Philly | Community Bouldering Night
DESCRIPTION:Join LO Philly for an indoor community bouldering session. No experience necessary\, and gear will be provided!\n\n\nCome join LO Philly for an indoor bouldering session. Location will be shared with confirmed RSVPs. No experience necessary and gear will be provided. Please ensure that you fill out both waivers prior to the event. \nWe can’t wait to share this special time with you. ¡Nos vemos pronto! 💛 \n📩 Have questions? Email us at philadelphia@latinooutdoors.org. \n\n\n______________________________________________________________________________________________________ \nÚnase a LO Philly en una sesión de boulder bajo techo . Ubicación será compartida después de registrarse. No se requiere experiencia y se proporcionará el equipo. Asegúrese de completar ambos permisos antes del evento. \nEstamos emocionados de compartir este momento contigo. ¡Nos vemos pronto! 💛 \n📩 ¿Tienes preguntas? Escríbenos a philadelphia@latinooutdoors.org.
URL:https://gridphilly.com/event/lo-philly-community-bouldering-night/
LOCATION:Hancock Playground\, 1401 North Hancock Street\, Philadelphia\, PA\, 19122\, United States
ATTACH;FMTTYPE=image/jpeg:https://gridphilly.com/wp-content/uploads/2026/03/d3cef9702df6e38a75ccdbcd4cfefc39.jpg
END:VEVENT
END:VCALENDAR