BEGIN:VCALENDAR
VERSION:2.0
PRODID:-//Grid Magazine - ECPv6.15.20//NONSGML v1.0//EN
CALSCALE:GREGORIAN
METHOD:PUBLISH
X-WR-CALNAME:Grid Magazine
X-ORIGINAL-URL:https://gridphilly.com
X-WR-CALDESC:Events for Grid Magazine
REFRESH-INTERVAL;VALUE=DURATION:PT1H
X-Robots-Tag:noindex
X-PUBLISHED-TTL:PT1H
BEGIN:VTIMEZONE
TZID:America/New_York
BEGIN:DAYLIGHT
TZOFFSETFROM:-0500
TZOFFSETTO:-0400
TZNAME:EDT
DTSTART:20220313T070000
END:DAYLIGHT
BEGIN:STANDARD
TZOFFSETFROM:-0400
TZOFFSETTO:-0500
TZNAME:EST
DTSTART:20221106T060000
END:STANDARD
BEGIN:DAYLIGHT
TZOFFSETFROM:-0500
TZOFFSETTO:-0400
TZNAME:EDT
DTSTART:20230312T070000
END:DAYLIGHT
BEGIN:STANDARD
TZOFFSETFROM:-0400
TZOFFSETTO:-0500
TZNAME:EST
DTSTART:20231105T060000
END:STANDARD
BEGIN:DAYLIGHT
TZOFFSETFROM:-0500
TZOFFSETTO:-0400
TZNAME:EDT
DTSTART:20240310T070000
END:DAYLIGHT
BEGIN:STANDARD
TZOFFSETFROM:-0400
TZOFFSETTO:-0500
TZNAME:EST
DTSTART:20241103T060000
END:STANDARD
BEGIN:DAYLIGHT
TZOFFSETFROM:-0500
TZOFFSETTO:-0400
TZNAME:EDT
DTSTART:20250309T070000
END:DAYLIGHT
BEGIN:STANDARD
TZOFFSETFROM:-0400
TZOFFSETTO:-0500
TZNAME:EST
DTSTART:20251102T060000
END:STANDARD
BEGIN:DAYLIGHT
TZOFFSETFROM:-0500
TZOFFSETTO:-0400
TZNAME:EDT
DTSTART:20260308T070000
END:DAYLIGHT
BEGIN:STANDARD
TZOFFSETFROM:-0400
TZOFFSETTO:-0500
TZNAME:EST
DTSTART:20261101T060000
END:STANDARD
END:VTIMEZONE
BEGIN:VEVENT
DTSTART;TZID=America/New_York:20250927T100000
DTEND;TZID=America/New_York:20250927T120000
DTSTAMP:20260422T042636
CREATED:20250818T134847Z
LAST-MODIFIED:20250818T134847Z
UID:10020423-1758967200-1758974400@gridphilly.com
SUMMARY:Learn to Sketch in Watercolor at Grumblethorpe
DESCRIPTION:If you’ve ever wanted to learn how to sketch in watercolor\, this is a perfect way to get started. Led by local artist Anne Kullaf\, we will paint on the beautiful grounds of Grumblethorpe using watercolor\, focusing on the plants\, gardens\, and architecture of this historic farm.\nALL levels\, including total beginners\, are welcome! All materials are provided\, and there will be demos and lots of individualized attention.\nGroup size is limited so register today!
URL:https://gridphilly.com/event/learn-to-sketch-in-watercolor-at-grumblethorpe/
LOCATION:Grumblethorpe Historic House & Gardens\, 5267 Germantown Avenue\, Philadelphia\, PA\, 19144\, United States
ATTACH;FMTTYPE=image/png:https://gridphilly.com/wp-content/uploads/2025/08/Grumblethorpe-watercolor-square.png
END:VEVENT
BEGIN:VEVENT
DTSTART;TZID=America/New_York:20250419T120000
DTEND;TZID=America/New_York:20250419T160000
DTSTAMP:20260422T042636
CREATED:20250410T174021Z
LAST-MODIFIED:20250410T174449Z
UID:10018359-1745064000-1745078400@gridphilly.com
SUMMARY:Spring Garden Moments at Grumblethorpe Gardens
DESCRIPTION:Join us to watch Grumblethorpe transform into a Wisteria Wonderland\, alongside a variety of tulips and other Spring bulbs. Enjoy Spring Garden Moments and a cup of Wisteria lemonade at Grumblethorpe for the Historic Germantown Stamp Rally Kickoff!
URL:https://gridphilly.com/event/grumblethorpe-spring-plant-sale/
LOCATION:Grumblethorpe Historic House & Gardens\, 5267 Germantown Avenue\, Philadelphia\, PA\, 19144\, United States
ATTACH;FMTTYPE=image/png:https://gridphilly.com/wp-content/uploads/2025/04/Spring-Garden-Moments-at-Grumblethorpe-Gardens-2025.png
END:VEVENT
BEGIN:VEVENT
DTSTART;TZID=America/New_York:20231029T160000
DTEND;TZID=America/New_York:20231029T180000
DTSTAMP:20260422T042636
CREATED:20231027T152111Z
LAST-MODIFIED:20231027T224916Z
UID:10008002-1698595200-1698602400@gridphilly.com
SUMMARY:Grumblethorpe Halloween
DESCRIPTION:Halloween crafts and candy hunt at Grumblethorpe!\n\n\nBring the kids to Grumblethorpe for Halloween!\n \n \nGrumblethorpe Youth Volunteers will host a spooky garden and candy hunt with pumpkin painting\, crafts and games from 4-6pm on Sunday\, October 29th.\n \n \n$5 suggested donation per kid. Free entry available\, no questions asked. Don’t be shy and come on by! Costumes encouraged.
URL:https://gridphilly.com/event/grumblethorpe-halloween/
LOCATION:Grumblethorpe Historic House & Gardens\, 5267 Germantown Avenue\, Philadelphia\, PA\, 19144\, United States
ATTACH;FMTTYPE=image/jpeg:https://gridphilly.com/wp-content/uploads/2023/10/273682bea9699e9958903581d4640f0c.jpg
END:VEVENT
END:VCALENDAR