BEGIN:VCALENDAR
VERSION:2.0
PRODID:-//Grid Magazine - ECPv6.15.20//NONSGML v1.0//EN
CALSCALE:GREGORIAN
METHOD:PUBLISH
X-ORIGINAL-URL:https://gridphilly.com
X-WR-CALDESC:Events for Grid Magazine
REFRESH-INTERVAL;VALUE=DURATION:PT1H
X-Robots-Tag:noindex
X-PUBLISHED-TTL:PT1H
BEGIN:VTIMEZONE
TZID:America/New_York
BEGIN:DAYLIGHT
TZOFFSETFROM:-0500
TZOFFSETTO:-0400
TZNAME:EDT
DTSTART:20230312T070000
END:DAYLIGHT
BEGIN:STANDARD
TZOFFSETFROM:-0400
TZOFFSETTO:-0500
TZNAME:EST
DTSTART:20231105T060000
END:STANDARD
BEGIN:DAYLIGHT
TZOFFSETFROM:-0500
TZOFFSETTO:-0400
TZNAME:EDT
DTSTART:20240310T070000
END:DAYLIGHT
BEGIN:STANDARD
TZOFFSETFROM:-0400
TZOFFSETTO:-0500
TZNAME:EST
DTSTART:20241103T060000
END:STANDARD
BEGIN:DAYLIGHT
TZOFFSETFROM:-0500
TZOFFSETTO:-0400
TZNAME:EDT
DTSTART:20250309T070000
END:DAYLIGHT
BEGIN:STANDARD
TZOFFSETFROM:-0400
TZOFFSETTO:-0500
TZNAME:EST
DTSTART:20251102T060000
END:STANDARD
BEGIN:DAYLIGHT
TZOFFSETFROM:-0500
TZOFFSETTO:-0400
TZNAME:EDT
DTSTART:20260308T070000
END:DAYLIGHT
BEGIN:STANDARD
TZOFFSETFROM:-0400
TZOFFSETTO:-0500
TZNAME:EST
DTSTART:20261101T060000
END:STANDARD
END:VTIMEZONE
BEGIN:VEVENT
DTSTART;TZID=America/New_York:20250329T090000
DTEND;TZID=America/New_York:20250329T120000
DTSTAMP:20260422T121321
CREATED:20250324T171303Z
LAST-MODIFIED:20250324T173647Z
UID:10017825-1743238800-1743249600@gridphilly.com
SUMMARY:Green Lane Nature Trail - Truman Reforestation (Bristol Township\, Pa) 2025
DESCRIPTION:Excel Events coordinates reforestation of 20 acres of Bucks County land across from Truman High School\, Ben Franklin middle school 2024-2025\n\n\nExcel Events is coordinating the reforestation of over 20 acres of Bucks County land across from Truman High School\, Ben Franklin middle school\, and Green Lynne along Mill Creek Rd in Bristol Township\, PA. \n \n2025 Volunteer Dates\nTree Tending\, Invasive Removal and Watering\n\nSaturday 3-29-25 (9am – 12 noon)\nSaturday 4-19-25 (9am – 12 noon)\nSaturday 6-21-25 (9am – 12 noon)\nSaturday 7-12-25 (9am – 12 noon)\nSaturday 8-9-25 (9am – 12 noon)\n\n \nTree Planting Dates:\n\nSaturday 5-3-25 (9 am – 1pm)\nSunday 5-4-25 (9 am – 1 pm) \nSaturday 10-25-25 (9 am – 1pm)\nSunday 10-26-25 (9 am – 1 pm)\n\n \nProject History:\nSpring 2024 – \n\n130 Trees and Shrubs funded by Excel Events planted along a new nature trail with Sewa.\n1000 Trees and Shrubs from Seedlings for Schools planted by students from Ben Franklin middle school and Truman High School. (The nursery suggested planting the bareroot trees within 2 weeks. We were still planting the 1000 trees for months and many trees did not make it. Ben Franklin middle school stepped in and planted the majority of the trees when they had time after testing.)\n\nFall 2024 – \n\nWe planted 67 Trees from a Healing the planet grant from Keep PA Beautiful / Giant Grocery stores. This $3000 grant paid for larger trees\, metal caging \, and Plastic black mesh.\nWe will be replanting a variety of 100 trees and 75 shrubs provided through our partnership with Keystone10 million Trees in the field this fall because many of the white spruce did not survive. (due to drought conditions and white grubs)\n\n\n\nLearn more about this project on excelevents.org
URL:https://gridphilly.com/event/green-lane-nature-trail-truman-reforestation-bristol-township-pa-2025/
LOCATION:Green Lane & Mill Creek Road\, Green Ln & Mill Creek Rd\, Levittown\, PA\, 19057\, United States
ATTACH;FMTTYPE=image/jpeg:https://gridphilly.com/wp-content/uploads/2024/03/de6849ebe39f4a0d1f9d3149c3bed49e.jpg
END:VEVENT
BEGIN:VEVENT
DTSTART;TZID=America/New_York:20240323T090000
DTEND;TZID=America/New_York:20240323T120000
DTSTAMP:20260422T121321
CREATED:20240307T205950Z
LAST-MODIFIED:20240307T205950Z
UID:10011843-1711184400-1711195200@gridphilly.com
SUMMARY:Truman Reforestation - Green Lane Nature Trail  (Bristol Township\, Pa) 2024
DESCRIPTION:Excel Events coordinates reforestation of 20 acres of Bucks County land across from Truman High School\, Ben Franklin middle school. (2024)\n\n\nExcel Events is coordinating the reforestation of over 20 acres of Bucks County land across from Truman High School\, Ben Franklin middle school\, and Green Lynne along Mill Creek Rd in Bristol Township\, PA. \n \nVolunteer Dates\nSite Preparation: \n\n2-24-24  9 am-12 noon\n3-23-24  9 am-12 noon\n3-30-24  9 am-12 noon\n\nPlanting: (100 trees) \n\nSaturday 4-13-24  (9 am – 12 noon) and (1pm – 4pm) \nSunday    4-14-24  (9 am – 12 noon) and (1pm – 4pm) \nSaturday 4-20-24  (9 am – 12 noon) and (1pm – 4pm) \n\nLearn more about this project on excelevents.org
URL:https://gridphilly.com/event/truman-reforestation-green-lane-nature-trail-bristol-township-pa-2024/
LOCATION:Green Lane & Mill Creek Road\, Green Ln & Mill Creek Rd\, Levittown\, PA\, 19057\, United States
ATTACH;FMTTYPE=image/jpeg:https://gridphilly.com/wp-content/uploads/2024/03/de6849ebe39f4a0d1f9d3149c3bed49e.jpg
END:VEVENT
END:VCALENDAR