BEGIN:VCALENDAR
VERSION:2.0
PRODID:-//Grid Magazine - ECPv6.15.20//NONSGML v1.0//EN
CALSCALE:GREGORIAN
METHOD:PUBLISH
X-ORIGINAL-URL:https://gridphilly.com
X-WR-CALDESC:Events for Grid Magazine
REFRESH-INTERVAL;VALUE=DURATION:PT1H
X-Robots-Tag:noindex
X-PUBLISHED-TTL:PT1H
BEGIN:VTIMEZONE
TZID:America/New_York
BEGIN:DAYLIGHT
TZOFFSETFROM:-0500
TZOFFSETTO:-0400
TZNAME:EDT
DTSTART:20220313T070000
END:DAYLIGHT
BEGIN:STANDARD
TZOFFSETFROM:-0400
TZOFFSETTO:-0500
TZNAME:EST
DTSTART:20221106T060000
END:STANDARD
BEGIN:DAYLIGHT
TZOFFSETFROM:-0500
TZOFFSETTO:-0400
TZNAME:EDT
DTSTART:20230312T070000
END:DAYLIGHT
BEGIN:STANDARD
TZOFFSETFROM:-0400
TZOFFSETTO:-0500
TZNAME:EST
DTSTART:20231105T060000
END:STANDARD
BEGIN:DAYLIGHT
TZOFFSETFROM:-0500
TZOFFSETTO:-0400
TZNAME:EDT
DTSTART:20240310T070000
END:DAYLIGHT
BEGIN:STANDARD
TZOFFSETFROM:-0400
TZOFFSETTO:-0500
TZNAME:EST
DTSTART:20241103T060000
END:STANDARD
BEGIN:DAYLIGHT
TZOFFSETFROM:-0500
TZOFFSETTO:-0400
TZNAME:EDT
DTSTART:20250309T070000
END:DAYLIGHT
BEGIN:STANDARD
TZOFFSETFROM:-0400
TZOFFSETTO:-0500
TZNAME:EST
DTSTART:20251102T060000
END:STANDARD
END:VTIMEZONE
BEGIN:VEVENT
DTSTART;TZID=America/New_York:20241102T150000
DTEND;TZID=America/New_York:20241102T160000
DTSTAMP:20260421T125316
CREATED:20241028T135145Z
LAST-MODIFIED:20241028T135145Z
UID:10015367-1730559600-1730563200@gridphilly.com
SUMMARY:Mural Dedication! The Struggle for Absolute Equality
DESCRIPTION:A mural with a NEW story to tell… Juneteenth was just the beginning…\n\n\nRain Date: Sunday\, November 3rd\, 2024 \n \nThere’s Levels to This Story…\n…layers and history\, both lived and revealed\, that depict the “long walk to freedom” for millions of people throughout this country. As part of the 2023 multi-city ‘Absolute Equality’ Mural Project\, the Germantown ArtHaus introduced Philadelphia’s 1st Juneteenth mural to Germantown.  Founder and Lead Artist\, Keisha Whatley shared the story behind each of the three levels of the mural that depict: \n\nPre-Colonial West Africa\,\nThe Trans-Atlantic slave trade\, and\nJuneteenth\n\nBut there’s another level; another layer to this story… \nUnfortunately in 1865 when Union General Gordon Granger relayed the decree that “The people of Texas are informed that in accordance with a Proclamation from the Executive of the United States\, all slaves are free. This involves an absolute equality of rights and rights of property between former masters and slaves\, and the connection heretofore existing between them becomes that between employer and hired laborer.”…those committed to the economy\, power and position of slavery didn’t get the memo so a new era began. \n \nThe Struggle for Absolute Equality…\n\n\n\nThe TRANSFORMING TRAGEDY Community Mural Project\nSince May of 2021\, four courageous Community Artists have grappled with a creative challenge that sought to visually display the juxtaposition between the loss\, rage and despair of this struggle for equality and the undying hope for a future of equality\, peace and joy: \nCreate a piece of artwork (painted\, 3-D relief\, etc.) that honors the life of a victim of police brutality or gun violence AND points to a future where we need not create a mural like this ever again. \n\n\n\nJoin us at The Germantown ArtHaus for a one-of-a-kind Mural Dedication; one of grit\, persistence\, pain\, triumph\, protests\, loss and hope. Set against a backdrop of history\, each artists’ work sounds the horn of hope and possibility that only art can. \nEnjoy each artist’s installation including their 7 foot tall works of art\, installation decor and an interactive experience that will ignite your senses and spark your imagination: \n\nVictoria Holmes: @vic_toriaholmes “Positive Pockets”\nKeshida Layone: @keshida.layone “His Presence”\nPaige Lewis: @PinkTinyAngryMighty “Flowers of Remembrance”\nKathryn Pannepacker: @kpannepacker “Someone’s Someone”\n\nDon’t miss out on this opportunity to immerse yourself in creativity and community! \n\n\n\n\n\nCheck our website’s calendar to stay in the know about upcoming events!
URL:https://gridphilly.com/event/mural-dedication-the-struggle-for-absolute-equality/
LOCATION:Germantown ArtHaus\, 6228 Germantown Avenue\, Philadelphia\, PA\, 19144\, United States
END:VEVENT
BEGIN:VEVENT
DTSTART;TZID=America/New_York:20231014T120000
DTEND;TZID=America/New_York:20231014T140000
DTSTAMP:20260421T125316
CREATED:20231002T180119Z
LAST-MODIFIED:20231002T185209Z
UID:10007247-1697284800-1697292000@gridphilly.com
SUMMARY:Mural Dedication  | The Philly Selfie Project + We Will Write the World
DESCRIPTION:Join Germantown ArtHaus & Mural Arts Philadelphia for a fun-filled\, family-friendly mural dedication!\n\n\nYouth + Literacy + Art = A Celebration!\n \nMural Arts  joins its partners Germantown ArtHaus\, Read by 4th\, and Mt.\nAiry CDC to dedicate another mural in the We Will Write the World series\nas part of Reading Promise Week and Mural Arts Month.  \nWe Will Write\n the World promotes early-childhood literacy through public art pieces\nacross Philadelphia.  \nThe Philly Youth Selfie Project + Mural Arts \nThis mural brings together a project by Germantown\nArtHaus Founder & artist\, Keisha Whatley\, to showcase over 200 self-portraits\n created by children and adults from across the city with artwork\n about Reading Promises by Khalid Dennis. \nThroughout the mural\, viewers are prompted to think\n of their own stories and characters that emerge from looking at the mural.\n \nThe dedication will feature: \n\nfun family-friendly activities\, \ncoloring stations\,\n\nface-painting\, and \ngreat music!\n\n\nOn Saturday\,\nOctober 14 \, 2023\n celebrate with the Germantown community from 12 – 2 pm\n at The Germantown ArtHaus: 6228 Germantown Ave\,\nPhiladelpia\, PA 19144. \n\nHave questions? Contact Phoebe Bachman\n\, Project Manager\n at Phoebe.Bachman@muralarts.org\n  \nTHIS PROJECT IS\nFUNDED BY: We Will Write the World is funded by the WIlliam\n Penn Foundation as part of a city wide initiative to promote literacy\nthrough playful learning. The Philly Youth Selfie Project is partially sponsored\n by Jumpstart Germantown and supported by community members throughout the city of Philadelphia. \n \n\n\n\nThe Mural’s Story\nWhatley said that one of the first projects the nonprofit embarked on was a project focused on youth empowerment. “It only made sense\,” she shared\,”to focus on our most precious commodity… the future… and hope.” The Philly Youth Selfie Project started in 2021 soon after the building was acquired. Over 225 young people from all across the city have created beautiful self portraits that literally light up the neighborhood! \nWhen Mural Arts Philadelphia launched their We Will Write the World Literacy-Rich Neighborhood initiative\, it was a “real no-brainer” to collaborate and bring these two empowering ideas to life! In collaboration with artist Khalid Dennis\, also known as BKLVisions\, they worked tirelessly to bring the visions together seamlessly!  \n\n\n\nABOUT\n\nMural Arts Philadelphia Mural Arts Philadelphia is the nation’s largest public art program\, dedicated to the belief that art ignites change. For over 35 years\, Mural Arts has united artists and communities through a collaborative process\, rooted in the traditions of mural-making\, to create art that transforms public spaces and individual lives. Learn more about Mural Arts Philadelphia\n\n\nGermantown ArtHaus The mission of Germantown ArtHaus is to encourage and nurture creativity and personal growth through the promotion of high-quality community arts\, wellness\, education\, and professional-development programming. The ArtHaus\, located at 6228 Germantown Avenue\, Philadelphia\, will be a collegial place where artists can create\, exhibit\, and sell their work. A vibrant hub for the community\, the ArtHaus will also be a safe place for our children to experience the boundless opportunities for freedom of expression the arts make possible. www.gtownarthaus.com.Keisha “I Make Everything Beautiful” Whatley\, a Philadelphia-based fine artist & designer\, has been the Creative Director of Custom Arts Studio since 2014. www.gtownarthaus.com
URL:https://gridphilly.com/event/mural-dedication-the-philly-selfie-project-we-will-write-the-world/
LOCATION:Germantown ArtHaus\, 6228 Germantown Avenue\, Philadelphia\, PA\, 19144\, United States
END:VEVENT
END:VCALENDAR