BEGIN:VCALENDAR
VERSION:2.0
PRODID:-//Grid Magazine - ECPv6.15.20//NONSGML v1.0//EN
CALSCALE:GREGORIAN
METHOD:PUBLISH
X-WR-CALNAME:Grid Magazine
X-ORIGINAL-URL:https://gridphilly.com
X-WR-CALDESC:Events for Grid Magazine
REFRESH-INTERVAL;VALUE=DURATION:PT1H
X-Robots-Tag:noindex
X-PUBLISHED-TTL:PT1H
BEGIN:VTIMEZONE
TZID:America/New_York
BEGIN:DAYLIGHT
TZOFFSETFROM:-0500
TZOFFSETTO:-0400
TZNAME:EDT
DTSTART:20240310T070000
END:DAYLIGHT
BEGIN:STANDARD
TZOFFSETFROM:-0400
TZOFFSETTO:-0500
TZNAME:EST
DTSTART:20241103T060000
END:STANDARD
BEGIN:DAYLIGHT
TZOFFSETFROM:-0500
TZOFFSETTO:-0400
TZNAME:EDT
DTSTART:20250309T070000
END:DAYLIGHT
BEGIN:STANDARD
TZOFFSETFROM:-0400
TZOFFSETTO:-0500
TZNAME:EST
DTSTART:20251102T060000
END:STANDARD
BEGIN:DAYLIGHT
TZOFFSETFROM:-0500
TZOFFSETTO:-0400
TZNAME:EDT
DTSTART:20260308T070000
END:DAYLIGHT
BEGIN:STANDARD
TZOFFSETFROM:-0400
TZOFFSETTO:-0500
TZNAME:EST
DTSTART:20261101T060000
END:STANDARD
END:VTIMEZONE
BEGIN:VEVENT
DTSTART;TZID=America/New_York:20251107T100000
DTEND;TZID=America/New_York:20251107T113000
DTSTAMP:20260420T004521
CREATED:20251027T140455Z
LAST-MODIFIED:20251027T140455Z
UID:10023744-1762509600-1762515000@gridphilly.com
SUMMARY:First Friday Frolic – waitlisted
DESCRIPTION:This event is full. Please join our waitlist for a chance to attend.   \nTake a hike with Natural Lands. Together\, we’ll get to know other outdoor-loving friends during one of the best seasons at the preserve. Whether you’re a seasoned hiker or a beginner\, the trails offer a mix of challenges and rewards for all levels.  \nWe’ll make a few stops along the way to point out preserve highlights and the land management strategies we use to enhance wildlife habitat and facilitate public use.  \nAt the end\, bring out your hammers as we visit the diabase “ringing rocks\,” locally called “the potato patch\,” which make a metallic sound when struck.  \nFulshaw Craeg Preserve is located within the Schuylkill Highlands Conservation Landscape\, a place-based partnership administered by Natural Lands and funded in part by a grant from the Community Conservation Partnerships Program under the administration of the Pennsylvania Department of Conservation and Natural Resources\, Bureau of Recreation and Conservation. 
URL:https://gridphilly.com/event/first-friday-frolic-waitlisted/
LOCATION:Fulshaw Craeg Preserve\, 124 King Road\, Green Lane\, Pennsylvania\, 18054
CATEGORIES:general
ATTACH;FMTTYPE=image/jpeg:https://gridphilly.com/wp-content/uploads/2025/10/IMG_8006-e1752246782588-Lc2ovg.jpg
END:VEVENT
END:VCALENDAR