BEGIN:VCALENDAR
VERSION:2.0
PRODID:-//Grid Magazine - ECPv6.15.20//NONSGML v1.0//EN
CALSCALE:GREGORIAN
METHOD:PUBLISH
X-ORIGINAL-URL:https://gridphilly.com
X-WR-CALDESC:Events for Grid Magazine
REFRESH-INTERVAL;VALUE=DURATION:PT1H
X-Robots-Tag:noindex
X-PUBLISHED-TTL:PT1H
BEGIN:VTIMEZONE
TZID:America/New_York
BEGIN:DAYLIGHT
TZOFFSETFROM:-0500
TZOFFSETTO:-0400
TZNAME:EDT
DTSTART:20230312T070000
END:DAYLIGHT
BEGIN:STANDARD
TZOFFSETFROM:-0400
TZOFFSETTO:-0500
TZNAME:EST
DTSTART:20231105T060000
END:STANDARD
BEGIN:DAYLIGHT
TZOFFSETFROM:-0500
TZOFFSETTO:-0400
TZNAME:EDT
DTSTART:20240310T070000
END:DAYLIGHT
BEGIN:STANDARD
TZOFFSETFROM:-0400
TZOFFSETTO:-0500
TZNAME:EST
DTSTART:20241103T060000
END:STANDARD
BEGIN:DAYLIGHT
TZOFFSETFROM:-0500
TZOFFSETTO:-0400
TZNAME:EDT
DTSTART:20250309T070000
END:DAYLIGHT
BEGIN:STANDARD
TZOFFSETFROM:-0400
TZOFFSETTO:-0500
TZNAME:EST
DTSTART:20251102T060000
END:STANDARD
BEGIN:DAYLIGHT
TZOFFSETFROM:-0500
TZOFFSETTO:-0400
TZNAME:EDT
DTSTART:20260308T070000
END:DAYLIGHT
BEGIN:STANDARD
TZOFFSETFROM:-0400
TZOFFSETTO:-0500
TZNAME:EST
DTSTART:20261101T060000
END:STANDARD
BEGIN:DAYLIGHT
TZOFFSETFROM:-0500
TZOFFSETTO:-0400
TZNAME:EDT
DTSTART:20270314T070000
END:DAYLIGHT
BEGIN:STANDARD
TZOFFSETFROM:-0400
TZOFFSETTO:-0500
TZNAME:EST
DTSTART:20271107T060000
END:STANDARD
END:VTIMEZONE
BEGIN:VEVENT
DTSTART;TZID=America/New_York:20260419T150000
DTEND;TZID=America/New_York:20260419T163000
DTSTAMP:20260421T053735
CREATED:20260325T214209Z
LAST-MODIFIED:20260325T214209Z
UID:10030367-1776610800-1776616200@gridphilly.com
SUMMARY:Koresh Dance Company presents "Never/Mind"\, April 17-19
DESCRIPTION:Koresh Dance Company proudly presents its 2026 Spring Home Season at FringeArts\, April 17–19. \nThis program features the world premiere of Never/Mind\, a new work choreographed by Artistic Director Roni Koresh with an original score by Sage DeAgro-Ruopp. \nNever/Mind is a state of mind in which your creativity is reached free from external opinions\, expectations\, and distractions. In this unfiltered mental space\, the artist cannot be swayed—focused solely on instinct\, individuality\, and authentic expression. Through Koresh’s signature physicality and DeAgro-Ruopp’s evocative composition\, the work invites audiences to consider what becomes possible when we silence the noise and trust our own voice. \nLighting Designer / Peter Jakubowski \nRehearsal Director / Melissa Rector \n// PERFORMANCES \ \nFriday\, April 17 / 7:30pm *\nSaturday\, April 18 / 7:30pm *\nSunday\, April 19 / 3pm\n*Post-show conversation with the artists
URL:https://gridphilly.com/event/koresh-dance-company-presents-never-mind-april-17-19/2026-04-19/
LOCATION:FringeArts\, 140 N Christopher Columbus Blvd\, Philadelphia\, PA\, 19106\, United States
CATEGORIES:Arts & Performance
ATTACH;FMTTYPE=image/png:https://gridphilly.com/wp-content/uploads/2026/03/NeverMind-Postcard-2026-Koresh-Home-Season-1-1.png
ORGANIZER;CN="Koresh Dance Company":MAILTO:pr@koreshdance.org
END:VEVENT
BEGIN:VEVENT
DTSTART;TZID=America/New_York:20260418T193000
DTEND;TZID=America/New_York:20260418T210000
DTSTAMP:20260421T053735
CREATED:20260325T214209Z
LAST-MODIFIED:20260325T214209Z
UID:10030366-1776540600-1776546000@gridphilly.com
SUMMARY:Koresh Dance Company presents "Never/Mind"\, April 17-19
DESCRIPTION:Koresh Dance Company proudly presents its 2026 Spring Home Season at FringeArts\, April 17–19. \nThis program features the world premiere of Never/Mind\, a new work choreographed by Artistic Director Roni Koresh with an original score by Sage DeAgro-Ruopp. \nNever/Mind is a state of mind in which your creativity is reached free from external opinions\, expectations\, and distractions. In this unfiltered mental space\, the artist cannot be swayed—focused solely on instinct\, individuality\, and authentic expression. Through Koresh’s signature physicality and DeAgro-Ruopp’s evocative composition\, the work invites audiences to consider what becomes possible when we silence the noise and trust our own voice. \nLighting Designer / Peter Jakubowski \nRehearsal Director / Melissa Rector \n// PERFORMANCES \ \nFriday\, April 17 / 7:30pm *\nSaturday\, April 18 / 7:30pm *\nSunday\, April 19 / 3pm\n*Post-show conversation with the artists
URL:https://gridphilly.com/event/koresh-dance-company-presents-never-mind-april-17-19/2026-04-18/
LOCATION:FringeArts\, 140 N Christopher Columbus Blvd\, Philadelphia\, PA\, 19106\, United States
CATEGORIES:Arts & Performance
ATTACH;FMTTYPE=image/png:https://gridphilly.com/wp-content/uploads/2026/03/NeverMind-Postcard-2026-Koresh-Home-Season-1-1.png
ORGANIZER;CN="Koresh Dance Company":MAILTO:pr@koreshdance.org
END:VEVENT
BEGIN:VEVENT
DTSTART;TZID=America/New_York:20260417T193000
DTEND;TZID=America/New_York:20260417T210000
DTSTAMP:20260421T053735
CREATED:20260325T214209Z
LAST-MODIFIED:20260325T214209Z
UID:10030365-1776454200-1776459600@gridphilly.com
SUMMARY:Koresh Dance Company presents "Never/Mind"\, April 17-19
DESCRIPTION:Koresh Dance Company proudly presents its 2026 Spring Home Season at FringeArts\, April 17–19. \nThis program features the world premiere of Never/Mind\, a new work choreographed by Artistic Director Roni Koresh with an original score by Sage DeAgro-Ruopp. \nNever/Mind is a state of mind in which your creativity is reached free from external opinions\, expectations\, and distractions. In this unfiltered mental space\, the artist cannot be swayed—focused solely on instinct\, individuality\, and authentic expression. Through Koresh’s signature physicality and DeAgro-Ruopp’s evocative composition\, the work invites audiences to consider what becomes possible when we silence the noise and trust our own voice. \nLighting Designer / Peter Jakubowski \nRehearsal Director / Melissa Rector \n// PERFORMANCES \ \nFriday\, April 17 / 7:30pm *\nSaturday\, April 18 / 7:30pm *\nSunday\, April 19 / 3pm\n*Post-show conversation with the artists
URL:https://gridphilly.com/event/koresh-dance-company-presents-never-mind-april-17-19/2026-04-17/
LOCATION:FringeArts\, 140 N Christopher Columbus Blvd\, Philadelphia\, PA\, 19106\, United States
CATEGORIES:Arts & Performance
ATTACH;FMTTYPE=image/png:https://gridphilly.com/wp-content/uploads/2026/03/NeverMind-Postcard-2026-Koresh-Home-Season-1-1.png
ORGANIZER;CN="Koresh Dance Company":MAILTO:pr@koreshdance.org
END:VEVENT
BEGIN:VEVENT
DTSTART;TZID=America/New_York:20251220T200000
DTEND;TZID=America/New_York:20251220T220000
DTSTAMP:20260421T053735
CREATED:20251028T183716Z
LAST-MODIFIED:20251028T183716Z
UID:10021525-1766260800-1766268000@gridphilly.com
SUMMARY:Contemporary West Dance Theatre Philadelphia’s “A COOL YULE HOLIDAY SPECTACULAR!!
DESCRIPTION:Let your heart soar as Contemporary West Dance Theatre heralds in the holidays with our annual performance of “A Cool Yule!” Christmas Spectacular! Gather your family and friends to celebrate the season with a mix of timeless classics\, audience sing-alongs and the thrilling sounds of popular Christmas songs. The evening promises surprises and warm cheer for all!
URL:https://gridphilly.com/event/contemporary-west-dance-theatre-philadelphias-a-cool-yule-holiday-spectacular/2025-12-20/
LOCATION:FringeArts\, 140 N Christopher Columbus Blvd\, Philadelphia\, PA\, 19106\, United States
CATEGORIES:Arts & Culture,Arts & Performance,Community Events,Concert,Family,family and kid friendly,Family Fun
ATTACH;FMTTYPE=image/jpeg:https://gridphilly.com/wp-content/uploads/2025/09/Philly-11X17-Poster-JPEG.jpeg
END:VEVENT
BEGIN:VEVENT
DTSTART;TZID=America/New_York:20251219T200000
DTEND;TZID=America/New_York:20251219T220000
DTSTAMP:20260421T053735
CREATED:20251028T183716Z
LAST-MODIFIED:20251028T183716Z
UID:10021524-1766174400-1766181600@gridphilly.com
SUMMARY:Contemporary West Dance Theatre Philadelphia’s “A COOL YULE HOLIDAY SPECTACULAR!!
DESCRIPTION:Let your heart soar as Contemporary West Dance Theatre heralds in the holidays with our annual performance of “A Cool Yule!” Christmas Spectacular! Gather your family and friends to celebrate the season with a mix of timeless classics\, audience sing-alongs and the thrilling sounds of popular Christmas songs. The evening promises surprises and warm cheer for all!
URL:https://gridphilly.com/event/contemporary-west-dance-theatre-philadelphias-a-cool-yule-holiday-spectacular/2025-12-19/
LOCATION:FringeArts\, 140 N Christopher Columbus Blvd\, Philadelphia\, PA\, 19106\, United States
CATEGORIES:Arts & Culture,Arts & Performance,Community Events,Concert,Family,family and kid friendly,Family Fun
ATTACH;FMTTYPE=image/jpeg:https://gridphilly.com/wp-content/uploads/2025/09/Philly-11X17-Poster-JPEG.jpeg
END:VEVENT
BEGIN:VEVENT
DTSTART;TZID=America/New_York:20250806T190000
DTEND;TZID=America/New_York:20250806T203000
DTSTAMP:20260421T053735
CREATED:20250627T194751Z
LAST-MODIFIED:20250627T194751Z
UID:10019631-1754506800-1754512200@gridphilly.com
SUMMARY:WHHYYY??? An Evening of Sing-along & Overdue Processing
DESCRIPTION:WHHYYY??? An Evening of Sing-along & Overdue Processing \nPresented by The Bearded Ladies Cabaret in association with FringeArts \nDirected by Eric Jaffe \nJoin the Bearded Ladies for a series of sing-along shows promoting healing\, resistAHHHHnce\, and coming together through the power of—oh fuck it\, we just want to sing. Set your escapism and denial to music with rousing group renditions of songs that have nothing to do with fascism led by The Bearded Ladies Cabaret\, whose work has been hailed by Fox News as “government waste.” Sing-along or scream on pitch or just scream! \nBy the time this 75-minute show is over\, you will have survived another 75 minutes. \nHosted by Sam Rise (additional hosts to be announced!) \nTICKETS\n$0-40 Pay What You Can | $50 Table Seats \nWednesday\, August 6\, 2025 at 7:00 PM \nat FringeArts (140 N Columbus Blvd\, Philadelphia\, PA 19106) \nContent Transparency: This event is not oriented towards children however\, they are welcome to join! Expect PG-13 content (suggestive and/or strong language\, themes of political anxiety and existential dread). Singing-along will be optional but plentiful.
URL:https://gridphilly.com/event/whhyyy-an-evening-of-sing-along-overdue-processing/
LOCATION:FringeArts\, 140 N Christopher Columbus Blvd\, Philadelphia\, PA\, 19106\, United States
ATTACH;FMTTYPE=image/png:https://gridphilly.com/wp-content/uploads/2025/06/Singalong-Series-H2.0.png
ORGANIZER;CN="The Bearded Ladies Cabaret":MAILTO:beardedladiescabaret@gmail.com
END:VEVENT
BEGIN:VEVENT
DTSTART;TZID=America/New_York:20250709T190000
DTEND;TZID=America/New_York:20250709T203000
DTSTAMP:20260421T053735
CREATED:20250627T194941Z
LAST-MODIFIED:20250627T194941Z
UID:10019613-1752087600-1752093000@gridphilly.com
SUMMARY:UGH!!! An Evening of Sing-along & Never Ending AHHHS
DESCRIPTION:UGH!!! An Evening of Sing-along & Never Ending AHHHS \nPresented by The Bearded Ladies Cabaret in association with FringeArts \nDirected by Eric Jaffe \nJoin the Bearded Ladies for a series of sing-along shows promoting healing\, resistAHHHHnce\, and coming together through the power of—oh fuck it\, we just want to sing. Set your escapism and denial to music with rousing group renditions of songs that have nothing to do with fascism led by The Bearded Ladies Cabaret\, whose work has been hailed by Fox News as “government waste.” Sing-along or scream on pitch or just scream! \nBy the time this 75-minute show is over\, you will have survived another 75 minutes. \nHosted by Jess Conda & Cookie Diorio \nTICKETS\n$0-40 Pay What You Can | $50 Table Seats \nWednesday\, July 9\, 2025 at 7:00 PM \nat FringeArts (140 N Columbus Blvd\, Philadelphia\, PA 19106) \nContent Transparency: This event is not oriented towards children however\, they are welcome to join! Expect PG-13 content (suggestive and/or strong language\, themes of political anxiety and existential dread). Singing-along will be optional but plentiful.
URL:https://gridphilly.com/event/ugh-an-evening-of-sing-along-never-ending-ahhhs/
LOCATION:FringeArts\, 140 N Christopher Columbus Blvd\, Philadelphia\, PA\, 19106\, United States
ATTACH;FMTTYPE=image/png:https://gridphilly.com/wp-content/uploads/2025/06/Singalong-Series-H.png
ORGANIZER;CN="The Bearded Ladies Cabaret":MAILTO:beardedladiescabaret@gmail.com
END:VEVENT
BEGIN:VEVENT
DTSTART;TZID=America/New_York:20250316T150000
DTEND;TZID=America/New_York:20250316T170000
DTSTAMP:20260421T053735
CREATED:20250212T182657Z
LAST-MODIFIED:20250212T182657Z
UID:10016998-1742137200-1742144400@gridphilly.com
SUMMARY:Darkness Dancing to Pieces
DESCRIPTION:Koresh Dance Company is proud to present its highly anticipated 2025 Spring Home Season at FringeArts\, running March 14-16. This season features the world premiere of Darkness Dancing into Pieces\, a powerful new work choreographed by Artistic Director Roni Koresh with original music by Sage DeAgro-Ruopp. \nFriday\, March 14 | 8pm *\nFriday\, March 15 | 8:00pm *\nSaturday\, March 16 | 3:00pm\n* Post-performance Q&A with the artists \nIn a time when darkness threatens to overwhelm\, Darkness Dancing to Pieces offers a compelling response—movement as an act of defiance\, resilience\, and healing.\nWhen darkness takes over\, we have to fight back. Through movement and music we can express\, defy\, and heal. This work is dedicated to all who are experiencing the absence of light. Together we will rise again\, and we will dance the darkness to pieces. \nKnown for its raw\, athletic\, and emotionally charged performances\, Koresh Dance Company continues to push the boundaries of contemporary dance. This season’s premiere promises to be a profound exploration of struggle and hope\, set to an evocative original score by DeAgro-Ruopp. \nTickets and additional information are available at koreshdance.org/home-season
URL:https://gridphilly.com/event/darkness-dancing-to-pieces/2025-03-16/
LOCATION:FringeArts\, 140 N Christopher Columbus Blvd\, Philadelphia\, PA\, 19106\, United States
CATEGORIES:Arts & Performance
ATTACH;FMTTYPE=image/png:https://gridphilly.com/wp-content/uploads/2025/02/Darkness-Dancing-to-Pieces-Main-im-1080x1080-1.png
ORGANIZER;CN="Koresh Dance Company":MAILTO:pr@koreshdance.org
END:VEVENT
BEGIN:VEVENT
DTSTART;TZID=America/New_York:20250315T080000
DTEND;TZID=America/New_York:20250315T170000
DTSTAMP:20260421T053735
CREATED:20250212T182657Z
LAST-MODIFIED:20250212T182657Z
UID:10017073-1742025600-1742058000@gridphilly.com
SUMMARY:Darkness Dancing to Pieces
DESCRIPTION:Koresh Dance Company is proud to present its highly anticipated 2025 Spring Home Season at FringeArts\, running March 14-16. This season features the world premiere of Darkness Dancing into Pieces\, a powerful new work choreographed by Artistic Director Roni Koresh with original music by Sage DeAgro-Ruopp. \nFriday\, March 14 | 8pm *\nFriday\, March 15 | 8:00pm *\nSaturday\, March 16 | 3:00pm\n* Post-performance Q&A with the artists \nIn a time when darkness threatens to overwhelm\, Darkness Dancing to Pieces offers a compelling response—movement as an act of defiance\, resilience\, and healing.\nWhen darkness takes over\, we have to fight back. Through movement and music we can express\, defy\, and heal. This work is dedicated to all who are experiencing the absence of light. Together we will rise again\, and we will dance the darkness to pieces. \nKnown for its raw\, athletic\, and emotionally charged performances\, Koresh Dance Company continues to push the boundaries of contemporary dance. This season’s premiere promises to be a profound exploration of struggle and hope\, set to an evocative original score by DeAgro-Ruopp. \nTickets and additional information are available at koreshdance.org/home-season
URL:https://gridphilly.com/event/darkness-dancing-to-pieces/2025-03-15/
LOCATION:FringeArts\, 140 N Christopher Columbus Blvd\, Philadelphia\, PA\, 19106\, United States
CATEGORIES:Arts & Performance
ATTACH;FMTTYPE=image/png:https://gridphilly.com/wp-content/uploads/2025/02/Darkness-Dancing-to-Pieces-Main-im-1080x1080-1.png
ORGANIZER;CN="Koresh Dance Company":MAILTO:pr@koreshdance.org
END:VEVENT
BEGIN:VEVENT
DTSTART;TZID=America/New_York:20250314T200000
DTEND;TZID=America/New_York:20250314T200000
DTSTAMP:20260421T053735
CREATED:20250212T182657Z
LAST-MODIFIED:20250212T182657Z
UID:10016996-1741982400-1741982400@gridphilly.com
SUMMARY:Darkness Dancing to Pieces
DESCRIPTION:Koresh Dance Company is proud to present its highly anticipated 2025 Spring Home Season at FringeArts\, running March 14-16. This season features the world premiere of Darkness Dancing into Pieces\, a powerful new work choreographed by Artistic Director Roni Koresh with original music by Sage DeAgro-Ruopp. \nFriday\, March 14 | 8pm *\nFriday\, March 15 | 8:00pm *\nSaturday\, March 16 | 3:00pm\n* Post-performance Q&A with the artists \nIn a time when darkness threatens to overwhelm\, Darkness Dancing to Pieces offers a compelling response—movement as an act of defiance\, resilience\, and healing.\nWhen darkness takes over\, we have to fight back. Through movement and music we can express\, defy\, and heal. This work is dedicated to all who are experiencing the absence of light. Together we will rise again\, and we will dance the darkness to pieces. \nKnown for its raw\, athletic\, and emotionally charged performances\, Koresh Dance Company continues to push the boundaries of contemporary dance. This season’s premiere promises to be a profound exploration of struggle and hope\, set to an evocative original score by DeAgro-Ruopp. \nTickets and additional information are available at koreshdance.org/home-season
URL:https://gridphilly.com/event/darkness-dancing-to-pieces/2025-03-14/
LOCATION:FringeArts\, 140 N Christopher Columbus Blvd\, Philadelphia\, PA\, 19106\, United States
CATEGORIES:Arts & Performance
ATTACH;FMTTYPE=image/png:https://gridphilly.com/wp-content/uploads/2025/02/Darkness-Dancing-to-Pieces-Main-im-1080x1080-1.png
ORGANIZER;CN="Koresh Dance Company":MAILTO:pr@koreshdance.org
END:VEVENT
BEGIN:VEVENT
DTSTART;TZID=America/New_York:20240330T203000
DTEND;TZID=America/New_York:20240330T220000
DTSTAMP:20260421T053735
CREATED:20240307T175445Z
LAST-MODIFIED:20240307T175445Z
UID:10011808-1711830600-1711836000@gridphilly.com
SUMMARY:A Benefit Cabaret To Save Philadelphia From Climate Change
DESCRIPTION:Sure\, we’ve all heard about climate change\, but with a little music and a little money we can save our city from what everyone is calling “the existential threat of our time!” Join Betty Smithsonian\, John Jarboe\, Jess Conda\, Cookie Diorio\, and Sam Rise March 30 at 8:30p at Fringearts for the most important benefit concert you’ll ever buy a ticket to. Part of the Miniball Festival. \nWelcoming all overwhelmed but concerned cabaret lovers for a sparkly intro to direct action taught by comedians\, clowns\, and drag queens.
URL:https://gridphilly.com/event/a-benefit-cabaret-to-save-philadelphia-from-climate-change/
LOCATION:FringeArts\, 140 N Christopher Columbus Blvd\, Philadelphia\, PA\, 19106\, United States
CATEGORIES:Arts & Culture,Arts & Performance,Community Events,Eligible for SW/ACCESS Discount,Event,Special Event
ATTACH;FMTTYPE=image/png:https://gridphilly.com/wp-content/uploads/2024/03/Poster-ABenefitCabaretToSavePhiladelphiaFromClimateChange.png
ORGANIZER;CN="Physicians for Social Responsibility PA":MAILTO:linnea@psrpa.org
END:VEVENT
END:VCALENDAR